Workbook

Sheet Rozpis zápasů 26-27
A1: Rozpis zápasů BC Benešov 2026/2027
A2: Přehled termínů podle družstev • sezóna 2026/2027
A3: MĚSÍC | B3: DATUM | C3: Muži "A" | D3: Muži "B" | E3: Ženy "A" | F3: Ženy "B" | G3: Ženy "C" | H3: junioři U19 | I3: kadeti U17 | J3: kadetky U17 | K3: kadetky U17 "B" | L3: žáci U15 | M3: žákyně U15 | N3: žákyně U15 "B" | O3: žáci U14 | P3: žákyně U14 | Q3: žákyně U14 "B" | R3: minižáci U13 | S3: minižáci U12 | T3: minižáci U11 | U3: minižáci U10 | V3: minižákyně U13 | W3: minižákyně U12 | X3: minižákyně U11 | Y3: minižákyně U10 | Z3: mix U10
C4: SBLM | D4: KP | E4: II. Liga | F4: SBLŽ | G4: SBLŽ | H4: NRL | I4: nadreg. liga | J4: celostátní liga | K4: nadreg. liga | L4: žákovská liga | M4: žákovská liga | N4: nadreg. Liga | O4: žákovská liga | P4: žákovská liga | Q4: nadreg. liga | R4: KP + kval. o NF | S4: KP + kval. o NF | T4: KP + kval. o NF | U4: KP | V4: KP + kval. o NF | W4: KP + kval. o NF | X4: KP + kval. o NF | Y4: KP | Z4: Šmoulinka
B5: So 5. 9.
B6: Ne 6. 9.
B7: Čt 10. 9. | V7: Sokol Nusle 006
B8: So 12. 9. | R8: BN-Pardubice-Nymburk | T8: Slavoj Český Brod 2x 004, 049
B9: Ne 13. 9. | O9: BK Kladno 091 | V9: Sokol Nehvizdy 011
B10: So 19. 9. | C10: BK Český Brod 004 | E10: BK Lvice Litoměřice 006 | G10: BK Příbram 2000 004 | I10: BC Kolín A 17116 | J10: Sojky Pelhřimov 064 | K10: BK Klatovy 17534 | O10: BK Brandýs 096 | P10: Vlčice Žďár 122 | Q10: Basket Říčany 002 | S10: BA Nymburk 2x 004,040
B11: Ne 20. 9. | C11: BC Kolín 009 | E11: BA Roudnice 009 | F11: BK Příbram 2000 007 | I11: BC Kolín B 17123 | J11: Vlčice Žďár 06 | K11: BK Strakonice B 17540 | O11: Jižní Supi 099 | P11: BK Blansko 124 | V11: BC Slaný 030 | W11: ŠBK Sadská 2x 004,032
B12: So 26. 9. | D12: BK Příbram 2000 "B" 001 | H12: BK Medvědi Tábor 19226 | L12: Tigers České Budějovice 007 | M12: USK Praha 006 | N12: Bižu Jablonecko B 032 | R12: BK Český Brod 002 | T12: BA Nymburk 2x 004,052 | V12: TJ AŠ Mladá Boleslav 014 | X12: Basket Poděbrady 2x 003, 024
B13: Ne 27. 9. | H13: BK Medvědi Tábor 19254 | L13: BK Medvědi Tábor 011 | M13: BK Levhartice Chomutov 10 | N13: AŠ Mladá Boleslav 026 | R13: NBK Milovice 004 | V13: BK Brandýs 019
A14: říjen | B14: So 3. 10. | C14: BK Brandýs n.L. "B" 013 | E14: BA Louny 014 | F14: BC Kolín "B" 008 | G14: BK Sojky Pelhřimov 009 | I14: Basket Poděbrady B 17124 | J14: HB Basket Praha B 072 | K14: PORG Basket 17548 | O14: Slavia Tygři Praha B 102 | P14: Žabiny Brno 127 | Q14: Slovan Varnsdorf 006 | S14: BK Brandýs 2x 005,041 | U14: BC Benešov Ž 2x 001,021 | W14: BC Kolín 2x 005,033 | Y14: BC Benešov M 2x 01,021
B15: Ne 4. 10. | C15: AŠ Mladá Boleslav 018 | E15: Sokol Kladno 018 | F15: BK Sojky Pelhřimov 014 | G15: BC Kolín "B" 012 | I15: AŠ Mladá Boleslav 17131 | J15: TJ AŠ Mladá Boleslav 075 | K15: Sokol Nusle B 17553 | O15: Slavia Tygři Praha 104 | P15: Žabiny Brno B 130
B16: So 10. 10. | D16: AŠ Mladá Boleslav "B" 010 | H16: Radotínský SK 19231 | L16: Jižní Supi 015 | M16: Tigers České Budějovice 016 | N16: Sokol Pečky 043 | R16: Basket Poděbrady 008 | T16: BK Brandýs 2x 015,060 | X16: BC Slaný 2x 005,026
B17: Ne 11. 10. | D17: BK Mělník 013 | H17: BK Příbram 2000 19235 | L17: TJ Sokol Kbely 020 | M17: BK Strakonice 020 | N17: Basketbal Újezd nad Lesy 048 | R17: BA Nymburk 011
B18: So 17. 10. | C18: Sokol Nové Strašecí 028 | E18: DBaK 022 | F18: BK Brandýs "B" 017 | G18: Slavoj Český Brod 018 | I18: Jižní Supi B 17140 | J18: Studánka Pardubice 078 | K18: BCM Sokolov 17556 | O18: BA Radotín 085 | P18: Studánka Pardubice 131 | Q18: Basket Slovanka B 011 | S18: TJ AŠ Mladá Boleslav 2x 011, 047 | U18: BK Mělník 2x 002,022 | W18: BC Slaný 2x 012,040 | Y18: TJ AŚ Mladá Boleslav 2x 004,024
B19: Ne 18. 10. | C19: BK Kladno "B" 033 | E19: Lokomotiva Karlovy Vary 025 | F19: Slavoj Český Brod 020 | G19: BK Brandýs "B" 021 | I19: Sokol Žižkov B 17146 | J19: Sokol Nusle 082 | K19: BC Slaný 17562 | O19: BA Radotín 106 | Q19: Tygři Praha B 015
B20: St 21. 10.
B21: So 24. 10. | D21: BK Sadská 016 | H21: BK Sojky Pelhřimov C 19239 | L21: BK Lokomotiva Plzeň 021 | M21: SKB Rokycany 024 | N21: BK Příbram 2000 049 | T21: Pandy Čelákovice 2x 016, 061 | V21: Sokol Kladno 040 | X21: BK Brandýs nad Labem 2x 008,027
B22: Ne 25. 10. | D22: TJ Sokol Nehvizdy 020 | H22: TJ Třebíč 19244 | L22: Slavi Tygři Praha 025 | M22: DBaK 027 | R22: BK Mělník 016 | V22: HB Basket 045
B23: So 31. 10.
A24: listopad | B24: Ne 1. 11.
B25: So 7. 11. | E25: Sokol Nusle B 004 | F25: BC Slaný 025 | G25: BK Kralupy Junior 026 | I25: Slovan Varnsdorf B 17150 | J25: Tigers České Budějovice 058 | K25: BK Teplice 17572 | O25: BK Kladno 109 | P25: BK Blansko | Q25: Kralupy Junior 016 | S25: BK Beroun 2x 014, 050 | U25: BC Slaný 2x 006,26 | W25: Sokol Nusle 2x 014,042
B26: Ne 8. 11. | E26: Sokol Nusle B 032 | F26: BK Kralupy Junior 029 | G26: BC Slaný 028 | I26: BA Lynx Liberecko B 17157 | J26: Tigers České Budějovice 086 | K26: Válečnice Děčín B 17578 | P26: Vlčice Žďár 139 | Q26: BA Roudnice 019
B27: So 14. 11. | D27: Slavoj Český Brod "B" 022 | H27: BK Lions Jindřichův Hradec 19245 | L27: BA Radotín 002 | M27: HB Basket Praha 001 | N27: Basket Říčany 061 | R27: Basketbal Újezd nad Lesy 021 | T27: BC Kolín 2x 025,070 | V27: BC Kolín 052 | X27: ŠBK Sadská 2x 012,033
B28: Ne 15. 11. | D28: Sokol Kutná Hora 026 | H28: Tigers České Budějovice 19249 | L28: BA Radotín 030 | M28: HB Basket Praha 029 | N28: Sokol Nusle 065 | V28: ŠBK Sadská 058
B29: Út 17. 11.
B30: So 21. 11. | C30: BK Příbram 2000 051 | E30: BA Roudnice 033 | F30: BC Benešov "C" 030 | G30: BC Benešov "B" 030 | I30: BA Radotín 17162 | J30: Vlčice Žďár 092 | K30: Basketbal Újezd nad Lesy 17582 | O30: Jižní Supi 111 | P30: Žabiny Brno B 142 | Q30: Basket Říčany 023 | S30: TJ Sokol Nehvizdy 2x 018,054 | W30: BK Kralupy Junior 2x 019, 047 | Y30: BK Mělník 2x 008,028
B31: Ne 22. 11. | C31: BK Beroun 056 | E31: BK Lvice Litoměřice 038 | I31: Basketbal Újezd nad Lesy 17168 | J31: Sojky Pelhřimov 096 | K31: BC Wizards 17587 | O31: BK Brandýs 120 | P31: Žabiny Brno 144 | V31: BK Kralupy Junior 036
B32: So 28. 11. | C32: BC Real Réma Nymbuk 058
B33: Ne 29. 11. | C33: Basket Poděbrady "B" 063
A34: prosinec | B34: So 5. 12. | D34: TJ TZ Rakovník 031 | H34: BK Příbram 2000 19259 | L34: BK Medvědi Tábor 035 | M34: Levhartice Chomutov 034 | N34: BC Wizard 068 | R34: NBK Milovice 022 | T34: Basketbal Újezd nad Lesy 2x 027, 072 | V34: BK Pelhřimov 064 | X34: TJ AŠ Mladá Boleslav 2x 013, 034
B35: Ne 6. 12. | H35: Radotínský SK 19263 | L35: Tigers České Budějovice 039 | M35: USK Praha 038 | N35: BK Brandýs B 073 | R35: BK Český Brod 025 | V35: BK Pelhřimov 070
B36: So 12. 12. | C36: ŠSK Slaný 071 | E36: Sokol Kladno 042 | F36: BK Příbram 2000 039 | I36: Sokol Pečky 17175 | J36: TJ AŠ Mladá Boleslav 099 | K36: Radotínský SK 17592 | O36: Slavia Tygři Praha 122 | S36: BC Kolín 2x 023,059 | U36: TJ AŠ Mladá Boleslav 2x 010,030 | W36: BK Brandýs 2x 023,051 | Y36: BC Slaný 2x 009,029
B37: Ne 13. 12. | C37: BK Kralupy Junior 076 | E37: BA Louny 045 | G37: BK Příbram 2000 043 | I37: Sokol Pečky 17181 | J37: HB Basket Praha B 104 | K37: Radotínský SK 17598 | O37: Slavia Tygři Praha B 126 | P37: Studánka Pardubice 148 | Q37: Slovan Varnsdorf 029
B38: So 19. 12.
B39: Ne 20. 12.
A40: leden | B40: So 2. 1.
B41: Ne 3. 1.
B42: So 9. 1. | H42: TJ Třebíč 19268 | L42: TJ Sokol Kbely 044 | M42: BK Strakonice 044 | N42: AŠ Mladá Boleslav 076 | T42: BN-Brandýs-Nymburk 001-003 | V42: ŠBK Sadská kval. 002 | X42: BK Brandýs nad Labem kval. 001
B43: Ne 10. 1. | D43: BK Příbram 2000 "B" 040 | H43: BK Sojky Pelhřimov C 19271 | L43: Jižní Supi 047 | M43: Tigers České Budějovice 048 | N43: Bižu Jablonecko B 081 | R43: Basket Poděbrady 032 | V43: BK Brandýs kval. 004 | X43: BC Slaný kval. 003
B44: So 16. 1. | C44: BC Kolín 082 | E44: Lokomotiva Karlovy Vary 049 | F44: BK Sojky Pelhřimov 045 | G44: BC Kolín "B" 046 | I44: BC Kolín B 17188 | J44: Sokol Nusle 106 | K44: BK Strakonice B 17605 | O44: F1, S1 | P44: F1, S1 | Q44: Tygři Praha B 033 | S44: Nymburk-BN-Brandýs 001-003 | U44: BC Benešov Ž 2x 011,031 | Y44: BC Benešov M 2x 011,031
B45: Ne 17. 1. | C45: BK Český Brod 087 | E45: DBaK 054 | F45: BC Kolín "B" 048 | G45: BK Sojky Pelhřimov 049 | I45: BC Kolín A 17194 | J45: Studánka Pardubice 110 | K45: BK Klatovy 17612 | O45: F1, S1 | P45: F1, S1 | Q45: Basket Slovanka B 035 | W45: ŠBK Sadská kval. 002
B46: St 20. 1. | P46: FD, SD
B47: So 23. 1. | D47: BK Mělník 046 | H47: Tigers České Budějovice 19273 | L47: Slavi Tygři Praha 049 | M47: DBaK 051 | N47: Basketbal Újezd nad Lesy 088 | R47: BK Mělník 033 | T47: Nymburk-Brandýs-BN 004-006 | V47: Sokol Nehvizdy 078 | X47: ŠBK Sadská kval. 005
B48: Ne 24. 1. | D48: AŠ Mladá Boleslav "B" 049 | H48: BK Lions Jindřichův Hradec 19277 | L48: BK Lokomotiva Plzeň 053 | M48: SKB Rokycany 056 | N48: Sokol Pečky 092 | V48: Sokol Nusle 084 | X48: ŠBK Sadská kval. 007
B49: St 27. 1. | O49: FD, SD
B50: So 30. 1.
B51: Ne 31. 1.
A52: únor | B52: So 6. 2. | C52: AŠ Mladá Boleslav 091 | F52: Slavoj Český Brod 053 | G52: BK Brandýs B 052 | I52: AŠ Mladá Boleslav 17196 | J52: F1, S1 | K52: Sokol Nusle B 17620 | O52: F2, S2 | P52: F2, S2 | Q52: BA Roudnice 038 | S52: TJ Sokol Smíchov 2x 025,061 | U52: BK Mělník 2x 013, 033 | W52: Sokol Kladno 2x 026,64 | Y52: TJ AŠ Mladá Boleslav 2x 014,034
B53: Ne 7. 2. | C53: BK Brandýs n.L. "B" 096 | F53: BK Brandýs B 056 | G53: Slavoj Český Brod 057 | I53: Basket Poděbrady B 17202 | J53: F1, S1 | K53: Porg Basket 17626 | O53: F2, S2 | P53: F2, S2 | Q53: Kralupy Junior 040
B54: So 13. 2. | D54: TJ Sokol Nehvizdy 051 | L54: F1, S1 | M54: F1, S1 | R54: Basketbal Újezd nad Lesy 041 | T54: TJ AŠ Mladá Boleslav 2x 034,079 | V54: BK Brandýs 086
B55: Ne 14. 2. | D55: BK Sadská 055 | L55: F1, S1 | M55: F1, S1 | N55: BK Příbram 2000 098 | V55: TJ AŠ Mladá Boleslav 092
B56: So 20. 2. | C56: Sokol Nové Strašecí 106 | F56: BK Kralupy Junior 060 | G56: BC Slaný 061 | I56: Sokol Žižkov B 17213 | J56: F2, S2 | K56: BC Slaný 17627 | O56: F3, S3 | P56: F3, S3 | S56: BK Mělník 2x 032,068 | U56: BC Slaný 2x 016,036 | W56: Sokol Nusle 2x 058, 086
B57: Ne 21. 2. | C57: BK Kladno "B" 111 | F57: BC Slaný 065 | G57: BK Kralupy Junior 064 | I57: Jižní Supi B 17218 | J57: F2, S2 | K57: BCM Sokolov 17634 | O57: F3, S3 | P57: F3, S3
B58: So 27. 2. | M58: F2, S2 | N58: Sokol Nusle B 105 | V58: BK Kralupy Junior 101 | X58: BK Příbram 2000 2x 019,040
B59: Ne 28. 2. | M59: F2, S2 | N59: Basket Říčany 110 | V59: BC Slaný 108
A60: březen | B60: So 6. 3. | D60: Sokol Kutná Hora 059 | J60: F3, S3 | L60: F2, S2 | R60: BK Český Brod 043 | T60: NBK Milovice 2x 034,083 | V60: BC Slaný kval. 005 | Y60: BK Mělník 2x 018,038
B61: Ne 7. 3. | D61: Slavoj Český Brod "B" 062 | J61: F3, S3 | L61: F2, S2 | R61: NBK Milovice 045 | V61: BC Slaný kval. 007
B62: So 13. 3. | C62: BK Beroun 129 | I62: BA Lynx Liberecko B 17223 | K62: Válečnice Děčín B 17644 | O62: F1´, S1 | P62: F1´, S1´ | S62: Brandýs-Nymburk-BN 004-006 | W62: ŠBK Sadská kval. 003
B63: Ne 14. 3. | C63: BK Příbram 2000 134 | F63: BC Benešov "C" 069 | G63: BC Benešov "B" 069 | I63: TJ Slovan Varnsdorf B 17228 | K63: BK Teplice 17650 | O63: F1´, S1 | P63: F1´, S1 | W63: BC Slaný kval. 004
B64: St 17. 3. | P64: FD´, SD´
B65: So 20. 3. | L65: F3, S3 | M65: F3, S3 | N65: BK Brandýs 113 | R65: Basket Poděbrady 049 | T65: Brandýs-BN-Nymburk 007-009 | V65: BK Brandýs kval. 009 | X65: BC Slaný kval. 010
B66: Ne 21. 3. | D66: TJ TZ Rakovník 072 | L66: F3, S3 | M66: F3, S3 | N66: BC Wizard 117 | V66: ŠBK Sadská kval. 012 | X66: BK Brandýs nad Labem kval. 011
B67: St 24. 3. | O67: FD´,SD´
B68: So 27. 3.
B69: Ne 28. 3.
A70: duben | B70: So 3. 4. | C70: Basket Poděbrady "B" 136 | F70: ČF | G70: ČF | I70: Basketbal Újezd nad Lesy 17235 | J70: F4, S4 | K70: BC Wizards 17654 | O70: F2´, S2´ | P70: F2´, S2´ | S70: BN-Brandýs-Nymburk 007-009 | U70: TJ AŠ Mladá Boleslav 2x 020,040 | W70: BC Slaný kval. 005 | Y70: BC Slaný 2x 019,039
B71: Ne 4. 4. | C71: BC Real Réma Nymbuk 141 | F71: ČF | G71: ČF | I71: BA Radotín 17240 | J71: F4, S4 | K71: Basketbal Újezd nad Lesy 17660 | O71: F2´, S2´ | P71: F2´, S2´
B72: So 10. 4. | D72: ČF | L72: F4, S4 | M72: F4. S4 | T72: TJ Sokol Pečky 2x 043, 088 | V72: HB Basket 111 | X72: 1-4,5-7
B73: Ne 11. 4. | D73: ČF | L73: F4, S4 | M73: F4. S4 | R73: BK Mělník 056 | V73: Sokol Kladno 118
B74: So 17. 4. | C74: BK Kralupy Junior 150 | E74: SF | F74: F4 | G74: F4 | J74: F5, S5 | O74: F3´, S3´ | P74: F3´, S3´ | U74: 1-3,4-5 | W74: 1-2,3-4,5-6,7-8 | Y74: 1-3,4-5
B75: Ne 18. 4. | C75: ŠSK Slaný 154 | E75: SF | F75: F4 | G75: F4 | J75: F5, S5 | O75: F3´, S3´ | P75: F3´, S3´
B76: So 24. 4. | C76: ČF | D76: F4 | R76: Basketbal Újezd nad Lesy 061 | V76: ŠBK Sadská 123
B77: Ne 25. 4. | C77: ČF | D77: F4 | V77: BC Kolín 130
A78: květen | B78: So 1. 5. | C78: F4 | E78: F | J78: F6, S6
B79: Ne 2. 5. | C79: F4 | E79: F | J79: F6, S6
B80: So 8. 5.
B81: Ne 9. 5.
B82: So 15. 5.
B83: Ne 16. 5.
B84: So 22. 5.
B85: Ne 23. 5.
B86: So 29. 5.
B87: Ne 30. 5.
A88: červen | B88: So 5. 6.
B89: Ne 6. 6.
B90: So 12. 6.
B91: Ne 13. 6.
B92: =domácí zápasy
A94: LEGENDA | C94: Dospělí | H94: Starší mládež | L94: Žactvo | S94: Minibasketbal
A96: Šedé a žluté zvýraznění bylo zachováno z původního rozpisu. Podrobnosti, časy, místa a poznámky lze doplňovat v listu Seznam zápasů.

Sheet Seznam zápasů
A1: SEZNAM VŠECH ZÁPASŮ • BC BENEŠOV 2026/2027 | M1: Družstva
A2: Filtrujte podle data, družstva, soutěže nebo stavu. Pole Čas, Místo a Poznámka jsou připravena k doplnění. | M2: Muži "A"
M3: Muži "B"
A4: Datum | B4: Den | C4: Družstvo | D4: Soutěž | E4: Soupeř / fáze | F4: Číslo utkání | G4: Čas | H4: Místo | I4: Poznámka | J4: Stav | M4: Ženy "A"
A5: 46275 | B5: Čt | C5: minižákyně U13 | D5: KP + kval. o NF | E5: Sokol Nusle | F5: 006 | J5: =IF(A5<TODAY(),"Odehráno",IF(A5=TODAY(),"Dnes","Nadcházející")) -> Nadcházející | M5: Ženy "B"
A6: 46277 | B6: So | C6: minižáci U11 | D6: KP + kval. o NF | E6: Slavoj Český Brod | F6: 2x 004, 049 | J6: =IF(A6<TODAY(),"Odehráno",IF(A6=TODAY(),"Dnes","Nadcházející")) -> Nadcházející | M6: Ženy "C"
A7: 46277 | B7: So | C7: minižáci U13 | D7: KP + kval. o NF | E7: BN-Pardubice-Nymburk | J7: =IF(A7<TODAY(),"Odehráno",IF(A7=TODAY(),"Dnes","Nadcházející")) -> Nadcházející | M7: junioři U19
A8: 46278 | B8: Ne | C8: minižákyně U13 | D8: KP + kval. o NF | E8: Sokol Nehvizdy | F8: 011 | J8: =IF(A8<TODAY(),"Odehráno",IF(A8=TODAY(),"Dnes","Nadcházející")) -> Nadcházející | M8: kadeti U17
A9: 46278 | B9: Ne | C9: žáci U14 | D9: žákovská liga | E9: BK Kladno | F9: 091 | J9: =IF(A9<TODAY(),"Odehráno",IF(A9=TODAY(),"Dnes","Nadcházející")) -> Nadcházející | M9: kadetky U17
A10: 46284 | B10: So | C10: kadeti U17 | D10: nadreg. liga | E10: BC Kolín A | F10: 17116 | J10: =IF(A10<TODAY(),"Odehráno",IF(A10=TODAY(),"Dnes","Nadcházející")) -> Nadcházející | M10: kadetky U17 "B"
A11: 46284 | B11: So | C11: kadetky U17 | D11: celostátní liga | E11: Sojky Pelhřimov | F11: 064 | J11: =IF(A11<TODAY(),"Odehráno",IF(A11=TODAY(),"Dnes","Nadcházející")) -> Nadcházející | M11: žáci U15
A12: 46284 | B12: So | C12: kadetky U17 "B" | D12: nadreg. liga | E12: BK Klatovy | F12: 17534 | J12: =IF(A12<TODAY(),"Odehráno",IF(A12=TODAY(),"Dnes","Nadcházející")) -> Nadcházející | M12: žákyně U15
A13: 46284 | B13: So | C13: minižáci U12 | D13: KP + kval. o NF | E13: BA Nymburk | F13: 2x 004,040 | J13: =IF(A13<TODAY(),"Odehráno",IF(A13=TODAY(),"Dnes","Nadcházející")) -> Nadcházející | M13: žákyně U15 "B"
A14: 46284 | B14: So | C14: Muži "A" | D14: SBLM | E14: BK Český Brod | F14: 004 | J14: =IF(A14<TODAY(),"Odehráno",IF(A14=TODAY(),"Dnes","Nadcházející")) -> Nadcházející | M14: žáci U14
A15: 46284 | B15: So | C15: žáci U14 | D15: žákovská liga | E15: BK Brandýs | F15: 096 | J15: =IF(A15<TODAY(),"Odehráno",IF(A15=TODAY(),"Dnes","Nadcházející")) -> Nadcházející | M15: žákyně U14
A16: 46284 | B16: So | C16: žákyně U14 | D16: žákovská liga | E16: Vlčice Žďár | F16: 122 | J16: =IF(A16<TODAY(),"Odehráno",IF(A16=TODAY(),"Dnes","Nadcházející")) -> Nadcházející | M16: žákyně U14 "B"
A17: 46284 | B17: So | C17: žákyně U14 "B" | D17: nadreg. liga | E17: Basket Říčany | F17: 002 | J17: =IF(A17<TODAY(),"Odehráno",IF(A17=TODAY(),"Dnes","Nadcházející")) -> Nadcházející | M17: minižáci U13
A18: 46284 | B18: So | C18: Ženy "A" | D18: II. Liga | E18: BK Lvice Litoměřice | F18: 006 | J18: =IF(A18<TODAY(),"Odehráno",IF(A18=TODAY(),"Dnes","Nadcházející")) -> Nadcházející | M18: minižáci U12
A19: 46284 | B19: So | C19: Ženy "C" | D19: SBLŽ | E19: BK Příbram 2000 | F19: 004 | J19: =IF(A19<TODAY(),"Odehráno",IF(A19=TODAY(),"Dnes","Nadcházející")) -> Nadcházející | M19: minižáci U11
... A25: 46285 | B25: Ne | C25: Muži "A" | D25: SBLM | E25: BC Kolín | F25: 009 | J25: =IF(A25<TODAY(),"Odehráno",IF(A25=TODAY(),"Dnes","Nadcházející")) -> Nadcházející | M25: mix U10
A26: 46285 | B26: Ne | C26: žáci U14 | D26: žákovská liga | E26: Jižní Supi | F26: 099 | J26: =IF(A26<TODAY(),"Odehráno",IF(A26=TODAY(),"Dnes","Nadcházející")) -> Nadcházející
A27: 46285 | B27: Ne | C27: žákyně U14 | D27: žákovská liga | E27: BK Blansko | F27: 124 | J27: =IF(A27<TODAY(),"Odehráno",IF(A27=TODAY(),"Dnes","Nadcházející")) -> Nadcházející
A28: 46285 | B28: Ne | C28: Ženy "A" | D28: II. Liga | E28: BA Roudnice | F28: 009 | J28: =IF(A28<TODAY(),"Odehráno",IF(A28=TODAY(),"Dnes","Nadcházející")) -> Nadcházející
A29: 46285 | B29: Ne | C29: Ženy "B" | D29: SBLŽ | E29: BK Příbram 2000 | F29: 007 | J29: =IF(A29<TODAY(),"Odehráno",IF(A29=TODAY(),"Dnes","Nadcházející")) -> Nadcházející
A30: 46291 | B30: So | C30: junioři U19 | D30: NRL | E30: BK Medvědi Tábor | F30: 19226 | J30: =IF(A30<TODAY(),"Odehráno",IF(A30=TODAY(),"Dnes","Nadcházející")) -> Nadcházející
A31: 46291 | B31: So | C31: minižáci U11 | D31: KP + kval. o NF | E31: BA Nymburk | F31: 2x 004,052 | J31: =IF(A31<TODAY(),"Odehráno",IF(A31=TODAY(),"Dnes","Nadcházející")) -> Nadcházející
A32: 46291 | B32: So | C32: minižáci U13 | D32: KP + kval. o NF | E32: BK Český Brod | F32: 002 | J32: =IF(A32<TODAY(),"Odehráno",IF(A32=TODAY(),"Dnes","Nadcházející")) -> Nadcházející
A33: 46291 | B33: So | C33: minižákyně U11 | D33: KP + kval. o NF | E33: Basket Poděbrady | F33: 2x 003, 024 | J33: =IF(A33<TODAY(),"Odehráno",IF(A33=TODAY(),"Dnes","Nadcházející")) -> Nadcházející
A34: 46291 | B34: So | C34: minižákyně U13 | D34: KP + kval. o NF | E34: TJ AŠ Mladá Boleslav | F34: 014 | J34: =IF(A34<TODAY(),"Odehráno",IF(A34=TODAY(),"Dnes","Nadcházející")) -> Nadcházející
A35: 46291 | B35: So | C35: Muži "B" | D35: KP | E35: BK Příbram 2000 "B" | F35: 001 | J35: =IF(A35<TODAY(),"Odehráno",IF(A35=TODAY(),"Dnes","Nadcházející")) -> Nadcházející
A36: 46291 | B36: So | C36: žáci U15 | D36: žákovská liga | E36: Tigers České Budějovice | F36: 007 | J36: =IF(A36<TODAY(),"Odehráno",IF(A36=TODAY(),"Dnes","Nadcházející")) -> Nadcházející
A37: 46291 | B37: So | C37: žákyně U15 | D37: žákovská liga | E37: USK Praha | F37: 006 | J37: =IF(A37<TODAY(),"Odehráno",IF(A37=TODAY(),"Dnes","Nadcházející")) -> Nadcházející
... A125: 46333 | B125: So | C125: žáci U14 | D125: žákovská liga | E125: BK Kladno | F125: 109 | J125: =IF(A125<TODAY(),"Odehráno",IF(A125=TODAY(),"Dnes","Nadcházející")) -> Nadcházející
A126: 46333 | B126: So | C126: žákyně U14 | D126: žákovská liga | E126: BK Blansko | J126: =IF(A126<TODAY(),"Odehráno",IF(A126=TODAY(),"Dnes","Nadcházející")) -> Nadcházející
A127: 46333 | B127: So | C127: žákyně U14 "B" | D127: nadreg. liga | E127: Kralupy Junior | F127: 016 | J127: =IF(A127<TODAY(),"Odehráno",IF(A127=TODAY(),"Dnes","Nadcházející")) -> Nadcházející
A128: 46333 | B128: So | C128: Ženy "A" | D128: II. Liga | E128: Sokol Nusle B | F128: 004 | J128: =IF(A128<TODAY(),"Odehráno",IF(A128=TODAY(),"Dnes","Nadcházející")) -> Nadcházející
A129: 46333 | B129: So | C129: Ženy "B" | D129: SBLŽ | E129: BC Slaný | F129: 025 | J129: =IF(A129<TODAY(),"Odehráno",IF(A129=TODAY(),"Dnes","Nadcházející")) -> Nadcházející
A130: 46333 | B130: So | C130: Ženy "C" | D130: SBLŽ | E130: BK Kralupy Junior | F130: 026 | J130: =IF(A130<TODAY(),"Odehráno",IF(A130=TODAY(),"Dnes","Nadcházející")) -> Nadcházející
A131: 46334 | B131: Ne | C131: kadeti U17 | D131: nadreg. liga | E131: BA Lynx Liberecko B | F131: 17157 | J131: =IF(A131<TODAY(),"Odehráno",IF(A131=TODAY(),"Dnes","Nadcházející")) -> Nadcházející
A132: 46334 | B132: Ne | C132: kadetky U17 | D132: celostátní liga | E132: Tigers České Budějovice | F132: 086 | J132: =IF(A132<TODAY(),"Odehráno",IF(A132=TODAY(),"Dnes","Nadcházející")) -> Nadcházející
A133: 46334 | B133: Ne | C133: kadetky U17 "B" | D133: nadreg. liga | E133: Válečnice Děčín B | F133: 17578 | J133: =IF(A133<TODAY(),"Odehráno",IF(A133=TODAY(),"Dnes","Nadcházející")) -> Nadcházející
A134: 46334 | B134: Ne | C134: žákyně U14 | D134: žákovská liga | E134: Vlčice Žďár | F134: 139 | J134: =IF(A134<TODAY(),"Odehráno",IF(A134=TODAY(),"Dnes","Nadcházející")) -> Nadcházející
A135: 46334 | B135: Ne | C135: žákyně U14 "B" | D135: nadreg. liga | E135: BA Roudnice | F135: 019 | J135: =IF(A135<TODAY(),"Odehráno",IF(A135=TODAY(),"Dnes","Nadcházející")) -> Nadcházející
A136: 46334 | B136: Ne | C136: Ženy "A" | D136: II. Liga | E136: Sokol Nusle B | F136: 032 | J136: =IF(A136<TODAY(),"Odehráno",IF(A136=TODAY(),"Dnes","Nadcházející")) -> Nadcházející
A137: 46334 | B137: Ne | C137: Ženy "B" | D137: SBLŽ | E137: BK Kralupy Junior | F137: 029 | J137: =IF(A137<TODAY(),"Odehráno",IF(A137=TODAY(),"Dnes","Nadcházející")) -> Nadcházející
A138: 46334 | B138: Ne | C138: Ženy "C" | D138: SBLŽ | E138: BC Slaný | F138: 028 | J138: =IF(A138<TODAY(),"Odehráno",IF(A138=TODAY(),"Dnes","Nadcházející")) -> Nadcházející
... A212: 46396 | B212: So | C212: junioři U19 | D212: NRL | E212: TJ Třebíč | F212: 19268 | J212: =IF(A212<TODAY(),"Odehráno",IF(A212=TODAY(),"Dnes","Nadcházející")) -> Nadcházející
A213: 46396 | B213: So | C213: minižáci U11 | D213: KP + kval. o NF | E213: BN-Brandýs-Nymburk 001-003 | J213: =IF(A213<TODAY(),"Odehráno",IF(A213=TODAY(),"Dnes","Nadcházející")) -> Nadcházející
A214: 46396 | B214: So | C214: minižákyně U11 | D214: KP + kval. o NF | E214: BK Brandýs nad Labem kval. | F214: 001 | J214: =IF(A214<TODAY(),"Odehráno",IF(A214=TODAY(),"Dnes","Nadcházející")) -> Nadcházející
A215: 46396 | B215: So | C215: minižákyně U13 | D215: KP + kval. o NF | E215: ŠBK Sadská kval. | F215: 002 | J215: =IF(A215<TODAY(),"Odehráno",IF(A215=TODAY(),"Dnes","Nadcházející")) -> Nadcházející
A216: 46396 | B216: So | C216: žáci U15 | D216: žákovská liga | E216: TJ Sokol Kbely | F216: 044 | J216: =IF(A216<TODAY(),"Odehráno",IF(A216=TODAY(),"Dnes","Nadcházející")) -> Nadcházející
A217: 46396 | B217: So | C217: žákyně U15 | D217: žákovská liga | E217: BK Strakonice | F217: 044 | J217: =IF(A217<TODAY(),"Odehráno",IF(A217=TODAY(),"Dnes","Nadcházející")) -> Nadcházející
A218: 46396 | B218: So | C218: žákyně U15 "B" | D218: nadreg. Liga | E218: AŠ Mladá Boleslav | F218: 076 | J218: =IF(A218<TODAY(),"Odehráno",IF(A218=TODAY(),"Dnes","Nadcházející")) -> Nadcházející
A219: 46397 | B219: Ne | C219: junioři U19 | D219: NRL | E219: BK Sojky Pelhřimov C | F219: 19271 | J219: =IF(A219<TODAY(),"Odehráno",IF(A219=TODAY(),"Dnes","Nadcházející")) -> Nadcházející
A220: 46397 | B220: Ne | C220: minižáci U13 | D220: KP + kval. o NF | E220: Basket Poděbrady | F220: 032 | J220: =IF(A220<TODAY(),"Odehráno",IF(A220=TODAY(),"Dnes","Nadcházející")) -> Nadcházející
A221: 46397 | B221: Ne | C221: minižákyně U11 | D221: KP + kval. o NF | E221: BC Slaný kval. | F221: 003 | J221: =IF(A221<TODAY(),"Odehráno",IF(A221=TODAY(),"Dnes","Nadcházející")) -> Nadcházející
A222: 46397 | B222: Ne | C222: minižákyně U13 | D222: KP + kval. o NF | E222: BK Brandýs kval. | F222: 004 | J222: =IF(A222<TODAY(),"Odehráno",IF(A222=TODAY(),"Dnes","Nadcházející")) -> Nadcházející
A223: 46397 | B223: Ne | C223: Muži "B" | D223: KP | E223: BK Příbram 2000 "B" | F223: 040 | J223: =IF(A223<TODAY(),"Odehráno",IF(A223=TODAY(),"Dnes","Nadcházející")) -> Nadcházející
A224: 46397 | B224: Ne | C224: žáci U15 | D224: žákovská liga | E224: Jižní Supi | F224: 047 | J224: =IF(A224<TODAY(),"Odehráno",IF(A224=TODAY(),"Dnes","Nadcházející")) -> Nadcházející
A225: 46397 | B225: Ne | C225: žákyně U15 | D225: žákovská liga | E225: Tigers České Budějovice | F225: 048 | J225: =IF(A225<TODAY(),"Odehráno",IF(A225=TODAY(),"Dnes","Nadcházející")) -> Nadcházející
... A230: 46403 | B230: So | C230: minižáci U10 | D230: KP | E230: BC Benešov Ž | F230: 2x 011,031 | J230: =IF(A230<TODAY(),"Odehráno",IF(A230=TODAY(),"Dnes","Nadcházející")) -> Nadcházející
A231: 46403 | B231: So | C231: minižáci U12 | D231: KP + kval. o NF | E231: Nymburk-BN-Brandýs 001-003 | J231: =IF(A231<TODAY(),"Odehráno",IF(A231=TODAY(),"Dnes","Nadcházející")) -> Nadcházející
A232: 46403 | B232: So | C232: minižákyně U10 | D232: KP | E232: BC Benešov M | F232: 2x 011,031 | J232: =IF(A232<TODAY(),"Odehráno",IF(A232=TODAY(),"Dnes","Nadcházející")) -> Nadcházející
A233: 46403 | B233: So | C233: Muži "A" | D233: SBLM | E233: BC Kolín | F233: 082 | J233: =IF(A233<TODAY(),"Odehráno",IF(A233=TODAY(),"Dnes","Nadcházející")) -> Nadcházející
A234: 46403 | B234: So | C234: žáci U14 | D234: žákovská liga | E234: F1, S1 | J234: =IF(A234<TODAY(),"Odehráno",IF(A234=TODAY(),"Dnes","Nadcházející")) -> Nadcházející
A235: 46403 | B235: So | C235: žákyně U14 | D235: žákovská liga | E235: F1, S1 | J235: =IF(A235<TODAY(),"Odehráno",IF(A235=TODAY(),"Dnes","Nadcházející")) -> Nadcházející
A236: 46403 | B236: So | C236: žákyně U14 "B" | D236: nadreg. liga | E236: Tygři Praha B | F236: 033 | J236: =IF(A236<TODAY(),"Odehráno",IF(A236=TODAY(),"Dnes","Nadcházející")) -> Nadcházející
A237: 46403 | B237: So | C237: Ženy "A" | D237: II. Liga | E237: Lokomotiva Karlovy Vary | F237: 049 | J237: =IF(A237<TODAY(),"Odehráno",IF(A237=TODAY(),"Dnes","Nadcházející")) -> Nadcházející
A238: 46403 | B238: So | C238: Ženy "B" | D238: SBLŽ | E238: BK Sojky Pelhřimov | F238: 045 | J238: =IF(A238<TODAY(),"Odehráno",IF(A238=TODAY(),"Dnes","Nadcházející")) -> Nadcházející
A239: 46403 | B239: So | C239: Ženy "C" | D239: SBLŽ | E239: BC Kolín "B" | F239: 046 | J239: =IF(A239<TODAY(),"Odehráno",IF(A239=TODAY(),"Dnes","Nadcházející")) -> Nadcházející
A240: 46404 | B240: Ne | C240: kadeti U17 | D240: nadreg. liga | E240: BC Kolín A | F240: 17194 | J240: =IF(A240<TODAY(),"Odehráno",IF(A240=TODAY(),"Dnes","Nadcházející")) -> Nadcházející
A241: 46404 | B241: Ne | C241: kadetky U17 | D241: celostátní liga | E241: Studánka Pardubice | F241: 110 | J241: =IF(A241<TODAY(),"Odehráno",IF(A241=TODAY(),"Dnes","Nadcházející")) -> Nadcházející
A242: 46404 | B242: Ne | C242: kadetky U17 "B" | D242: nadreg. liga | E242: BK Klatovy | F242: 17612 | J242: =IF(A242<TODAY(),"Odehráno",IF(A242=TODAY(),"Dnes","Nadcházející")) -> Nadcházející
A243: 46404 | B243: Ne | C243: minižákyně U12 | D243: KP + kval. o NF | E243: ŠBK Sadská kval. | F243: 002 | J243: =IF(A243<TODAY(),"Odehráno",IF(A243=TODAY(),"Dnes","Nadcházející")) -> Nadcházející
A244: 46404 | B244: Ne | C244: Muži "A" | D244: SBLM | E244: BK Český Brod | F244: 087 | J244: =IF(A244<TODAY(),"Odehráno",IF(A244=TODAY(),"Dnes","Nadcházející")) -> Nadcházející
A245: 46404 | B245: Ne | C245: žáci U14 | D245: žákovská liga | E245: F1, S1 | J245: =IF(A245<TODAY(),"Odehráno",IF(A245=TODAY(),"Dnes","Nadcházející")) -> Nadcházející
A246: 46404 | B246: Ne | C246: žákyně U14 | D246: žákovská liga | E246: F1, S1 | J246: =IF(A246<TODAY(),"Odehráno",IF(A246=TODAY(),"Dnes","Nadcházející")) -> Nadcházející
A247: 46404 | B247: Ne | C247: žákyně U14 "B" | D247: nadreg. liga | E247: Basket Slovanka B | F247: 035 | J247: =IF(A247<TODAY(),"Odehráno",IF(A247=TODAY(),"Dnes","Nadcházející")) -> Nadcházející
A248: 46404 | B248: Ne | C248: Ženy "A" | D248: II. Liga | E248: DBaK | F248: 054 | J248: =IF(A248<TODAY(),"Odehráno",IF(A248=TODAY(),"Dnes","Nadcházející")) -> Nadcházející
A249: 46404 | B249: Ne | C249: Ženy "B" | D249: SBLŽ | E249: BC Kolín "B" | F249: 048 | J249: =IF(A249<TODAY(),"Odehráno",IF(A249=TODAY(),"Dnes","Nadcházející")) -> Nadcházející
A250: 46404 | B250: Ne | C250: Ženy "C" | D250: SBLŽ | E250: BK Sojky Pelhřimov | F250: 049 | J250: =IF(A250<TODAY(),"Odehráno",IF(A250=TODAY(),"Dnes","Nadcházející")) -> Nadcházející
A251: 46407 | B251: St | C251: žákyně U14 | D251: žákovská liga | E251: FD, SD | J251: =IF(A251<TODAY(),"Odehráno",IF(A251=TODAY(),"Dnes","Nadcházející")) -> Nadcházející
A252: 46410 | B252: So | C252: junioři U19 | D252: NRL | E252: Tigers České Budějovice | F252: 19273 | J252: =IF(A252<TODAY(),"Odehráno",IF(A252=TODAY(),"Dnes","Nadcházející")) -> Nadcházející
A253: 46410 | B253: So | C253: minižáci U11 | D253: KP + kval. o NF | E253: Nymburk-Brandýs-BN 004-006 | J253: =IF(A253<TODAY(),"Odehráno",IF(A253=TODAY(),"Dnes","Nadcházející")) -> Nadcházející
A254: 46410 | B254: So | C254: minižáci U13 | D254: KP + kval. o NF | E254: BK Mělník | F254: 033 | J254: =IF(A254<TODAY(),"Odehráno",IF(A254=TODAY(),"Dnes","Nadcházející")) -> Nadcházející
A255: 46410 | B255: So | C255: minižákyně U11 | D255: KP + kval. o NF | E255: ŠBK Sadská kval. | F255: 005 | J255: =IF(A255<TODAY(),"Odehráno",IF(A255=TODAY(),"Dnes","Nadcházející")) -> Nadcházející
A256: 46410 | B256: So | C256: minižákyně U13 | D256: KP + kval. o NF | E256: Sokol Nehvizdy | F256: 078 | J256: =IF(A256<TODAY(),"Odehráno",IF(A256=TODAY(),"Dnes","Nadcházející")) -> Nadcházející
A257: 46410 | B257: So | C257: Muži "B" | D257: KP | E257: BK Mělník | F257: 046 | J257: =IF(A257<TODAY(),"Odehráno",IF(A257=TODAY(),"Dnes","Nadcházející")) -> Nadcházející
A258: 46410 | B258: So | C258: žáci U15 | D258: žákovská liga | E258: Slavi Tygři Praha | F258: 049 | J258: =IF(A258<TODAY(),"Odehráno",IF(A258=TODAY(),"Dnes","Nadcházející")) -> Nadcházející
A259: 46410 | B259: So | C259: žákyně U15 | D259: žákovská liga | E259: DBaK | F259: 051 | J259: =IF(A259<TODAY(),"Odehráno",IF(A259=TODAY(),"Dnes","Nadcházející")) -> Nadcházející
A260: 46410 | B260: So | C260: žákyně U15 "B" | D260: nadreg. Liga | E260: Basketbal Újezd nad Lesy | F260: 088 | J260: =IF(A260<TODAY(),"Odehráno",IF(A260=TODAY(),"Dnes","Nadcházející")) -> Nadcházející
A261: 46411 | B261: Ne | C261: junioři U19 | D261: NRL | E261: BK Lions Jindřichův Hradec | F261: 19277 | J261: =IF(A261<TODAY(),"Odehráno",IF(A261=TODAY(),"Dnes","Nadcházející")) -> Nadcházející
A262: 46411 | B262: Ne | C262: minižákyně U11 | D262: KP + kval. o NF | E262: ŠBK Sadská kval. | F262: 007 | J262: =IF(A262<TODAY(),"Odehráno",IF(A262=TODAY(),"Dnes","Nadcházející")) -> Nadcházející
A263: 46411 | B263: Ne | C263: minižákyně U13 | D263: KP + kval. o NF | E263: Sokol Nusle | F263: 084 | J263: =IF(A263<TODAY(),"Odehráno",IF(A263=TODAY(),"Dnes","Nadcházející")) -> Nadcházející
A264: 46411 | B264: Ne | C264: Muži "B" | D264: KP | E264: AŠ Mladá Boleslav "B" | F264: 049 | J264: =IF(A264<TODAY(),"Odehráno",IF(A264=TODAY(),"Dnes","Nadcházející")) -> Nadcházející
A265: 46411 | B265: Ne | C265: žáci U15 | D265: žákovská liga | E265: BK Lokomotiva Plzeň | F265: 053 | J265: =IF(A265<TODAY(),"Odehráno",IF(A265=TODAY(),"Dnes","Nadcházející")) -> Nadcházející
... A267: 46411 | B267: Ne | C267: žákyně U15 "B" | D267: nadreg. Liga | E267: Sokol Pečky | F267: 092 | J267: =IF(A267<TODAY(),"Odehráno",IF(A267=TODAY(),"Dnes","Nadcházející")) -> Nadcházející
A268: 46414 | B268: St | C268: žáci U14 | D268: žákovská liga | E268: FD, SD | J268: =IF(A268<TODAY(),"Odehráno",IF(A268=TODAY(),"Dnes","Nadcházející")) -> Nadcházející
A269: 46424 | B269: So | C269: kadeti U17 | D269: nadreg. liga | E269: AŠ Mladá Boleslav | F269: 17196 | J269: =IF(A269<TODAY(),"Odehráno",IF(A269=TODAY(),"Dnes","Nadcházející")) -> Nadcházející
A270: 46424 | B270: So | C270: kadetky U17 | D270: celostátní liga | E270: F1, S1 | J270: =IF(A270<TODAY(),"Odehráno",IF(A270=TODAY(),"Dnes","Nadcházející")) -> Nadcházející
...

Sheet Data družstev
A1: Muži "A" | J1: Muži "B" | S1: Ženy "A" | AB1: Ženy "B" | AK1: Ženy "C" | AT1: junioři U19 | BC1: kadeti U17 | BL1: kadetky U17 | BU1: kadetky U17 "B" | CD1: žáci U15 | CM1: žákyně U15 | CV1: žákyně U15 "B" | DE1: žáci U14 | DN1: žákyně U14 | DW1: žákyně U14 "B" | EF1: minižáci U13 | EO1: minižáci U12 | EX1: minižáci U11 | FG1: minižáci U10 | FP1: minižákyně U13 | FY1: minižákyně U12 | GH1: minižákyně U11 | GQ1: minižákyně U10 | GZ1: mix U10
A2: Datum | B2: Den | C2: Soutěž | D2: Soupeř / fáze | E2: Číslo utkání | F2: Čas | G2: Místo | H2: Poznámka | I2: Stav | J2: Datum | K2: Den | L2: Soutěž | M2: Soupeř / fáze | N2: Číslo utkání | O2: Čas | P2: Místo | Q2: Poznámka | R2: Stav | S2: Datum | T2: Den | U2: Soutěž | V2: Soupeř / fáze | W2: Číslo utkání | X2: Čas | Y2: Místo | Z2: Poznámka | AA2: Stav | AB2: Datum | AC2: Den | AD2: Soutěž | AE2: Soupeř / fáze | AF2: Číslo utkání | AG2: Čas | AH2: Místo | AI2: Poznámka | AJ2: Stav | AK2: Datum | AL2: Den | AM2: Soutěž | AN2: Soupeř / fáze | AO2: Číslo utkání | AP2: Čas | AQ2: Místo | AR2: Poznámka | AS2: Stav | AT2: Datum | AU2: Den | AV2: Soutěž | AW2: Soupeř / fáze | AX2: Číslo utkání | AY2: Čas | AZ2: Místo | BA2: Poznámka | BB2: Stav | BC2: Datum | BD2: Den | BE2: Soutěž | BF2: Soupeř / fáze | BG2: Číslo utkání | BH2: Čas | BI2: Místo | BJ2: Poznámka | BK2: Stav | BL2: Datum | BM2: Den | BN2: Soutěž | BO2: Soupeř / fáze | BP2: Číslo utkání | BQ2: Čas | BR2: Místo | BS2: Poznámka | BT2: Stav | BU2: Datum | BV2: Den | BW2: Soutěž | BX2: Soupeř / fáze | BY2: Číslo utkání | BZ2: Čas | CA2: Místo | CB2: Poznámka | CC2: Stav | CD2: Datum | CE2: Den | CF2: Soutěž | CG2: Soupeř / fáze | CH2: Číslo utkání | CI2: Čas | CJ2: Místo | CK2: Poznámka | CL2: Stav | CM2: Datum | CN2: Den | CO2: Soutěž | CP2: Soupeř / fáze | CQ2: Číslo utkání | CR2: Čas | CS2: Místo | CT2: Poznámka | CU2: Stav | CV2: Datum | CW2: Den | CX2: Soutěž | CY2: Soupeř / fáze | CZ2: Číslo utkání | DA2: Čas | DB2: Místo | DC2: Poznámka | DD2: Stav | DE2: Datum | DF2: Den | DG2: Soutěž | DH2: Soupeř / fáze | DI2: Číslo utkání | DJ2: Čas | DK2: Místo | DL2: Poznámka | DM2: Stav | DN2: Datum | DO2: Den | DP2: Soutěž | DQ2: Soupeř / fáze | DR2: Číslo utkání | DS2: Čas | DT2: Místo | DU2: Poznámka | DV2: Stav | DW2: Datum | DX2: Den | DY2: Soutěž | DZ2: Soupeř / fáze | EA2: Číslo utkání | EB2: Čas | EC2: Místo | ED2: Poznámka | EE2: Stav | EF2: Datum | EG2: Den | EH2: Soutěž | EI2: Soupeř / fáze | EJ2: Číslo utkání | EK2: Čas | EL2: Místo | EM2: Poznámka | EN2: Stav | EO2: Datum | EP2: Den | EQ2: Soutěž | ER2: Soupeř / fáze | ES2: Číslo utkání | ET2: Čas | EU2: Místo | EV2: Poznámka | EW2: Stav | EX2: Datum | EY2: Den | EZ2: Soutěž | FA2: Soupeř / fáze | FB2: Číslo utkání | FC2: Čas | FD2: Místo | FE2: Poznámka | FF2: Stav | FG2: Datum | FH2: Den | FI2: Soutěž | FJ2: Soupeř / fáze | FK2: Číslo utkání | FL2: Čas | FM2: Místo | FN2: Poznámka | FO2: Stav | FP2: Datum | FQ2: Den | FR2: Soutěž | FS2: Soupeř / fáze | FT2: Číslo utkání | FU2: Čas | FV2: Místo | FW2: Poznámka | FX2: Stav | FY2: Datum | FZ2: Den | GA2: Soutěž | GB2: Soupeř / fáze | GC2: Číslo utkání | GD2: Čas | GE2: Místo | GF2: Poznámka | GG2: Stav | GH2: Datum | GI2: Den | GJ2: Soutěž | GK2: Soupeř / fáze | GL2: Číslo utkání | GM2: Čas | GN2: Místo | GO2: Poznámka | GP2: Stav | GQ2: Datum | GR2: Den | GS2: Soutěž | GT2: Soupeř / fáze | GU2: Číslo utkání | GV2: Čas | GW2: Místo | GX2: Poznámka | GY2: Stav | GZ2: Datum | HA2: Den | HB2: Soutěž | HC2: Soupeř / fáze | HD2: Číslo utkání | HE2: Čas | HF2: Místo | HG2: Poznámka | HH2: Stav
A3: =IF('Seznam zápasů'!A14="","",'Seznam zápasů'!A14) -> 46284 | B3: =IF('Seznam zápasů'!B14="","",'Seznam zápasů'!B14) -> So | C3: =IF('Seznam zápasů'!D14="","",'Seznam zápasů'!D14) -> SBLM | D3: =IF('Seznam zápasů'!E14="","",'Seznam zápasů'!E14) -> BK Český Brod | E3: =IF('Seznam zápasů'!F14="","",'Seznam zápasů'!F14) -> 004 | F3: =IF('Seznam zápasů'!G14="","",'Seznam zápasů'!G14) | G3: =IF('Seznam zápasů'!H14="","",'Seznam zápasů'!H14) | H3: =IF('Seznam zápasů'!I14="","",'Seznam zápasů'!I14) | I3: =IF('Seznam zápasů'!J14="","",'Seznam zápasů'!J14) -> Nadcházející | J3: =IF('Seznam zápasů'!A35="","",'Seznam zápasů'!A35) -> 46291 | K3: =IF('Seznam zápasů'!B35="","",'Seznam zápasů'!B35) -> So | L3: =IF('Seznam zápasů'!D35="","",'Seznam zápasů'!D35) -> KP | M3: =IF('Seznam zápasů'!E35="","",'Seznam zápasů'!E35) -> BK Příbram 2000 "B" | N3: =IF('Seznam zápasů'!F35="","",'Seznam zápasů'!F35) -> 001 | O3: =IF('Seznam zápasů'!G35="","",'Seznam zápasů'!G35) | P3: =IF('Seznam zápasů'!H35="","",'Seznam zápasů'!H35) | Q3: =IF('Seznam zápasů'!I35="","",'Seznam zápasů'!I35) | R3: =IF('Seznam zápasů'!J35="","",'Seznam zápasů'!J35) -> Nadcházející | S3: =IF('Seznam zápasů'!A18="","",'Seznam zápasů'!A18) -> 46284 | T3: =IF('Seznam zápasů'!B18="","",'Seznam zápasů'!B18) -> So | U3: =IF('Seznam zápasů'!D18="","",'Seznam zápasů'!D18) -> II. Liga | V3: =IF('Seznam zápasů'!E18="","",'Seznam zápasů'!E18) -> BK Lvice Litoměřice | W3: =IF('Seznam zápasů'!F18="","",'Seznam zápasů'!F18) -> 006 | X3: =IF('Seznam zápasů'!G18="","",'Seznam zápasů'!G18) | Y3: =IF('Seznam zápasů'!H18="","",'Seznam zápasů'!H18) | Z3: =IF('Seznam zápasů'!I18="","",'Seznam zápasů'!I18) | AA3: =IF('Seznam zápasů'!J18="","",'Seznam zápasů'!J18) -> Nadcházející | AB3: =IF('Seznam zápasů'!A29="","",'Seznam zápasů'!A29) -> 46285 | AC3: =IF('Seznam zápasů'!B29="","",'Seznam zápasů'!B29) -> Ne | AD3: =IF('Seznam zápasů'!D29="","",'Seznam zápasů'!D29) -> SBLŽ | AE3: =IF('Seznam zápasů'!E29="","",'Seznam zápasů'!E29) -> BK Příbram 2000 | AF3: =IF('Seznam zápasů'!F29="","",'Seznam zápasů'!F29) -> 007 | AG3: =IF('Seznam zápasů'!G29="","",'Seznam zápasů'!G29) | AH3: =IF('Seznam zápasů'!H29="","",'Seznam zápasů'!H29) | AI3: =IF('Seznam zápasů'!I29="","",'Seznam zápasů'!I29) | AJ3: =IF('Seznam zápasů'!J29="","",'Seznam zápasů'!J29) -> Nadcházející | AK3: =IF('Seznam zápasů'!A19="","",'Seznam zápasů'!A19) -> 46284 | AL3: =IF('Seznam zápasů'!B19="","",'Seznam zápasů'!B19) -> So | AM3: =IF('Seznam zápasů'!D19="","",'Seznam zápasů'!D19) -> SBLŽ | AN3: =IF('Seznam zápasů'!E19="","",'Seznam zápasů'!E19) -> BK Příbram 2000 | AO3: =IF('Seznam zápasů'!F19="","",'Seznam zápasů'!F19) -> 004 | AP3: =IF('Seznam zápasů'!G19="","",'Seznam zápasů'!G19) | AQ3: =IF('Seznam zápasů'!H19="","",'Seznam zápasů'!H19) | AR3: =IF('Seznam zápasů'!I19="","",'Seznam zápasů'!I19) | AS3: =IF('Seznam zápasů'!J19="","",'Seznam zápasů'!J19) -> Nadcházející | AT3: =IF('Seznam zápasů'!A30="","",'Seznam zápasů'!A30) -> 46291 | AU3: =IF('Seznam zápasů'!B30="","",'Seznam zápasů'!B30) -> So | AV3: =IF('Seznam zápasů'!D30="","",'Seznam zápasů'!D30) -> NRL | AW3: =IF('Seznam zápasů'!E30="","",'Seznam zápasů'!E30) -> BK Medvědi Tábor | AX3: =IF('Seznam zápasů'!F30="","",'Seznam zápasů'!F30) -> 19226 | AY3: =IF('Seznam zápasů'!G30="","",'Seznam zápasů'!G30) | AZ3: =IF('Seznam zápasů'!H30="","",'Seznam zápasů'!H30) | BA3: =IF('Seznam zápasů'!I30="","",'Seznam zápasů'!I30) | BB3: =IF('Seznam zápasů'!J30="","",'Seznam zápasů'!J30) -> Nadcházející | BC3: =IF('Seznam zápasů'!A10="","",'Seznam zápasů'!A10) -> 46284 | BD3: =IF('Seznam zápasů'!B10="","",'Seznam zápasů'!B10) -> So | BE3: =IF('Seznam zápasů'!D10="","",'Seznam zápasů'!D10) -> nadreg. liga | BF3: =IF('Seznam zápasů'!E10="","",'Seznam zápasů'!E10) -> BC Kolín A | BG3: =IF('Seznam zápasů'!F10="","",'Seznam zápasů'!F10) -> 17116 | BH3: =IF('Seznam zápasů'!G10="","",'Seznam zápasů'!G10) | BI3: =IF('Seznam zápasů'!H10="","",'Seznam zápasů'!H10) | BJ3: =IF('Seznam zápasů'!I10="","",'Seznam zápasů'!I10) | BK3: =IF('Seznam zápasů'!J10="","",'Seznam zápasů'!J10) -> Nadcházející | BL3: =IF('Seznam zápasů'!A11="","",'Seznam zápasů'!A11) -> 46284 | BM3: =IF('Seznam zápasů'!B11="","",'Seznam zápasů'!B11) -> So | BN3: =IF('Seznam zápasů'!D11="","",'Seznam zápasů'!D11) -> celostátní liga | BO3: =IF('Seznam zápasů'!E11="","",'Seznam zápasů'!E11) -> Sojky Pelhřimov | BP3: =IF('Seznam zápasů'!F11="","",'Seznam zápasů'!F11) -> 064 | BQ3: =IF('Seznam zápasů'!G11="","",'Seznam zápasů'!G11) | BR3: =IF('Seznam zápasů'!H11="","",'Seznam zápasů'!H11) | BS3: =IF('Seznam zápasů'!I11="","",'Seznam zápasů'!I11) | BT3: =IF('Seznam zápasů'!J11="","",'Seznam zápasů'!J11) -> Nadcházející | BU3: =IF('Seznam zápasů'!A12="","",'Seznam zápasů'!A12) -> 46284 | BV3: =IF('Seznam zápasů'!B12="","",'Seznam zápasů'!B12) -> So | BW3: =IF('Seznam zápasů'!D12="","",'Seznam zápasů'!D12) -> nadreg. liga | BX3: =IF('Seznam zápasů'!E12="","",'Seznam zápasů'!E12) -> BK Klatovy | BY3: =IF('Seznam zápasů'!F12="","",'Seznam zápasů'!F12) -> 17534 | BZ3: =IF('Seznam zápasů'!G12="","",'Seznam zápasů'!G12) | CA3: =IF('Seznam zápasů'!H12="","",'Seznam zápasů'!H12) | CB3: =IF('Seznam zápasů'!I12="","",'Seznam zápasů'!I12) | CC3: =IF('Seznam zápasů'!J12="","",'Seznam zápasů'!J12) -> Nadcházející | CD3: =IF('Seznam zápasů'!A36="","",'Seznam zápasů'!A36) -> 46291 | CE3: =IF('Seznam zápasů'!B36="","",'Seznam zápasů'!B36) -> So | CF3: =IF('Seznam zápasů'!D36="","",'Seznam zápasů'!D36) -> žákovská liga | CG3: =IF('Seznam zápasů'!E36="","",'Seznam zápasů'!E36) -> Tigers České Budějovice | CH3: =IF('Seznam zápasů'!F36="","",'Seznam zápasů'!F36) -> 007 | CI3: =IF('Seznam zápasů'!G36="","",'Seznam zápasů'!G36) | CJ3: =IF('Seznam zápasů'!H36="","",'Seznam zápasů'!H36) | CK3: =IF('Seznam zápasů'!I36="","",'Seznam zápasů'!I36) | CL3: =IF('Seznam zápasů'!J36="","",'Seznam zápasů'!J36) -> Nadcházející | CM3: =IF('Seznam zápasů'!A37="","",'Seznam zápasů'!A37) -> 46291 | CN3: =IF('Seznam zápasů'!B37="","",'Seznam zápasů'!B37) -> So | CO3: =IF('Seznam zápasů'!D37="","",'Seznam zápasů'!D37) -> žákovská liga | CP3: =IF('Seznam zápasů'!E37="","",'Seznam zápasů'!E37) -> USK Praha | CQ3: =IF('Seznam zápasů'!F37="","",'Seznam zápasů'!F37) -> 006 | CR3: =IF('Seznam zápasů'!G37="","",'Seznam zápasů'!G37) | CS3: =IF('Seznam zápasů'!H37="","",'Seznam zápasů'!H37) | CT3: =IF('Seznam zápasů'!I37="","",'Seznam zápasů'!I37) | CU3: =IF('Seznam zápasů'!J37="","",'Seznam zápasů'!J37) -> Nadcházející | CV3: =IF('Seznam zápasů'!A38="","",'Seznam zápasů'!A38) -> 46291 | CW3: =IF('Seznam zápasů'!B38="","",'Seznam zápasů'!B38) -> So | CX3: =IF('Seznam zápasů'!D38="","",'Seznam zápasů'!D38) -> nadreg. Liga | CY3: =IF('Seznam zápasů'!E38="","",'Seznam zápasů'!E38) -> Bižu Jablonecko B | CZ3: =IF('Seznam zápasů'!F38="","",'Seznam zápasů'!F38) -> 032 | DA3: =IF('Seznam zápasů'!G38="","",'Seznam zápasů'!G38) | DB3: =IF('Seznam zápasů'!H38="","",'Seznam zápasů'!H38) | DC3: =IF('Seznam zápasů'!I38="","",'Seznam zápasů'!I38) | DD3: =IF('Seznam zápasů'!J38="","",'Seznam zápasů'!J38) -> Nadcházející | DE3: =IF('Seznam zápasů'!A9="","",'Seznam zápasů'!A9) -> 46278 | DF3: =IF('Seznam zápasů'!B9="","",'Seznam zápasů'!B9) -> Ne | DG3: =IF('Seznam zápasů'!D9="","",'Seznam zápasů'!D9) -> žákovská liga | DH3: =IF('Seznam zápasů'!E9="","",'Seznam zápasů'!E9) -> BK Kladno | DI3: =IF('Seznam zápasů'!F9="","",'Seznam zápasů'!F9) -> 091 | DJ3: =IF('Seznam zápasů'!G9="","",'Seznam zápasů'!G9) | DK3: =IF('Seznam zápasů'!H9="","",'Seznam zápasů'!H9) | DL3: =IF('Seznam zápasů'!I9="","",'Seznam zápasů'!I9) | DM3: =IF('Seznam zápasů'!J9="","",'Seznam zápasů'!J9) -> Nadcházející | DN3: =IF('Seznam zápasů'!A16="","",'Seznam zápasů'!A16) -> 46284 | DO3: =IF('Seznam zápasů'!B16="","",'Seznam zápasů'!B16) -> So | DP3: =IF('Seznam zápasů'!D16="","",'Seznam zápasů'!D16) -> žákovská liga | DQ3: =IF('Seznam zápasů'!E16="","",'Seznam zápasů'!E16) -> Vlčice Žďár | DR3: =IF('Seznam zápasů'!F16="","",'Seznam zápasů'!F16) -> 122 | DS3: =IF('Seznam zápasů'!G16="","",'Seznam zápasů'!G16) | DT3: =IF('Seznam zápasů'!H16="","",'Seznam zápasů'!H16) | DU3: =IF('Seznam zápasů'!I16="","",'Seznam zápasů'!I16) | DV3: =IF('Seznam zápasů'!J16="","",'Seznam zápasů'!J16) -> Nadcházející | DW3: =IF('Seznam zápasů'!A17="","",'Seznam zápasů'!A17) -> 46284 | DX3: =IF('Seznam zápasů'!B17="","",'Seznam zápasů'!B17) -> So | DY3: =IF('Seznam zápasů'!D17="","",'Seznam zápasů'!D17) -> nadreg. liga | DZ3: =IF('Seznam zápasů'!E17="","",'Seznam zápasů'!E17) -> Basket Říčany | EA3: =IF('Seznam zápasů'!F17="","",'Seznam zápasů'!F17) -> 002 | EB3: =IF('Seznam zápasů'!G17="","",'Seznam zápasů'!G17) | EC3: =IF('Seznam zápasů'!H17="","",'Seznam zápasů'!H17) | ED3: =IF('Seznam zápasů'!I17="","",'Seznam zápasů'!I17) | EE3: =IF('Seznam zápasů'!J17="","",'Seznam zápasů'!J17) -> Nadcházející | EF3: =IF('Seznam zápasů'!A7="","",'Seznam zápasů'!A7) -> 46277 | EG3: =IF('Seznam zápasů'!B7="","",'Seznam zápasů'!B7) -> So | EH3: =IF('Seznam zápasů'!D7="","",'Seznam zápasů'!D7) -> KP + kval. o NF | EI3: =IF('Seznam zápasů'!E7="","",'Seznam zápasů'!E7) -> BN-Pardubice-Nymburk | EJ3: =IF('Seznam zápasů'!F7="","",'Seznam zápasů'!F7) | EK3: =IF('Seznam zápasů'!G7="","",'Seznam zápasů'!G7) | EL3: =IF('Seznam zápasů'!H7="","",'Seznam zápasů'!H7) | EM3: =IF('Seznam zápasů'!I7="","",'Seznam zápasů'!I7) | EN3: =IF('Seznam zápasů'!J7="","",'Seznam zápasů'!J7) -> Nadcházející | EO3: =IF('Seznam zápasů'!A13="","",'Seznam zápasů'!A13) -> 46284 | EP3: =IF('Seznam zápasů'!B13="","",'Seznam zápasů'!B13) -> So | EQ3: =IF('Seznam zápasů'!D13="","",'Seznam zápasů'!D13) -> KP + kval. o NF | ER3: =IF('Seznam zápasů'!E13="","",'Seznam zápasů'!E13) -> BA Nymburk | ES3: =IF('Seznam zápasů'!F13="","",'Seznam zápasů'!F13) -> 2x 004,040 | ET3: =IF('Seznam zápasů'!G13="","",'Seznam zápasů'!G13) | EU3: =IF('Seznam zápasů'!H13="","",'Seznam zápasů'!H13) | EV3: =IF('Seznam zápasů'!I13="","",'Seznam zápasů'!I13) | EW3: =IF('Seznam zápasů'!J13="","",'Seznam zápasů'!J13) -> Nadcházející | EX3: =IF('Seznam zápasů'!A6="","",'Seznam zápasů'!A6) -> 46277 | EY3: =IF('Seznam zápasů'!B6="","",'Seznam zápasů'!B6) -> So | EZ3: =IF('Seznam zápasů'!D6="","",'Seznam zápasů'!D6) -> KP + kval. o NF | FA3: =IF('Seznam zápasů'!E6="","",'Seznam zápasů'!E6) -> Slavoj Český Brod | FB3: =IF('Seznam zápasů'!F6="","",'Seznam zápasů'!F6) -> 2x 004, 049 | FC3: =IF('Seznam zápasů'!G6="","",'Seznam zápasů'!G6) | FD3: =IF('Seznam zápasů'!H6="","",'Seznam zápasů'!H6) | FE3: =IF('Seznam zápasů'!I6="","",'Seznam zápasů'!I6) | FF3: =IF('Seznam zápasů'!J6="","",'Seznam zápasů'!J6) -> Nadcházející | FG3: =IF('Seznam zápasů'!A48="","",'Seznam zápasů'!A48) -> 46298 | FH3: =IF('Seznam zápasů'!B48="","",'Seznam zápasů'!B48) -> So | FI3: =IF('Seznam zápasů'!D48="","",'Seznam zápasů'!D48) -> KP | FJ3: =IF('Seznam zápasů'!E48="","",'Seznam zápasů'!E48) -> BC Benešov Ž | FK3: =IF('Seznam zápasů'!F48="","",'Seznam zápasů'!F48) -> 2x 001,021 | FL3: =IF('Seznam zápasů'!G48="","",'Seznam zápasů'!G48) | FM3: =IF('Seznam zápasů'!H48="","",'Seznam zápasů'!H48) | FN3: =IF('Seznam zápasů'!I48="","",'Seznam zápasů'!I48) | FO3: =IF('Seznam zápasů'!J48="","",'Seznam zápasů'!J48) -> Nadcházející | FP3: =IF('Seznam zápasů'!A5="","",'Seznam zápasů'!A5) -> 46275 | FQ3: =IF('Seznam zápasů'!B5="","",'Seznam zápasů'!B5) -> Čt | FR3: =IF('Seznam zápasů'!D5="","",'Seznam zápasů'!D5) -> KP + kval. o NF | FS3: =IF('Seznam zápasů'!E5="","",'Seznam zápasů'!E5) -> Sokol Nusle | FT3: =IF('Seznam zápasů'!F5="","",'Seznam zápasů'!F5) -> 006 | FU3: =IF('Seznam zápasů'!G5="","",'Seznam zápasů'!G5) | FV3: =IF('Seznam zápasů'!H5="","",'Seznam zápasů'!H5) | FW3: =IF('Seznam zápasů'!I5="","",'Seznam zápasů'!I5) | FX3: =IF('Seznam zápasů'!J5="","",'Seznam zápasů'!J5) -> Nadcházející | FY3: =IF('Seznam zápasů'!A23="","",'Seznam zápasů'!A23) -> 46285 | FZ3: =IF('Seznam zápasů'!B23="","",'Seznam zápasů'!B23) -> Ne | GA3: =IF('Seznam zápasů'!D23="","",'Seznam zápasů'!D23) -> KP + kval. o NF | GB3: =IF('Seznam zápasů'!E23="","",'Seznam zápasů'!E23) -> ŠBK Sadská | GC3: =IF('Seznam zápasů'!F23="","",'Seznam zápasů'!F23) -> 2x 004,032 | GD3: =IF('Seznam zápasů'!G23="","",'Seznam zápasů'!G23) | GE3: =IF('Seznam zápasů'!H23="","",'Seznam zápasů'!H23) | GF3: =IF('Seznam zápasů'!I23="","",'Seznam zápasů'!I23) | GG3: =IF('Seznam zápasů'!J23="","",'Seznam zápasů'!J23) -> Nadcházející | GH3: =IF('Seznam zápasů'!A33="","",'Seznam zápasů'!A33) -> 46291 | GI3: =IF('Seznam zápasů'!B33="","",'Seznam zápasů'!B33) -> So | GJ3: =IF('Seznam zápasů'!D33="","",'Seznam zápasů'!D33) -> KP + kval. o NF | GK3: =IF('Seznam zápasů'!E33="","",'Seznam zápasů'!E33) -> Basket Poděbrady | GL3: =IF('Seznam zápasů'!F33="","",'Seznam zápasů'!F33) -> 2x 003, 024 | GM3: =IF('Seznam zápasů'!G33="","",'Seznam zápasů'!G33) | GN3: =IF('Seznam zápasů'!H33="","",'Seznam zápasů'!H33) | GO3: =IF('Seznam zápasů'!I33="","",'Seznam zápasů'!I33) | GP3: =IF('Seznam zápasů'!J33="","",'Seznam zápasů'!J33) -> Nadcházející | GQ3: =IF('Seznam zápasů'!A50="","",'Seznam zápasů'!A50) -> 46298 | GR3: =IF('Seznam zápasů'!B50="","",'Seznam zápasů'!B50) -> So | GS3: =IF('Seznam zápasů'!D50="","",'Seznam zápasů'!D50) -> KP | GT3: =IF('Seznam zápasů'!E50="","",'Seznam zápasů'!E50) -> BC Benešov M | GU3: =IF('Seznam zápasů'!F50="","",'Seznam zápasů'!F50) -> 2x 01,021 | GV3: =IF('Seznam zápasů'!G50="","",'Seznam zápasů'!G50) | GW3: =IF('Seznam zápasů'!H50="","",'Seznam zápasů'!H50) | GX3: =IF('Seznam zápasů'!I50="","",'Seznam zápasů'!I50) | GY3: =IF('Seznam zápasů'!J50="","",'Seznam zápasů'!J50) -> Nadcházející
A4: =IF('Seznam zápasů'!A25="","",'Seznam zápasů'!A25) -> 46285 | B4: =IF('Seznam zápasů'!B25="","",'Seznam zápasů'!B25) -> Ne | C4: =IF('Seznam zápasů'!D25="","",'Seznam zápasů'!D25) -> SBLM | D4: =IF('Seznam zápasů'!E25="","",'Seznam zápasů'!E25) -> BC Kolín | E4: =IF('Seznam zápasů'!F25="","",'Seznam zápasů'!F25) -> 009 | F4: =IF('Seznam zápasů'!G25="","",'Seznam zápasů'!G25) | G4: =IF('Seznam zápasů'!H25="","",'Seznam zápasů'!H25) | H4: =IF('Seznam zápasů'!I25="","",'Seznam zápasů'!I25) | I4: =IF('Seznam zápasů'!J25="","",'Seznam zápasů'!J25) -> Nadcházející | J4: =IF('Seznam zápasů'!A72="","",'Seznam zápasů'!A72) -> 46305 | K4: =IF('Seznam zápasů'!B72="","",'Seznam zápasů'!B72) -> So | L4: =IF('Seznam zápasů'!D72="","",'Seznam zápasů'!D72) -> KP | M4: =IF('Seznam zápasů'!E72="","",'Seznam zápasů'!E72) -> AŠ Mladá Boleslav "B" | N4: =IF('Seznam zápasů'!F72="","",'Seznam zápasů'!F72) -> 010 | O4: =IF('Seznam zápasů'!G72="","",'Seznam zápasů'!G72) | P4: =IF('Seznam zápasů'!H72="","",'Seznam zápasů'!H72) | Q4: =IF('Seznam zápasů'!I72="","",'Seznam zápasů'!I72) | R4: =IF('Seznam zápasů'!J72="","",'Seznam zápasů'!J72) -> Nadcházející | S4: =IF('Seznam zápasů'!A28="","",'Seznam zápasů'!A28) -> 46285 | T4: =IF('Seznam zápasů'!B28="","",'Seznam zápasů'!B28) -> Ne | U4: =IF('Seznam zápasů'!D28="","",'Seznam zápasů'!D28) -> II. Liga | V4: =IF('Seznam zápasů'!E28="","",'Seznam zápasů'!E28) -> BA Roudnice | W4: =IF('Seznam zápasů'!F28="","",'Seznam zápasů'!F28) -> 009 | X4: =IF('Seznam zápasů'!G28="","",'Seznam zápasů'!G28) | Y4: =IF('Seznam zápasů'!H28="","",'Seznam zápasů'!H28) | Z4: =IF('Seznam zápasů'!I28="","",'Seznam zápasů'!I28) | AA4: =IF('Seznam zápasů'!J28="","",'Seznam zápasů'!J28) -> Nadcházející | AB4: =IF('Seznam zápasů'!A57="","",'Seznam zápasů'!A57) -> 46298 | AC4: =IF('Seznam zápasů'!B57="","",'Seznam zápasů'!B57) -> So | AD4: =IF('Seznam zápasů'!D57="","",'Seznam zápasů'!D57) -> SBLŽ | AE4: =IF('Seznam zápasů'!E57="","",'Seznam zápasů'!E57) -> BC Kolín "B" | AF4: =IF('Seznam zápasů'!F57="","",'Seznam zápasů'!F57) -> 008 | AG4: =IF('Seznam zápasů'!G57="","",'Seznam zápasů'!G57) | AH4: =IF('Seznam zápasů'!H57="","",'Seznam zápasů'!H57) | AI4: =IF('Seznam zápasů'!I57="","",'Seznam zápasů'!I57) | AJ4: =IF('Seznam zápasů'!J57="","",'Seznam zápasů'!J57) -> Nadcházející | AK4: =IF('Seznam zápasů'!A58="","",'Seznam zápasů'!A58) -> 46298 | AL4: =IF('Seznam zápasů'!B58="","",'Seznam zápasů'!B58) -> So | AM4: =IF('Seznam zápasů'!D58="","",'Seznam zápasů'!D58) -> SBLŽ | AN4: =IF('Seznam zápasů'!E58="","",'Seznam zápasů'!E58) -> BK Sojky Pelhřimov | AO4: =IF('Seznam zápasů'!F58="","",'Seznam zápasů'!F58) -> 009 | AP4: =IF('Seznam zápasů'!G58="","",'Seznam zápasů'!G58) | AQ4: =IF('Seznam zápasů'!H58="","",'Seznam zápasů'!H58) | AR4: =IF('Seznam zápasů'!I58="","",'Seznam zápasů'!I58) | AS4: =IF('Seznam zápasů'!J58="","",'Seznam zápasů'!J58) -> Nadcházející | AT4: =IF('Seznam zápasů'!A39="","",'Seznam zápasů'!A39) -> 46292 | AU4: =IF('Seznam zápasů'!B39="","",'Seznam zápasů'!B39) -> Ne | AV4: =IF('Seznam zápasů'!D39="","",'Seznam zápasů'!D39) -> NRL | AW4: =IF('Seznam zápasů'!E39="","",'Seznam zápasů'!E39) -> BK Medvědi Tábor | AX4: =IF('Seznam zápasů'!F39="","",'Seznam zápasů'!F39) -> 19254 | AY4: =IF('Seznam zápasů'!G39="","",'Seznam zápasů'!G39) | AZ4: =IF('Seznam zápasů'!H39="","",'Seznam zápasů'!H39) | BA4: =IF('Seznam zápasů'!I39="","",'Seznam zápasů'!I39) | BB4: =IF('Seznam zápasů'!J39="","",'Seznam zápasů'!J39) -> Nadcházející | BC4: =IF('Seznam zápasů'!A20="","",'Seznam zápasů'!A20) -> 46285 | BD4: =IF('Seznam zápasů'!B20="","",'Seznam zápasů'!B20) -> Ne | BE4: =IF('Seznam zápasů'!D20="","",'Seznam zápasů'!D20) -> nadreg. liga | BF4: =IF('Seznam zápasů'!E20="","",'Seznam zápasů'!E20) -> BC Kolín B | BG4: =IF('Seznam zápasů'!F20="","",'Seznam zápasů'!F20) -> 17123 | BH4: =IF('Seznam zápasů'!G20="","",'Seznam zápasů'!G20) | BI4: =IF('Seznam zápasů'!H20="","",'Seznam zápasů'!H20) | BJ4: =IF('Seznam zápasů'!I20="","",'Seznam zápasů'!I20) | BK4: =IF('Seznam zápasů'!J20="","",'Seznam zápasů'!J20) -> Nadcházející | BL4: =IF('Seznam zápasů'!A21="","",'Seznam zápasů'!A21) -> 46285 | BM4: =IF('Seznam zápasů'!B21="","",'Seznam zápasů'!B21) -> Ne | BN4: =IF('Seznam zápasů'!D21="","",'Seznam zápasů'!D21) -> celostátní liga | BO4: =IF('Seznam zápasů'!E21="","",'Seznam zápasů'!E21) -> Vlčice Žďár | BP4: =IF('Seznam zápasů'!F21="","",'Seznam zápasů'!F21) -> 06 | BQ4: =IF('Seznam zápasů'!G21="","",'Seznam zápasů'!G21) | BR4: =IF('Seznam zápasů'!H21="","",'Seznam zápasů'!H21) | BS4: =IF('Seznam zápasů'!I21="","",'Seznam zápasů'!I21) | BT4: =IF('Seznam zápasů'!J21="","",'Seznam zápasů'!J21) -> Nadcházející | BU4: =IF('Seznam zápasů'!A22="","",'Seznam zápasů'!A22) -> 46285 | BV4: =IF('Seznam zápasů'!B22="","",'Seznam zápasů'!B22) -> Ne | BW4: =IF('Seznam zápasů'!D22="","",'Seznam zápasů'!D22) -> nadreg. liga | BX4: =IF('Seznam zápasů'!E22="","",'Seznam zápasů'!E22) -> BK Strakonice B | BY4: =IF('Seznam zápasů'!F22="","",'Seznam zápasů'!F22) -> 17540 | BZ4: =IF('Seznam zápasů'!G22="","",'Seznam zápasů'!G22) | CA4: =IF('Seznam zápasů'!H22="","",'Seznam zápasů'!H22) | CB4: =IF('Seznam zápasů'!I22="","",'Seznam zápasů'!I22) | CC4: =IF('Seznam zápasů'!J22="","",'Seznam zápasů'!J22) -> Nadcházející | CD4: =IF('Seznam zápasů'!A42="","",'Seznam zápasů'!A42) -> 46292 | CE4: =IF('Seznam zápasů'!B42="","",'Seznam zápasů'!B42) -> Ne | CF4: =IF('Seznam zápasů'!D42="","",'Seznam zápasů'!D42) -> žákovská liga | CG4: =IF('Seznam zápasů'!E42="","",'Seznam zápasů'!E42) -> BK Medvědi Tábor | CH4: =IF('Seznam zápasů'!F42="","",'Seznam zápasů'!F42) -> 011 | CI4: =IF('Seznam zápasů'!G42="","",'Seznam zápasů'!G42) | CJ4: =IF('Seznam zápasů'!H42="","",'Seznam zápasů'!H42) | CK4: =IF('Seznam zápasů'!I42="","",'Seznam zápasů'!I42) | CL4: =IF('Seznam zápasů'!J42="","",'Seznam zápasů'!J42) -> Nadcházející | CM4: =IF('Seznam zápasů'!A43="","",'Seznam zápasů'!A43) -> 46292 | CN4: =IF('Seznam zápasů'!B43="","",'Seznam zápasů'!B43) -> Ne | CO4: =IF('Seznam zápasů'!D43="","",'Seznam zápasů'!D43) -> žákovská liga | CP4: =IF('Seznam zápasů'!E43="","",'Seznam zápasů'!E43) -> BK Levhartice Chomutov | CQ4: =IF('Seznam zápasů'!F43="","",'Seznam zápasů'!F43) -> 10 | CR4: =IF('Seznam zápasů'!G43="","",'Seznam zápasů'!G43) | CS4: =IF('Seznam zápasů'!H43="","",'Seznam zápasů'!H43) | CT4: =IF('Seznam zápasů'!I43="","",'Seznam zápasů'!I43) | CU4: =IF('Seznam zápasů'!J43="","",'Seznam zápasů'!J43) -> Nadcházející | CV4: =IF('Seznam zápasů'!A44="","",'Seznam zápasů'!A44) -> 46292 | CW4: =IF('Seznam zápasů'!B44="","",'Seznam zápasů'!B44) -> Ne | CX4: =IF('Seznam zápasů'!D44="","",'Seznam zápasů'!D44) -> nadreg. Liga | CY4: =IF('Seznam zápasů'!E44="","",'Seznam zápasů'!E44) -> AŠ Mladá Boleslav | CZ4: =IF('Seznam zápasů'!F44="","",'Seznam zápasů'!F44) -> 026 | DA4: =IF('Seznam zápasů'!G44="","",'Seznam zápasů'!G44) | DB4: =IF('Seznam zápasů'!H44="","",'Seznam zápasů'!H44) | DC4: =IF('Seznam zápasů'!I44="","",'Seznam zápasů'!I44) | DD4: =IF('Seznam zápasů'!J44="","",'Seznam zápasů'!J44) -> Nadcházející | DE4: =IF('Seznam zápasů'!A15="","",'Seznam zápasů'!A15) -> 46284 | DF4: =IF('Seznam zápasů'!B15="","",'Seznam zápasů'!B15) -> So | DG4: =IF('Seznam zápasů'!D15="","",'Seznam zápasů'!D15) -> žákovská liga | DH4: =IF('Seznam zápasů'!E15="","",'Seznam zápasů'!E15) -> BK Brandýs | DI4: =IF('Seznam zápasů'!F15="","",'Seznam zápasů'!F15) -> 096 | DJ4: =IF('Seznam zápasů'!G15="","",'Seznam zápasů'!G15) | DK4: =IF('Seznam zápasů'!H15="","",'Seznam zápasů'!H15) | DL4: =IF('Seznam zápasů'!I15="","",'Seznam zápasů'!I15) | DM4: =IF('Seznam zápasů'!J15="","",'Seznam zápasů'!J15) -> Nadcházející | DN4: =IF('Seznam zápasů'!A27="","",'Seznam zápasů'!A27) -> 46285 | DO4: =IF('Seznam zápasů'!B27="","",'Seznam zápasů'!B27) -> Ne | DP4: =IF('Seznam zápasů'!D27="","",'Seznam zápasů'!D27) -> žákovská liga | DQ4: =IF('Seznam zápasů'!E27="","",'Seznam zápasů'!E27) -> BK Blansko | DR4: =IF('Seznam zápasů'!F27="","",'Seznam zápasů'!F27) -> 124 | DS4: =IF('Seznam zápasů'!G27="","",'Seznam zápasů'!G27) | DT4: =IF('Seznam zápasů'!H27="","",'Seznam zápasů'!H27) | DU4: =IF('Seznam zápasů'!I27="","",'Seznam zápasů'!I27) | DV4: =IF('Seznam zápasů'!J27="","",'Seznam zápasů'!J27) -> Nadcházející | DW4: =IF('Seznam zápasů'!A55="","",'Seznam zápasů'!A55) -> 46298 | DX4: =IF('Seznam zápasů'!B55="","",'Seznam zápasů'!B55) -> So | DY4: =IF('Seznam zápasů'!D55="","",'Seznam zápasů'!D55) -> nadreg. liga | DZ4: =IF('Seznam zápasů'!E55="","",'Seznam zápasů'!E55) -> Slovan Varnsdorf | EA4: =IF('Seznam zápasů'!F55="","",'Seznam zápasů'!F55) -> 006 | EB4: =IF('Seznam zápasů'!G55="","",'Seznam zápasů'!G55) | EC4: =IF('Seznam zápasů'!H55="","",'Seznam zápasů'!H55) | ED4: =IF('Seznam zápasů'!I55="","",'Seznam zápasů'!I55) | EE4: =IF('Seznam zápasů'!J55="","",'Seznam zápasů'!J55) -> Nadcházející | EF4: =IF('Seznam zápasů'!A32="","",'Seznam zápasů'!A32) -> 46291 | EG4: =IF('Seznam zápasů'!B32="","",'Seznam zápasů'!B32) -> So | EH4: =IF('Seznam zápasů'!D32="","",'Seznam zápasů'!D32) -> KP + kval. o NF | EI4: =IF('Seznam zápasů'!E32="","",'Seznam zápasů'!E32) -> BK Český Brod | EJ4: =IF('Seznam zápasů'!F32="","",'Seznam zápasů'!F32) -> 002 | EK4: =IF('Seznam zápasů'!G32="","",'Seznam zápasů'!G32) | EL4: =IF('Seznam zápasů'!H32="","",'Seznam zápasů'!H32) | EM4: =IF('Seznam zápasů'!I32="","",'Seznam zápasů'!I32) | EN4: =IF('Seznam zápasů'!J32="","",'Seznam zápasů'!J32) -> Nadcházející | EO4: =IF('Seznam zápasů'!A49="","",'Seznam zápasů'!A49) -> 46298 | EP4: =IF('Seznam zápasů'!B49="","",'Seznam zápasů'!B49) -> So | EQ4: =IF('Seznam zápasů'!D49="","",'Seznam zápasů'!D49) -> KP + kval. o NF | ER4: =IF('Seznam zápasů'!E49="","",'Seznam zápasů'!E49) -> BK Brandýs | ES4: =IF('Seznam zápasů'!F49="","",'Seznam zápasů'!F49) -> 2x 005,041 | ET4: =IF('Seznam zápasů'!G49="","",'Seznam zápasů'!G49) | EU4: =IF('Seznam zápasů'!H49="","",'Seznam zápasů'!H49) | EV4: =IF('Seznam zápasů'!I49="","",'Seznam zápasů'!I49) | EW4: =IF('Seznam zápasů'!J49="","",'Seznam zápasů'!J49) -> Nadcházející | EX4: =IF('Seznam zápasů'!A31="","",'Seznam zápasů'!A31) -> 46291 | EY4: =IF('Seznam zápasů'!B31="","",'Seznam zápasů'!B31) -> So | EZ4: =IF('Seznam zápasů'!D31="","",'Seznam zápasů'!D31) -> KP + kval. o NF | FA4: =IF('Seznam zápasů'!E31="","",'Seznam zápasů'!E31) -> BA Nymburk | FB4: =IF('Seznam zápasů'!F31="","",'Seznam zápasů'!F31) -> 2x 004,052 | FC4: =IF('Seznam zápasů'!G31="","",'Seznam zápasů'!G31) | FD4: =IF('Seznam zápasů'!H31="","",'Seznam zápasů'!H31) | FE4: =IF('Seznam zápasů'!I31="","",'Seznam zápasů'!I31) | FF4: =IF('Seznam zápasů'!J31="","",'Seznam zápasů'!J31) -> Nadcházející | FG4: =IF('Seznam zápasů'!A85="","",'Seznam zápasů'!A85) -> 46312 | FH4: =IF('Seznam zápasů'!B85="","",'Seznam zápasů'!B85) -> So | FI4: =IF('Seznam zápasů'!D85="","",'Seznam zápasů'!D85) -> KP | FJ4: =IF('Seznam zápasů'!E85="","",'Seznam zápasů'!E85) -> BK Mělník | FK4: =IF('Seznam zápasů'!F85="","",'Seznam zápasů'!F85) -> 2x 002,022 | FL4: =IF('Seznam zápasů'!G85="","",'Seznam zápasů'!G85) | FM4: =IF('Seznam zápasů'!H85="","",'Seznam zápasů'!H85) | FN4: =IF('Seznam zápasů'!I85="","",'Seznam zápasů'!I85) | FO4: =IF('Seznam zápasů'!J85="","",'Seznam zápasů'!J85) -> Nadcházející | FP4: =IF('Seznam zápasů'!A8="","",'Seznam zápasů'!A8) -> 46278 | FQ4: =IF('Seznam zápasů'!B8="","",'Seznam zápasů'!B8) -> Ne | FR4: =IF('Seznam zápasů'!D8="","",'Seznam zápasů'!D8) -> KP + kval. o NF | FS4: =IF('Seznam zápasů'!E8="","",'Seznam zápasů'!E8) -> Sokol Nehvizdy | FT4: =IF('Seznam zápasů'!F8="","",'Seznam zápasů'!F8) -> 011 | FU4: =IF('Seznam zápasů'!G8="","",'Seznam zápasů'!G8) | FV4: =IF('Seznam zápasů'!H8="","",'Seznam zápasů'!H8) | FW4: =IF('Seznam zápasů'!I8="","",'Seznam zápasů'!I8) | FX4: =IF('Seznam zápasů'!J8="","",'Seznam zápasů'!J8) -> Nadcházející | FY4: =IF('Seznam zápasů'!A51="","",'Seznam zápasů'!A51) -> 46298 | FZ4: =IF('Seznam zápasů'!B51="","",'Seznam zápasů'!B51) -> So | GA4: =IF('Seznam zápasů'!D51="","",'Seznam zápasů'!D51) -> KP + kval. o NF | GB4: =IF('Seznam zápasů'!E51="","",'Seznam zápasů'!E51) -> BC Kolín | GC4: =IF('Seznam zápasů'!F51="","",'Seznam zápasů'!F51) -> 2x 005,033 | GD4: =IF('Seznam zápasů'!G51="","",'Seznam zápasů'!G51) | GE4: =IF('Seznam zápasů'!H51="","",'Seznam zápasů'!H51) | GF4: =IF('Seznam zápasů'!I51="","",'Seznam zápasů'!I51) | GG4: =IF('Seznam zápasů'!J51="","",'Seznam zápasů'!J51) -> Nadcházející | GH4: =IF('Seznam zápasů'!A71="","",'Seznam zápasů'!A71) -> 46305 | GI4: =IF('Seznam zápasů'!B71="","",'Seznam zápasů'!B71) -> So | GJ4: =IF('Seznam zápasů'!D71="","",'Seznam zápasů'!D71) -> KP + kval. o NF | GK4: =IF('Seznam zápasů'!E71="","",'Seznam zápasů'!E71) -> BC Slaný | GL4: =IF('Seznam zápasů'!F71="","",'Seznam zápasů'!F71) -> 2x 005,026 | GM4: =IF('Seznam zápasů'!G71="","",'Seznam zápasů'!G71) | GN4: =IF('Seznam zápasů'!H71="","",'Seznam zápasů'!H71) | GO4: =IF('Seznam zápasů'!I71="","",'Seznam zápasů'!I71) | GP4: =IF('Seznam zápasů'!J71="","",'Seznam zápasů'!J71) -> Nadcházející | GQ4: =IF('Seznam zápasů'!A87="","",'Seznam zápasů'!A87) -> 46312 | GR4: =IF('Seznam zápasů'!B87="","",'Seznam zápasů'!B87) -> So | GS4: =IF('Seznam zápasů'!D87="","",'Seznam zápasů'!D87) -> KP | GT4: =IF('Seznam zápasů'!E87="","",'Seznam zápasů'!E87) -> TJ AŚ Mladá Boleslav | GU4: =IF('Seznam zápasů'!F87="","",'Seznam zápasů'!F87) -> 2x 004,024 | GV4: =IF('Seznam zápasů'!G87="","",'Seznam zápasů'!G87) | GW4: =IF('Seznam zápasů'!H87="","",'Seznam zápasů'!H87) | GX4: =IF('Seznam zápasů'!I87="","",'Seznam zápasů'!I87) | GY4: =IF('Seznam zápasů'!J87="","",'Seznam zápasů'!J87) -> Nadcházející
A5: =IF('Seznam zápasů'!A52="","",'Seznam zápasů'!A52) -> 46298 | B5: =IF('Seznam zápasů'!B52="","",'Seznam zápasů'!B52) -> So | C5: =IF('Seznam zápasů'!D52="","",'Seznam zápasů'!D52) -> SBLM | D5: =IF('Seznam zápasů'!E52="","",'Seznam zápasů'!E52) -> BK Brandýs n.L. "B" | E5: =IF('Seznam zápasů'!F52="","",'Seznam zápasů'!F52) -> 013 | F5: =IF('Seznam zápasů'!G52="","",'Seznam zápasů'!G52) | G5: =IF('Seznam zápasů'!H52="","",'Seznam zápasů'!H52) | H5: =IF('Seznam zápasů'!I52="","",'Seznam zápasů'!I52) | I5: =IF('Seznam zápasů'!J52="","",'Seznam zápasů'!J52) -> Nadcházející | J5: =IF('Seznam zápasů'!A78="","",'Seznam zápasů'!A78) -> 46306 | K5: =IF('Seznam zápasů'!B78="","",'Seznam zápasů'!B78) -> Ne | L5: =IF('Seznam zápasů'!D78="","",'Seznam zápasů'!D78) -> KP | M5: =IF('Seznam zápasů'!E78="","",'Seznam zápasů'!E78) -> BK Mělník | N5: =IF('Seznam zápasů'!F78="","",'Seznam zápasů'!F78) -> 013 | O5: =IF('Seznam zápasů'!G78="","",'Seznam zápasů'!G78) | P5: =IF('Seznam zápasů'!H78="","",'Seznam zápasů'!H78) | Q5: =IF('Seznam zápasů'!I78="","",'Seznam zápasů'!I78) | R5: =IF('Seznam zápasů'!J78="","",'Seznam zápasů'!J78) -> Nadcházející | S5: =IF('Seznam zápasů'!A56="","",'Seznam zápasů'!A56) -> 46298 | T5: =IF('Seznam zápasů'!B56="","",'Seznam zápasů'!B56) -> So | U5: =IF('Seznam zápasů'!D56="","",'Seznam zápasů'!D56) -> II. Liga | V5: =IF('Seznam zápasů'!E56="","",'Seznam zápasů'!E56) -> BA Louny | W5: =IF('Seznam zápasů'!F56="","",'Seznam zápasů'!F56) -> 014 | X5: =IF('Seznam zápasů'!G56="","",'Seznam zápasů'!G56) | Y5: =IF('Seznam zápasů'!H56="","",'Seznam zápasů'!H56) | Z5: =IF('Seznam zápasů'!I56="","",'Seznam zápasů'!I56) | AA5: =IF('Seznam zápasů'!J56="","",'Seznam zápasů'!J56) -> Nadcházející | AB5: =IF('Seznam zápasů'!A66="","",'Seznam zápasů'!A66) -> 46299 | AC5: =IF('Seznam zápasů'!B66="","",'Seznam zápasů'!B66) -> Ne | AD5: =IF('Seznam zápasů'!D66="","",'Seznam zápasů'!D66) -> SBLŽ | AE5: =IF('Seznam zápasů'!E66="","",'Seznam zápasů'!E66) -> BK Sojky Pelhřimov | AF5: =IF('Seznam zápasů'!F66="","",'Seznam zápasů'!F66) -> 014 | AG5: =IF('Seznam zápasů'!G66="","",'Seznam zápasů'!G66) | AH5: =IF('Seznam zápasů'!H66="","",'Seznam zápasů'!H66) | AI5: =IF('Seznam zápasů'!I66="","",'Seznam zápasů'!I66) | AJ5: =IF('Seznam zápasů'!J66="","",'Seznam zápasů'!J66) -> Nadcházející | AK5: =IF('Seznam zápasů'!A67="","",'Seznam zápasů'!A67) -> 46299 | AL5: =IF('Seznam zápasů'!B67="","",'Seznam zápasů'!B67) -> Ne | AM5: =IF('Seznam zápasů'!D67="","",'Seznam zápasů'!D67) -> SBLŽ | AN5: =IF('Seznam zápasů'!E67="","",'Seznam zápasů'!E67) -> BC Kolín "B" | AO5: =IF('Seznam zápasů'!F67="","",'Seznam zápasů'!F67) -> 012 | AP5: =IF('Seznam zápasů'!G67="","",'Seznam zápasů'!G67) | AQ5: =IF('Seznam zápasů'!H67="","",'Seznam zápasů'!H67) | AR5: =IF('Seznam zápasů'!I67="","",'Seznam zápasů'!I67) | AS5: =IF('Seznam zápasů'!J67="","",'Seznam zápasů'!J67) -> Nadcházející | AT5: =IF('Seznam zápasů'!A68="","",'Seznam zápasů'!A68) -> 46305 | AU5: =IF('Seznam zápasů'!B68="","",'Seznam zápasů'!B68) -> So | AV5: =IF('Seznam zápasů'!D68="","",'Seznam zápasů'!D68) -> NRL | AW5: =IF('Seznam zápasů'!E68="","",'Seznam zápasů'!E68) -> Radotínský SK | AX5: =IF('Seznam zápasů'!F68="","",'Seznam zápasů'!F68) -> 19231 | AY5: =IF('Seznam zápasů'!G68="","",'Seznam zápasů'!G68) | AZ5: =IF('Seznam zápasů'!H68="","",'Seznam zápasů'!H68) | BA5: =IF('Seznam zápasů'!I68="","",'Seznam zápasů'!I68) | BB5: =IF('Seznam zápasů'!J68="","",'Seznam zápasů'!J68) -> Nadcházející | BC5: =IF('Seznam zápasů'!A45="","",'Seznam zápasů'!A45) -> 46298 | BD5: =IF('Seznam zápasů'!B45="","",'Seznam zápasů'!B45) -> So | BE5: =IF('Seznam zápasů'!D45="","",'Seznam zápasů'!D45) -> nadreg. liga | BF5: =IF('Seznam zápasů'!E45="","",'Seznam zápasů'!E45) -> Basket Poděbrady B | BG5: =IF('Seznam zápasů'!F45="","",'Seznam zápasů'!F45) -> 17124 | BH5: =IF('Seznam zápasů'!G45="","",'Seznam zápasů'!G45) | BI5: =IF('Seznam zápasů'!H45="","",'Seznam zápasů'!H45) | BJ5: =IF('Seznam zápasů'!I45="","",'Seznam zápasů'!I45) | BK5: =IF('Seznam zápasů'!J45="","",'Seznam zápasů'!J45) -> Nadcházející | BL5: =IF('Seznam zápasů'!A46="","",'Seznam zápasů'!A46) -> 46298 | BM5: =IF('Seznam zápasů'!B46="","",'Seznam zápasů'!B46) -> So | BN5: =IF('Seznam zápasů'!D46="","",'Seznam zápasů'!D46) -> celostátní liga | BO5: =IF('Seznam zápasů'!E46="","",'Seznam zápasů'!E46) -> HB Basket Praha B | BP5: =IF('Seznam zápasů'!F46="","",'Seznam zápasů'!F46) -> 072 | BQ5: =IF('Seznam zápasů'!G46="","",'Seznam zápasů'!G46) | BR5: =IF('Seznam zápasů'!H46="","",'Seznam zápasů'!H46) | BS5: =IF('Seznam zápasů'!I46="","",'Seznam zápasů'!I46) | BT5: =IF('Seznam zápasů'!J46="","",'Seznam zápasů'!J46) -> Nadcházející | BU5: =IF('Seznam zápasů'!A47="","",'Seznam zápasů'!A47) -> 46298 | BV5: =IF('Seznam zápasů'!B47="","",'Seznam zápasů'!B47) -> So | BW5: =IF('Seznam zápasů'!D47="","",'Seznam zápasů'!D47) -> nadreg. liga | BX5: =IF('Seznam zápasů'!E47="","",'Seznam zápasů'!E47) -> PORG Basket | BY5: =IF('Seznam zápasů'!F47="","",'Seznam zápasů'!F47) -> 17548 | BZ5: =IF('Seznam zápasů'!G47="","",'Seznam zápasů'!G47) | CA5: =IF('Seznam zápasů'!H47="","",'Seznam zápasů'!H47) | CB5: =IF('Seznam zápasů'!I47="","",'Seznam zápasů'!I47) | CC5: =IF('Seznam zápasů'!J47="","",'Seznam zápasů'!J47) -> Nadcházející | CD5: =IF('Seznam zápasů'!A73="","",'Seznam zápasů'!A73) -> 46305 | CE5: =IF('Seznam zápasů'!B73="","",'Seznam zápasů'!B73) -> So | CF5: =IF('Seznam zápasů'!D73="","",'Seznam zápasů'!D73) -> žákovská liga | CG5: =IF('Seznam zápasů'!E73="","",'Seznam zápasů'!E73) -> Jižní Supi | CH5: =IF('Seznam zápasů'!F73="","",'Seznam zápasů'!F73) -> 015 | CI5: =IF('Seznam zápasů'!G73="","",'Seznam zápasů'!G73) | CJ5: =IF('Seznam zápasů'!H73="","",'Seznam zápasů'!H73) | CK5: =IF('Seznam zápasů'!I73="","",'Seznam zápasů'!I73) | CL5: =IF('Seznam zápasů'!J73="","",'Seznam zápasů'!J73) -> Nadcházející | CM5: =IF('Seznam zápasů'!A74="","",'Seznam zápasů'!A74) -> 46305 | CN5: =IF('Seznam zápasů'!B74="","",'Seznam zápasů'!B74) -> So | CO5: =IF('Seznam zápasů'!D74="","",'Seznam zápasů'!D74) -> žákovská liga | CP5: =IF('Seznam zápasů'!E74="","",'Seznam zápasů'!E74) -> Tigers České Budějovice | CQ5: =IF('Seznam zápasů'!F74="","",'Seznam zápasů'!F74) -> 016 | CR5: =IF('Seznam zápasů'!G74="","",'Seznam zápasů'!G74) | CS5: =IF('Seznam zápasů'!H74="","",'Seznam zápasů'!H74) | CT5: =IF('Seznam zápasů'!I74="","",'Seznam zápasů'!I74) | CU5: =IF('Seznam zápasů'!J74="","",'Seznam zápasů'!J74) -> Nadcházející | CV5: =IF('Seznam zápasů'!A75="","",'Seznam zápasů'!A75) -> 46305 | CW5: =IF('Seznam zápasů'!B75="","",'Seznam zápasů'!B75) -> So | CX5: =IF('Seznam zápasů'!D75="","",'Seznam zápasů'!D75) -> nadreg. Liga | CY5: =IF('Seznam zápasů'!E75="","",'Seznam zápasů'!E75) -> Sokol Pečky | CZ5: =IF('Seznam zápasů'!F75="","",'Seznam zápasů'!F75) -> 043 | DA5: =IF('Seznam zápasů'!G75="","",'Seznam zápasů'!G75) | DB5: =IF('Seznam zápasů'!H75="","",'Seznam zápasů'!H75) | DC5: =IF('Seznam zápasů'!I75="","",'Seznam zápasů'!I75) | DD5: =IF('Seznam zápasů'!J75="","",'Seznam zápasů'!J75) -> Nadcházející | DE5: =IF('Seznam zápasů'!A26="","",'Seznam zápasů'!A26) -> 46285 | DF5: =IF('Seznam zápasů'!B26="","",'Seznam zápasů'!B26) -> Ne | DG5: =IF('Seznam zápasů'!D26="","",'Seznam zápasů'!D26) -> žákovská liga | DH5: =IF('Seznam zápasů'!E26="","",'Seznam zápasů'!E26) -> Jižní Supi | DI5: =IF('Seznam zápasů'!F26="","",'Seznam zápasů'!F26) -> 099 | DJ5: =IF('Seznam zápasů'!G26="","",'Seznam zápasů'!G26) | DK5: =IF('Seznam zápasů'!H26="","",'Seznam zápasů'!H26) | DL5: =IF('Seznam zápasů'!I26="","",'Seznam zápasů'!I26) | DM5: =IF('Seznam zápasů'!J26="","",'Seznam zápasů'!J26) -> Nadcházející | DN5: =IF('Seznam zápasů'!A54="","",'Seznam zápasů'!A54) -> 46298 | DO5: =IF('Seznam zápasů'!B54="","",'Seznam zápasů'!B54) -> So | DP5: =IF('Seznam zápasů'!D54="","",'Seznam zápasů'!D54) -> žákovská liga | DQ5: =IF('Seznam zápasů'!E54="","",'Seznam zápasů'!E54) -> Žabiny Brno | DR5: =IF('Seznam zápasů'!F54="","",'Seznam zápasů'!F54) -> 127 | DS5: =IF('Seznam zápasů'!G54="","",'Seznam zápasů'!G54) | DT5: =IF('Seznam zápasů'!H54="","",'Seznam zápasů'!H54) | DU5: =IF('Seznam zápasů'!I54="","",'Seznam zápasů'!I54) | DV5: =IF('Seznam zápasů'!J54="","",'Seznam zápasů'!J54) -> Nadcházející | DW5: =IF('Seznam zápasů'!A92="","",'Seznam zápasů'!A92) -> 46312 | DX5: =IF('Seznam zápasů'!B92="","",'Seznam zápasů'!B92) -> So | DY5: =IF('Seznam zápasů'!D92="","",'Seznam zápasů'!D92) -> nadreg. liga | DZ5: =IF('Seznam zápasů'!E92="","",'Seznam zápasů'!E92) -> Basket Slovanka B | EA5: =IF('Seznam zápasů'!F92="","",'Seznam zápasů'!F92) -> 011 | EB5: =IF('Seznam zápasů'!G92="","",'Seznam zápasů'!G92) | EC5: =IF('Seznam zápasů'!H92="","",'Seznam zápasů'!H92) | ED5: =IF('Seznam zápasů'!I92="","",'Seznam zápasů'!I92) | EE5: =IF('Seznam zápasů'!J92="","",'Seznam zápasů'!J92) -> Nadcházející | EF5: =IF('Seznam zápasů'!A40="","",'Seznam zápasů'!A40) -> 46292 | EG5: =IF('Seznam zápasů'!B40="","",'Seznam zápasů'!B40) -> Ne | EH5: =IF('Seznam zápasů'!D40="","",'Seznam zápasů'!D40) -> KP + kval. o NF | EI5: =IF('Seznam zápasů'!E40="","",'Seznam zápasů'!E40) -> NBK Milovice | EJ5: =IF('Seznam zápasů'!F40="","",'Seznam zápasů'!F40) -> 004 | EK5: =IF('Seznam zápasů'!G40="","",'Seznam zápasů'!G40) | EL5: =IF('Seznam zápasů'!H40="","",'Seznam zápasů'!H40) | EM5: =IF('Seznam zápasů'!I40="","",'Seznam zápasů'!I40) | EN5: =IF('Seznam zápasů'!J40="","",'Seznam zápasů'!J40) -> Nadcházející | EO5: =IF('Seznam zápasů'!A86="","",'Seznam zápasů'!A86) -> 46312 | EP5: =IF('Seznam zápasů'!B86="","",'Seznam zápasů'!B86) -> So | EQ5: =IF('Seznam zápasů'!D86="","",'Seznam zápasů'!D86) -> KP + kval. o NF | ER5: =IF('Seznam zápasů'!E86="","",'Seznam zápasů'!E86) -> TJ AŠ Mladá Boleslav | ES5: =IF('Seznam zápasů'!F86="","",'Seznam zápasů'!F86) -> 2x 011, 047 | ET5: =IF('Seznam zápasů'!G86="","",'Seznam zápasů'!G86) | EU5: =IF('Seznam zápasů'!H86="","",'Seznam zápasů'!H86) | EV5: =IF('Seznam zápasů'!I86="","",'Seznam zápasů'!I86) | EW5: =IF('Seznam zápasů'!J86="","",'Seznam zápasů'!J86) -> Nadcházející | EX5: =IF('Seznam zápasů'!A69="","",'Seznam zápasů'!A69) -> 46305 | EY5: =IF('Seznam zápasů'!B69="","",'Seznam zápasů'!B69) -> So | EZ5: =IF('Seznam zápasů'!D69="","",'Seznam zápasů'!D69) -> KP + kval. o NF | FA5: =IF('Seznam zápasů'!E69="","",'Seznam zápasů'!E69) -> BK Brandýs | FB5: =IF('Seznam zápasů'!F69="","",'Seznam zápasů'!F69) -> 2x 015,060 | FC5: =IF('Seznam zápasů'!G69="","",'Seznam zápasů'!G69) | FD5: =IF('Seznam zápasů'!H69="","",'Seznam zápasů'!H69) | FE5: =IF('Seznam zápasů'!I69="","",'Seznam zápasů'!I69) | FF5: =IF('Seznam zápasů'!J69="","",'Seznam zápasů'!J69) -> Nadcházející | FG5: =IF('Seznam zápasů'!A122="","",'Seznam zápasů'!A122) -> 46333 | FH5: =IF('Seznam zápasů'!B122="","",'Seznam zápasů'!B122) -> So | FI5: =IF('Seznam zápasů'!D122="","",'Seznam zápasů'!D122) -> KP | FJ5: =IF('Seznam zápasů'!E122="","",'Seznam zápasů'!E122) -> BC Slaný | FK5: =IF('Seznam zápasů'!F122="","",'Seznam zápasů'!F122) -> 2x 006,26 | FL5: =IF('Seznam zápasů'!G122="","",'Seznam zápasů'!G122) | FM5: =IF('Seznam zápasů'!H122="","",'Seznam zápasů'!H122) | FN5: =IF('Seznam zápasů'!I122="","",'Seznam zápasů'!I122) | FO5: =IF('Seznam zápasů'!J122="","",'Seznam zápasů'!J122) -> Nadcházející | FP5: =IF('Seznam zápasů'!A24="","",'Seznam zápasů'!A24) -> 46285 | FQ5: =IF('Seznam zápasů'!B24="","",'Seznam zápasů'!B24) -> Ne | FR5: =IF('Seznam zápasů'!D24="","",'Seznam zápasů'!D24) -> KP + kval. o NF | FS5: =IF('Seznam zápasů'!E24="","",'Seznam zápasů'!E24) -> BC Slaný | FT5: =IF('Seznam zápasů'!F24="","",'Seznam zápasů'!F24) -> 030 | FU5: =IF('Seznam zápasů'!G24="","",'Seznam zápasů'!G24) | FV5: =IF('Seznam zápasů'!H24="","",'Seznam zápasů'!H24) | FW5: =IF('Seznam zápasů'!I24="","",'Seznam zápasů'!I24) | FX5: =IF('Seznam zápasů'!J24="","",'Seznam zápasů'!J24) -> Nadcházející | FY5: =IF('Seznam zápasů'!A88="","",'Seznam zápasů'!A88) -> 46312 | FZ5: =IF('Seznam zápasů'!B88="","",'Seznam zápasů'!B88) -> So | GA5: =IF('Seznam zápasů'!D88="","",'Seznam zápasů'!D88) -> KP + kval. o NF | GB5: =IF('Seznam zápasů'!E88="","",'Seznam zápasů'!E88) -> BC Slaný | GC5: =IF('Seznam zápasů'!F88="","",'Seznam zápasů'!F88) -> 2x 012,040 | GD5: =IF('Seznam zápasů'!G88="","",'Seznam zápasů'!G88) | GE5: =IF('Seznam zápasů'!H88="","",'Seznam zápasů'!H88) | GF5: =IF('Seznam zápasů'!I88="","",'Seznam zápasů'!I88) | GG5: =IF('Seznam zápasů'!J88="","",'Seznam zápasů'!J88) -> Nadcházející | GH5: =IF('Seznam zápasů'!A107="","",'Seznam zápasů'!A107) -> 46319 | GI5: =IF('Seznam zápasů'!B107="","",'Seznam zápasů'!B107) -> So | GJ5: =IF('Seznam zápasů'!D107="","",'Seznam zápasů'!D107) -> KP + kval. o NF | GK5: =IF('Seznam zápasů'!E107="","",'Seznam zápasů'!E107) -> BK Brandýs nad Labem | GL5: =IF('Seznam zápasů'!F107="","",'Seznam zápasů'!F107) -> 2x 008,027 | GM5: =IF('Seznam zápasů'!G107="","",'Seznam zápasů'!G107) | GN5: =IF('Seznam zápasů'!H107="","",'Seznam zápasů'!H107) | GO5: =IF('Seznam zápasů'!I107="","",'Seznam zápasů'!I107) | GP5: =IF('Seznam zápasů'!J107="","",'Seznam zápasů'!J107) -> Nadcházející | GQ5: =IF('Seznam zápasů'!A158="","",'Seznam zápasů'!A158) -> 46347 | GR5: =IF('Seznam zápasů'!B158="","",'Seznam zápasů'!B158) -> So | GS5: =IF('Seznam zápasů'!D158="","",'Seznam zápasů'!D158) -> KP | GT5: =IF('Seznam zápasů'!E158="","",'Seznam zápasů'!E158) -> BK Mělník | GU5: =IF('Seznam zápasů'!F158="","",'Seznam zápasů'!F158) -> 2x 008,028 | GV5: =IF('Seznam zápasů'!G158="","",'Seznam zápasů'!G158) | GW5: =IF('Seznam zápasů'!H158="","",'Seznam zápasů'!H158) | GX5: =IF('Seznam zápasů'!I158="","",'Seznam zápasů'!I158) | GY5: =IF('Seznam zápasů'!J158="","",'Seznam zápasů'!J158) -> Nadcházející
A6: =IF('Seznam zápasů'!A62="","",'Seznam zápasů'!A62) -> 46299 | B6: =IF('Seznam zápasů'!B62="","",'Seznam zápasů'!B62) -> Ne | C6: =IF('Seznam zápasů'!D62="","",'Seznam zápasů'!D62) -> SBLM | D6: =IF('Seznam zápasů'!E62="","",'Seznam zápasů'!E62) -> AŠ Mladá Boleslav | E6: =IF('Seznam zápasů'!F62="","",'Seznam zápasů'!F62) -> 018 | F6: =IF('Seznam zápasů'!G62="","",'Seznam zápasů'!G62) | G6: =IF('Seznam zápasů'!H62="","",'Seznam zápasů'!H62) | H6: =IF('Seznam zápasů'!I62="","",'Seznam zápasů'!I62) | I6: =IF('Seznam zápasů'!J62="","",'Seznam zápasů'!J62) -> Nadcházející | J6: =IF('Seznam zápasů'!A109="","",'Seznam zápasů'!A109) -> 46319 | K6: =IF('Seznam zápasů'!B109="","",'Seznam zápasů'!B109) -> So | L6: =IF('Seznam zápasů'!D109="","",'Seznam zápasů'!D109) -> KP | M6: =IF('Seznam zápasů'!E109="","",'Seznam zápasů'!E109) -> BK Sadská | N6: =IF('Seznam zápasů'!F109="","",'Seznam zápasů'!F109) -> 016 | O6: =IF('Seznam zápasů'!G109="","",'Seznam zápasů'!G109) | P6: =IF('Seznam zápasů'!H109="","",'Seznam zápasů'!H109) | Q6: =IF('Seznam zápasů'!I109="","",'Seznam zápasů'!I109) | R6: =IF('Seznam zápasů'!J109="","",'Seznam zápasů'!J109) -> Nadcházející | S6: =IF('Seznam zápasů'!A65="","",'Seznam zápasů'!A65) -> 46299 | T6: =IF('Seznam zápasů'!B65="","",'Seznam zápasů'!B65) -> Ne | U6: =IF('Seznam zápasů'!D65="","",'Seznam zápasů'!D65) -> II. Liga | V6: =IF('Seznam zápasů'!E65="","",'Seznam zápasů'!E65) -> Sokol Kladno | W6: =IF('Seznam zápasů'!F65="","",'Seznam zápasů'!F65) -> 018 | X6: =IF('Seznam zápasů'!G65="","",'Seznam zápasů'!G65) | Y6: =IF('Seznam zápasů'!H65="","",'Seznam zápasů'!H65) | Z6: =IF('Seznam zápasů'!I65="","",'Seznam zápasů'!I65) | AA6: =IF('Seznam zápasů'!J65="","",'Seznam zápasů'!J65) -> Nadcházející | AB6: =IF('Seznam zápasů'!A94="","",'Seznam zápasů'!A94) -> 46312 | AC6: =IF('Seznam zápasů'!B94="","",'Seznam zápasů'!B94) -> So | AD6: =IF('Seznam zápasů'!D94="","",'Seznam zápasů'!D94) -> SBLŽ | AE6: =IF('Seznam zápasů'!E94="","",'Seznam zápasů'!E94) -> BK Brandýs "B" | AF6: =IF('Seznam zápasů'!F94="","",'Seznam zápasů'!F94) -> 017 | AG6: =IF('Seznam zápasů'!G94="","",'Seznam zápasů'!G94) | AH6: =IF('Seznam zápasů'!H94="","",'Seznam zápasů'!H94) | AI6: =IF('Seznam zápasů'!I94="","",'Seznam zápasů'!I94) | AJ6: =IF('Seznam zápasů'!J94="","",'Seznam zápasů'!J94) -> Nadcházející | AK6: =IF('Seznam zápasů'!A95="","",'Seznam zápasů'!A95) -> 46312 | AL6: =IF('Seznam zápasů'!B95="","",'Seznam zápasů'!B95) -> So | AM6: =IF('Seznam zápasů'!D95="","",'Seznam zápasů'!D95) -> SBLŽ | AN6: =IF('Seznam zápasů'!E95="","",'Seznam zápasů'!E95) -> Slavoj Český Brod | AO6: =IF('Seznam zápasů'!F95="","",'Seznam zápasů'!F95) -> 018 | AP6: =IF('Seznam zápasů'!G95="","",'Seznam zápasů'!G95) | AQ6: =IF('Seznam zápasů'!H95="","",'Seznam zápasů'!H95) | AR6: =IF('Seznam zápasů'!I95="","",'Seznam zápasů'!I95) | AS6: =IF('Seznam zápasů'!J95="","",'Seznam zápasů'!J95) -> Nadcházející | AT6: =IF('Seznam zápasů'!A76="","",'Seznam zápasů'!A76) -> 46306 | AU6: =IF('Seznam zápasů'!B76="","",'Seznam zápasů'!B76) -> Ne | AV6: =IF('Seznam zápasů'!D76="","",'Seznam zápasů'!D76) -> NRL | AW6: =IF('Seznam zápasů'!E76="","",'Seznam zápasů'!E76) -> BK Příbram 2000 | AX6: =IF('Seznam zápasů'!F76="","",'Seznam zápasů'!F76) -> 19235 | AY6: =IF('Seznam zápasů'!G76="","",'Seznam zápasů'!G76) | AZ6: =IF('Seznam zápasů'!H76="","",'Seznam zápasů'!H76) | BA6: =IF('Seznam zápasů'!I76="","",'Seznam zápasů'!I76) | BB6: =IF('Seznam zápasů'!J76="","",'Seznam zápasů'!J76) -> Nadcházející | BC6: =IF('Seznam zápasů'!A59="","",'Seznam zápasů'!A59) -> 46299 | BD6: =IF('Seznam zápasů'!B59="","",'Seznam zápasů'!B59) -> Ne | BE6: =IF('Seznam zápasů'!D59="","",'Seznam zápasů'!D59) -> nadreg. liga | BF6: =IF('Seznam zápasů'!E59="","",'Seznam zápasů'!E59) -> AŠ Mladá Boleslav | BG6: =IF('Seznam zápasů'!F59="","",'Seznam zápasů'!F59) -> 17131 | BH6: =IF('Seznam zápasů'!G59="","",'Seznam zápasů'!G59) | BI6: =IF('Seznam zápasů'!H59="","",'Seznam zápasů'!H59) | BJ6: =IF('Seznam zápasů'!I59="","",'Seznam zápasů'!I59) | BK6: =IF('Seznam zápasů'!J59="","",'Seznam zápasů'!J59) -> Nadcházející | BL6: =IF('Seznam zápasů'!A60="","",'Seznam zápasů'!A60) -> 46299 | BM6: =IF('Seznam zápasů'!B60="","",'Seznam zápasů'!B60) -> Ne | BN6: =IF('Seznam zápasů'!D60="","",'Seznam zápasů'!D60) -> celostátní liga | BO6: =IF('Seznam zápasů'!E60="","",'Seznam zápasů'!E60) -> TJ AŠ Mladá Boleslav | BP6: =IF('Seznam zápasů'!F60="","",'Seznam zápasů'!F60) -> 075 | BQ6: =IF('Seznam zápasů'!G60="","",'Seznam zápasů'!G60) | BR6: =IF('Seznam zápasů'!H60="","",'Seznam zápasů'!H60) | BS6: =IF('Seznam zápasů'!I60="","",'Seznam zápasů'!I60) | BT6: =IF('Seznam zápasů'!J60="","",'Seznam zápasů'!J60) -> Nadcházející | BU6: =IF('Seznam zápasů'!A61="","",'Seznam zápasů'!A61) -> 46299 | BV6: =IF('Seznam zápasů'!B61="","",'Seznam zápasů'!B61) -> Ne | BW6: =IF('Seznam zápasů'!D61="","",'Seznam zápasů'!D61) -> nadreg. liga | BX6: =IF('Seznam zápasů'!E61="","",'Seznam zápasů'!E61) -> Sokol Nusle B | BY6: =IF('Seznam zápasů'!F61="","",'Seznam zápasů'!F61) -> 17553 | BZ6: =IF('Seznam zápasů'!G61="","",'Seznam zápasů'!G61) | CA6: =IF('Seznam zápasů'!H61="","",'Seznam zápasů'!H61) | CB6: =IF('Seznam zápasů'!I61="","",'Seznam zápasů'!I61) | CC6: =IF('Seznam zápasů'!J61="","",'Seznam zápasů'!J61) -> Nadcházející | CD6: =IF('Seznam zápasů'!A79="","",'Seznam zápasů'!A79) -> 46306 | CE6: =IF('Seznam zápasů'!B79="","",'Seznam zápasů'!B79) -> Ne | CF6: =IF('Seznam zápasů'!D79="","",'Seznam zápasů'!D79) -> žákovská liga | CG6: =IF('Seznam zápasů'!E79="","",'Seznam zápasů'!E79) -> TJ Sokol Kbely | CH6: =IF('Seznam zápasů'!F79="","",'Seznam zápasů'!F79) -> 020 | CI6: =IF('Seznam zápasů'!G79="","",'Seznam zápasů'!G79) | CJ6: =IF('Seznam zápasů'!H79="","",'Seznam zápasů'!H79) | CK6: =IF('Seznam zápasů'!I79="","",'Seznam zápasů'!I79) | CL6: =IF('Seznam zápasů'!J79="","",'Seznam zápasů'!J79) -> Nadcházející | CM6: =IF('Seznam zápasů'!A80="","",'Seznam zápasů'!A80) -> 46306 | CN6: =IF('Seznam zápasů'!B80="","",'Seznam zápasů'!B80) -> Ne | CO6: =IF('Seznam zápasů'!D80="","",'Seznam zápasů'!D80) -> žákovská liga | CP6: =IF('Seznam zápasů'!E80="","",'Seznam zápasů'!E80) -> BK Strakonice | CQ6: =IF('Seznam zápasů'!F80="","",'Seznam zápasů'!F80) -> 020 | CR6: =IF('Seznam zápasů'!G80="","",'Seznam zápasů'!G80) | CS6: =IF('Seznam zápasů'!H80="","",'Seznam zápasů'!H80) | CT6: =IF('Seznam zápasů'!I80="","",'Seznam zápasů'!I80) | CU6: =IF('Seznam zápasů'!J80="","",'Seznam zápasů'!J80) -> Nadcházející | CV6: =IF('Seznam zápasů'!A81="","",'Seznam zápasů'!A81) -> 46306 | CW6: =IF('Seznam zápasů'!B81="","",'Seznam zápasů'!B81) -> Ne | CX6: =IF('Seznam zápasů'!D81="","",'Seznam zápasů'!D81) -> nadreg. Liga | CY6: =IF('Seznam zápasů'!E81="","",'Seznam zápasů'!E81) -> Basketbal Újezd nad Lesy | CZ6: =IF('Seznam zápasů'!F81="","",'Seznam zápasů'!F81) -> 048 | DA6: =IF('Seznam zápasů'!G81="","",'Seznam zápasů'!G81) | DB6: =IF('Seznam zápasů'!H81="","",'Seznam zápasů'!H81) | DC6: =IF('Seznam zápasů'!I81="","",'Seznam zápasů'!I81) | DD6: =IF('Seznam zápasů'!J81="","",'Seznam zápasů'!J81) -> Nadcházející | DE6: =IF('Seznam zápasů'!A53="","",'Seznam zápasů'!A53) -> 46298 | DF6: =IF('Seznam zápasů'!B53="","",'Seznam zápasů'!B53) -> So | DG6: =IF('Seznam zápasů'!D53="","",'Seznam zápasů'!D53) -> žákovská liga | DH6: =IF('Seznam zápasů'!E53="","",'Seznam zápasů'!E53) -> Slavia Tygři Praha B | DI6: =IF('Seznam zápasů'!F53="","",'Seznam zápasů'!F53) -> 102 | DJ6: =IF('Seznam zápasů'!G53="","",'Seznam zápasů'!G53) | DK6: =IF('Seznam zápasů'!H53="","",'Seznam zápasů'!H53) | DL6: =IF('Seznam zápasů'!I53="","",'Seznam zápasů'!I53) | DM6: =IF('Seznam zápasů'!J53="","",'Seznam zápasů'!J53) -> Nadcházející | DN6: =IF('Seznam zápasů'!A64="","",'Seznam zápasů'!A64) -> 46299 | DO6: =IF('Seznam zápasů'!B64="","",'Seznam zápasů'!B64) -> Ne | DP6: =IF('Seznam zápasů'!D64="","",'Seznam zápasů'!D64) -> žákovská liga | DQ6: =IF('Seznam zápasů'!E64="","",'Seznam zápasů'!E64) -> Žabiny Brno B | DR6: =IF('Seznam zápasů'!F64="","",'Seznam zápasů'!F64) -> 130 | DS6: =IF('Seznam zápasů'!G64="","",'Seznam zápasů'!G64) | DT6: =IF('Seznam zápasů'!H64="","",'Seznam zápasů'!H64) | DU6: =IF('Seznam zápasů'!I64="","",'Seznam zápasů'!I64) | DV6: =IF('Seznam zápasů'!J64="","",'Seznam zápasů'!J64) -> Nadcházející | DW6: =IF('Seznam zápasů'!A101="","",'Seznam zápasů'!A101) -> 46313 | DX6: =IF('Seznam zápasů'!B101="","",'Seznam zápasů'!B101) -> Ne | DY6: =IF('Seznam zápasů'!D101="","",'Seznam zápasů'!D101) -> nadreg. liga | DZ6: =IF('Seznam zápasů'!E101="","",'Seznam zápasů'!E101) -> Tygři Praha B | EA6: =IF('Seznam zápasů'!F101="","",'Seznam zápasů'!F101) -> 015 | EB6: =IF('Seznam zápasů'!G101="","",'Seznam zápasů'!G101) | EC6: =IF('Seznam zápasů'!H101="","",'Seznam zápasů'!H101) | ED6: =IF('Seznam zápasů'!I101="","",'Seznam zápasů'!I101) | EE6: =IF('Seznam zápasů'!J101="","",'Seznam zápasů'!J101) -> Nadcházející | EF6: =IF('Seznam zápasů'!A70="","",'Seznam zápasů'!A70) -> 46305 | EG6: =IF('Seznam zápasů'!B70="","",'Seznam zápasů'!B70) -> So | EH6: =IF('Seznam zápasů'!D70="","",'Seznam zápasů'!D70) -> KP + kval. o NF | EI6: =IF('Seznam zápasů'!E70="","",'Seznam zápasů'!E70) -> Basket Poděbrady | EJ6: =IF('Seznam zápasů'!F70="","",'Seznam zápasů'!F70) -> 008 | EK6: =IF('Seznam zápasů'!G70="","",'Seznam zápasů'!G70) | EL6: =IF('Seznam zápasů'!H70="","",'Seznam zápasů'!H70) | EM6: =IF('Seznam zápasů'!I70="","",'Seznam zápasů'!I70) | EN6: =IF('Seznam zápasů'!J70="","",'Seznam zápasů'!J70) -> Nadcházející | EO6: =IF('Seznam zápasů'!A123="","",'Seznam zápasů'!A123) -> 46333 | EP6: =IF('Seznam zápasů'!B123="","",'Seznam zápasů'!B123) -> So | EQ6: =IF('Seznam zápasů'!D123="","",'Seznam zápasů'!D123) -> KP + kval. o NF | ER6: =IF('Seznam zápasů'!E123="","",'Seznam zápasů'!E123) -> BK Beroun | ES6: =IF('Seznam zápasů'!F123="","",'Seznam zápasů'!F123) -> 2x 014, 050 | ET6: =IF('Seznam zápasů'!G123="","",'Seznam zápasů'!G123) | EU6: =IF('Seznam zápasů'!H123="","",'Seznam zápasů'!H123) | EV6: =IF('Seznam zápasů'!I123="","",'Seznam zápasů'!I123) | EW6: =IF('Seznam zápasů'!J123="","",'Seznam zápasů'!J123) -> Nadcházející | EX6: =IF('Seznam zápasů'!A106="","",'Seznam zápasů'!A106) -> 46319 | EY6: =IF('Seznam zápasů'!B106="","",'Seznam zápasů'!B106) -> So | EZ6: =IF('Seznam zápasů'!D106="","",'Seznam zápasů'!D106) -> KP + kval. o NF | FA6: =IF('Seznam zápasů'!E106="","",'Seznam zápasů'!E106) -> Pandy Čelákovice | FB6: =IF('Seznam zápasů'!F106="","",'Seznam zápasů'!F106) -> 2x 016, 061 | FC6: =IF('Seznam zápasů'!G106="","",'Seznam zápasů'!G106) | FD6: =IF('Seznam zápasů'!H106="","",'Seznam zápasů'!H106) | FE6: =IF('Seznam zápasů'!I106="","",'Seznam zápasů'!I106) | FF6: =IF('Seznam zápasů'!J106="","",'Seznam zápasů'!J106) -> Nadcházející | FG6: =IF('Seznam zápasů'!A195="","",'Seznam zápasů'!A195) -> 46368 | FH6: =IF('Seznam zápasů'!B195="","",'Seznam zápasů'!B195) -> So | FI6: =IF('Seznam zápasů'!D195="","",'Seznam zápasů'!D195) -> KP | FJ6: =IF('Seznam zápasů'!E195="","",'Seznam zápasů'!E195) -> TJ AŠ Mladá Boleslav | FK6: =IF('Seznam zápasů'!F195="","",'Seznam zápasů'!F195) -> 2x 010,030 | FL6: =IF('Seznam zápasů'!G195="","",'Seznam zápasů'!G195) | FM6: =IF('Seznam zápasů'!H195="","",'Seznam zápasů'!H195) | FN6: =IF('Seznam zápasů'!I195="","",'Seznam zápasů'!I195) | FO6: =IF('Seznam zápasů'!J195="","",'Seznam zápasů'!J195) -> Nadcházející | FP6: =IF('Seznam zápasů'!A34="","",'Seznam zápasů'!A34) -> 46291 | FQ6: =IF('Seznam zápasů'!B34="","",'Seznam zápasů'!B34) -> So | FR6: =IF('Seznam zápasů'!D34="","",'Seznam zápasů'!D34) -> KP + kval. o NF | FS6: =IF('Seznam zápasů'!E34="","",'Seznam zápasů'!E34) -> TJ AŠ Mladá Boleslav | FT6: =IF('Seznam zápasů'!F34="","",'Seznam zápasů'!F34) -> 014 | FU6: =IF('Seznam zápasů'!G34="","",'Seznam zápasů'!G34) | FV6: =IF('Seznam zápasů'!H34="","",'Seznam zápasů'!H34) | FW6: =IF('Seznam zápasů'!I34="","",'Seznam zápasů'!I34) | FX6: =IF('Seznam zápasů'!J34="","",'Seznam zápasů'!J34) -> Nadcházející | FY6: =IF('Seznam zápasů'!A124="","",'Seznam zápasů'!A124) -> 46333 | FZ6: =IF('Seznam zápasů'!B124="","",'Seznam zápasů'!B124) -> So | GA6: =IF('Seznam zápasů'!D124="","",'Seznam zápasů'!D124) -> KP + kval. o NF | GB6: =IF('Seznam zápasů'!E124="","",'Seznam zápasů'!E124) -> Sokol Nusle | GC6: =IF('Seznam zápasů'!F124="","",'Seznam zápasů'!F124) -> 2x 014,042 | GD6: =IF('Seznam zápasů'!G124="","",'Seznam zápasů'!G124) | GE6: =IF('Seznam zápasů'!H124="","",'Seznam zápasů'!H124) | GF6: =IF('Seznam zápasů'!I124="","",'Seznam zápasů'!I124) | GG6: =IF('Seznam zápasů'!J124="","",'Seznam zápasů'!J124) -> Nadcházející | GH6: =IF('Seznam zápasů'!A142="","",'Seznam zápasů'!A142) -> 46340 | GI6: =IF('Seznam zápasů'!B142="","",'Seznam zápasů'!B142) -> So | GJ6: =IF('Seznam zápasů'!D142="","",'Seznam zápasů'!D142) -> KP + kval. o NF | GK6: =IF('Seznam zápasů'!E142="","",'Seznam zápasů'!E142) -> ŠBK Sadská | GL6: =IF('Seznam zápasů'!F142="","",'Seznam zápasů'!F142) -> 2x 012,033 | GM6: =IF('Seznam zápasů'!G142="","",'Seznam zápasů'!G142) | GN6: =IF('Seznam zápasů'!H142="","",'Seznam zápasů'!H142) | GO6: =IF('Seznam zápasů'!I142="","",'Seznam zápasů'!I142) | GP6: =IF('Seznam zápasů'!J142="","",'Seznam zápasů'!J142) -> Nadcházející | GQ6: =IF('Seznam zápasů'!A197="","",'Seznam zápasů'!A197) -> 46368 | GR6: =IF('Seznam zápasů'!B197="","",'Seznam zápasů'!B197) -> So | GS6: =IF('Seznam zápasů'!D197="","",'Seznam zápasů'!D197) -> KP | GT6: =IF('Seznam zápasů'!E197="","",'Seznam zápasů'!E197) -> BC Slaný | GU6: =IF('Seznam zápasů'!F197="","",'Seznam zápasů'!F197) -> 2x 009,029 | GV6: =IF('Seznam zápasů'!G197="","",'Seznam zápasů'!G197) | GW6: =IF('Seznam zápasů'!H197="","",'Seznam zápasů'!H197) | GX6: =IF('Seznam zápasů'!I197="","",'Seznam zápasů'!I197) | GY6: =IF('Seznam zápasů'!J197="","",'Seznam zápasů'!J197) -> Nadcházející
A7: =IF('Seznam zápasů'!A89="","",'Seznam zápasů'!A89) -> 46312 | B7: =IF('Seznam zápasů'!B89="","",'Seznam zápasů'!B89) -> So | C7: =IF('Seznam zápasů'!D89="","",'Seznam zápasů'!D89) -> SBLM | D7: =IF('Seznam zápasů'!E89="","",'Seznam zápasů'!E89) -> Sokol Nové Strašecí | E7: =IF('Seznam zápasů'!F89="","",'Seznam zápasů'!F89) -> 028 | F7: =IF('Seznam zápasů'!G89="","",'Seznam zápasů'!G89) | G7: =IF('Seznam zápasů'!H89="","",'Seznam zápasů'!H89) | H7: =IF('Seznam zápasů'!I89="","",'Seznam zápasů'!I89) | I7: =IF('Seznam zápasů'!J89="","",'Seznam zápasů'!J89) -> Nadcházející | J7: =IF('Seznam zápasů'!A116="","",'Seznam zápasů'!A116) -> 46320 | K7: =IF('Seznam zápasů'!B116="","",'Seznam zápasů'!B116) -> Ne | L7: =IF('Seznam zápasů'!D116="","",'Seznam zápasů'!D116) -> KP | M7: =IF('Seznam zápasů'!E116="","",'Seznam zápasů'!E116) -> TJ Sokol Nehvizdy | N7: =IF('Seznam zápasů'!F116="","",'Seznam zápasů'!F116) -> 020 | O7: =IF('Seznam zápasů'!G116="","",'Seznam zápasů'!G116) | P7: =IF('Seznam zápasů'!H116="","",'Seznam zápasů'!H116) | Q7: =IF('Seznam zápasů'!I116="","",'Seznam zápasů'!I116) | R7: =IF('Seznam zápasů'!J116="","",'Seznam zápasů'!J116) -> Nadcházející | S7: =IF('Seznam zápasů'!A93="","",'Seznam zápasů'!A93) -> 46312 | T7: =IF('Seznam zápasů'!B93="","",'Seznam zápasů'!B93) -> So | U7: =IF('Seznam zápasů'!D93="","",'Seznam zápasů'!D93) -> II. Liga | V7: =IF('Seznam zápasů'!E93="","",'Seznam zápasů'!E93) -> DBaK | W7: =IF('Seznam zápasů'!F93="","",'Seznam zápasů'!F93) -> 022 | X7: =IF('Seznam zápasů'!G93="","",'Seznam zápasů'!G93) | Y7: =IF('Seznam zápasů'!H93="","",'Seznam zápasů'!H93) | Z7: =IF('Seznam zápasů'!I93="","",'Seznam zápasů'!I93) | AA7: =IF('Seznam zápasů'!J93="","",'Seznam zápasů'!J93) -> Nadcházející | AB7: =IF('Seznam zápasů'!A103="","",'Seznam zápasů'!A103) -> 46313 | AC7: =IF('Seznam zápasů'!B103="","",'Seznam zápasů'!B103) -> Ne | AD7: =IF('Seznam zápasů'!D103="","",'Seznam zápasů'!D103) -> SBLŽ | AE7: =IF('Seznam zápasů'!E103="","",'Seznam zápasů'!E103) -> Slavoj Český Brod | AF7: =IF('Seznam zápasů'!F103="","",'Seznam zápasů'!F103) -> 020 | AG7: =IF('Seznam zápasů'!G103="","",'Seznam zápasů'!G103) | AH7: =IF('Seznam zápasů'!H103="","",'Seznam zápasů'!H103) | AI7: =IF('Seznam zápasů'!I103="","",'Seznam zápasů'!I103) | AJ7: =IF('Seznam zápasů'!J103="","",'Seznam zápasů'!J103) -> Nadcházející | AK7: =IF('Seznam zápasů'!A104="","",'Seznam zápasů'!A104) -> 46313 | AL7: =IF('Seznam zápasů'!B104="","",'Seznam zápasů'!B104) -> Ne | AM7: =IF('Seznam zápasů'!D104="","",'Seznam zápasů'!D104) -> SBLŽ | AN7: =IF('Seznam zápasů'!E104="","",'Seznam zápasů'!E104) -> BK Brandýs "B" | AO7: =IF('Seznam zápasů'!F104="","",'Seznam zápasů'!F104) -> 021 | AP7: =IF('Seznam zápasů'!G104="","",'Seznam zápasů'!G104) | AQ7: =IF('Seznam zápasů'!H104="","",'Seznam zápasů'!H104) | AR7: =IF('Seznam zápasů'!I104="","",'Seznam zápasů'!I104) | AS7: =IF('Seznam zápasů'!J104="","",'Seznam zápasů'!J104) -> Nadcházející | AT7: =IF('Seznam zápasů'!A105="","",'Seznam zápasů'!A105) -> 46319 | AU7: =IF('Seznam zápasů'!B105="","",'Seznam zápasů'!B105) -> So | AV7: =IF('Seznam zápasů'!D105="","",'Seznam zápasů'!D105) -> NRL | AW7: =IF('Seznam zápasů'!E105="","",'Seznam zápasů'!E105) -> BK Sojky Pelhřimov C | AX7: =IF('Seznam zápasů'!F105="","",'Seznam zápasů'!F105) -> 19239 | AY7: =IF('Seznam zápasů'!G105="","",'Seznam zápasů'!G105) | AZ7: =IF('Seznam zápasů'!H105="","",'Seznam zápasů'!H105) | BA7: =IF('Seznam zápasů'!I105="","",'Seznam zápasů'!I105) | BB7: =IF('Seznam zápasů'!J105="","",'Seznam zápasů'!J105) -> Nadcházející | BC7: =IF('Seznam zápasů'!A82="","",'Seznam zápasů'!A82) -> 46312 | BD7: =IF('Seznam zápasů'!B82="","",'Seznam zápasů'!B82) -> So | BE7: =IF('Seznam zápasů'!D82="","",'Seznam zápasů'!D82) -> nadreg. liga | BF7: =IF('Seznam zápasů'!E82="","",'Seznam zápasů'!E82) -> Jižní Supi B | BG7: =IF('Seznam zápasů'!F82="","",'Seznam zápasů'!F82) -> 17140 | BH7: =IF('Seznam zápasů'!G82="","",'Seznam zápasů'!G82) | BI7: =IF('Seznam zápasů'!H82="","",'Seznam zápasů'!H82) | BJ7: =IF('Seznam zápasů'!I82="","",'Seznam zápasů'!I82) | BK7: =IF('Seznam zápasů'!J82="","",'Seznam zápasů'!J82) -> Nadcházející | BL7: =IF('Seznam zápasů'!A83="","",'Seznam zápasů'!A83) -> 46312 | BM7: =IF('Seznam zápasů'!B83="","",'Seznam zápasů'!B83) -> So | BN7: =IF('Seznam zápasů'!D83="","",'Seznam zápasů'!D83) -> celostátní liga | BO7: =IF('Seznam zápasů'!E83="","",'Seznam zápasů'!E83) -> Studánka Pardubice | BP7: =IF('Seznam zápasů'!F83="","",'Seznam zápasů'!F83) -> 078 | BQ7: =IF('Seznam zápasů'!G83="","",'Seznam zápasů'!G83) | BR7: =IF('Seznam zápasů'!H83="","",'Seznam zápasů'!H83) | BS7: =IF('Seznam zápasů'!I83="","",'Seznam zápasů'!I83) | BT7: =IF('Seznam zápasů'!J83="","",'Seznam zápasů'!J83) -> Nadcházející | BU7: =IF('Seznam zápasů'!A84="","",'Seznam zápasů'!A84) -> 46312 | BV7: =IF('Seznam zápasů'!B84="","",'Seznam zápasů'!B84) -> So | BW7: =IF('Seznam zápasů'!D84="","",'Seznam zápasů'!D84) -> nadreg. liga | BX7: =IF('Seznam zápasů'!E84="","",'Seznam zápasů'!E84) -> BCM Sokolov | BY7: =IF('Seznam zápasů'!F84="","",'Seznam zápasů'!F84) -> 17556 | BZ7: =IF('Seznam zápasů'!G84="","",'Seznam zápasů'!G84) | CA7: =IF('Seznam zápasů'!H84="","",'Seznam zápasů'!H84) | CB7: =IF('Seznam zápasů'!I84="","",'Seznam zápasů'!I84) | CC7: =IF('Seznam zápasů'!J84="","",'Seznam zápasů'!J84) -> Nadcházející | CD7: =IF('Seznam zápasů'!A110="","",'Seznam zápasů'!A110) -> 46319 | CE7: =IF('Seznam zápasů'!B110="","",'Seznam zápasů'!B110) -> So | CF7: =IF('Seznam zápasů'!D110="","",'Seznam zápasů'!D110) -> žákovská liga | CG7: =IF('Seznam zápasů'!E110="","",'Seznam zápasů'!E110) -> BK Lokomotiva Plzeň | CH7: =IF('Seznam zápasů'!F110="","",'Seznam zápasů'!F110) -> 021 | CI7: =IF('Seznam zápasů'!G110="","",'Seznam zápasů'!G110) | CJ7: =IF('Seznam zápasů'!H110="","",'Seznam zápasů'!H110) | CK7: =IF('Seznam zápasů'!I110="","",'Seznam zápasů'!I110) | CL7: =IF('Seznam zápasů'!J110="","",'Seznam zápasů'!J110) -> Nadcházející | CM7: =IF('Seznam zápasů'!A111="","",'Seznam zápasů'!A111) -> 46319 | CN7: =IF('Seznam zápasů'!B111="","",'Seznam zápasů'!B111) -> So | CO7: =IF('Seznam zápasů'!D111="","",'Seznam zápasů'!D111) -> žákovská liga | CP7: =IF('Seznam zápasů'!E111="","",'Seznam zápasů'!E111) -> SKB Rokycany | CQ7: =IF('Seznam zápasů'!F111="","",'Seznam zápasů'!F111) -> 024 | CR7: =IF('Seznam zápasů'!G111="","",'Seznam zápasů'!G111) | CS7: =IF('Seznam zápasů'!H111="","",'Seznam zápasů'!H111) | CT7: =IF('Seznam zápasů'!I111="","",'Seznam zápasů'!I111) | CU7: =IF('Seznam zápasů'!J111="","",'Seznam zápasů'!J111) -> Nadcházející | CV7: =IF('Seznam zápasů'!A112="","",'Seznam zápasů'!A112) -> 46319 | CW7: =IF('Seznam zápasů'!B112="","",'Seznam zápasů'!B112) -> So | CX7: =IF('Seznam zápasů'!D112="","",'Seznam zápasů'!D112) -> nadreg. Liga | CY7: =IF('Seznam zápasů'!E112="","",'Seznam zápasů'!E112) -> BK Příbram 2000 | CZ7: =IF('Seznam zápasů'!F112="","",'Seznam zápasů'!F112) -> 049 | DA7: =IF('Seznam zápasů'!G112="","",'Seznam zápasů'!G112) | DB7: =IF('Seznam zápasů'!H112="","",'Seznam zápasů'!H112) | DC7: =IF('Seznam zápasů'!I112="","",'Seznam zápasů'!I112) | DD7: =IF('Seznam zápasů'!J112="","",'Seznam zápasů'!J112) -> Nadcházející | DE7: =IF('Seznam zápasů'!A63="","",'Seznam zápasů'!A63) -> 46299 | DF7: =IF('Seznam zápasů'!B63="","",'Seznam zápasů'!B63) -> Ne | DG7: =IF('Seznam zápasů'!D63="","",'Seznam zápasů'!D63) -> žákovská liga | DH7: =IF('Seznam zápasů'!E63="","",'Seznam zápasů'!E63) -> Slavia Tygři Praha | DI7: =IF('Seznam zápasů'!F63="","",'Seznam zápasů'!F63) -> 104 | DJ7: =IF('Seznam zápasů'!G63="","",'Seznam zápasů'!G63) | DK7: =IF('Seznam zápasů'!H63="","",'Seznam zápasů'!H63) | DL7: =IF('Seznam zápasů'!I63="","",'Seznam zápasů'!I63) | DM7: =IF('Seznam zápasů'!J63="","",'Seznam zápasů'!J63) -> Nadcházející | DN7: =IF('Seznam zápasů'!A91="","",'Seznam zápasů'!A91) -> 46312 | DO7: =IF('Seznam zápasů'!B91="","",'Seznam zápasů'!B91) -> So | DP7: =IF('Seznam zápasů'!D91="","",'Seznam zápasů'!D91) -> žákovská liga | DQ7: =IF('Seznam zápasů'!E91="","",'Seznam zápasů'!E91) -> Studánka Pardubice | DR7: =IF('Seznam zápasů'!F91="","",'Seznam zápasů'!F91) -> 131 | DS7: =IF('Seznam zápasů'!G91="","",'Seznam zápasů'!G91) | DT7: =IF('Seznam zápasů'!H91="","",'Seznam zápasů'!H91) | DU7: =IF('Seznam zápasů'!I91="","",'Seznam zápasů'!I91) | DV7: =IF('Seznam zápasů'!J91="","",'Seznam zápasů'!J91) -> Nadcházející | DW7: =IF('Seznam zápasů'!A127="","",'Seznam zápasů'!A127) -> 46333 | DX7: =IF('Seznam zápasů'!B127="","",'Seznam zápasů'!B127) -> So | DY7: =IF('Seznam zápasů'!D127="","",'Seznam zápasů'!D127) -> nadreg. liga | DZ7: =IF('Seznam zápasů'!E127="","",'Seznam zápasů'!E127) -> Kralupy Junior | EA7: =IF('Seznam zápasů'!F127="","",'Seznam zápasů'!F127) -> 016 | EB7: =IF('Seznam zápasů'!G127="","",'Seznam zápasů'!G127) | EC7: =IF('Seznam zápasů'!H127="","",'Seznam zápasů'!H127) | ED7: =IF('Seznam zápasů'!I127="","",'Seznam zápasů'!I127) | EE7: =IF('Seznam zápasů'!J127="","",'Seznam zápasů'!J127) -> Nadcházející | EF7: =IF('Seznam zápasů'!A77="","",'Seznam zápasů'!A77) -> 46306 | EG7: =IF('Seznam zápasů'!B77="","",'Seznam zápasů'!B77) -> Ne | EH7: =IF('Seznam zápasů'!D77="","",'Seznam zápasů'!D77) -> KP + kval. o NF | EI7: =IF('Seznam zápasů'!E77="","",'Seznam zápasů'!E77) -> BA Nymburk | EJ7: =IF('Seznam zápasů'!F77="","",'Seznam zápasů'!F77) -> 011 | EK7: =IF('Seznam zápasů'!G77="","",'Seznam zápasů'!G77) | EL7: =IF('Seznam zápasů'!H77="","",'Seznam zápasů'!H77) | EM7: =IF('Seznam zápasů'!I77="","",'Seznam zápasů'!I77) | EN7: =IF('Seznam zápasů'!J77="","",'Seznam zápasů'!J77) -> Nadcházející | EO7: =IF('Seznam zápasů'!A157="","",'Seznam zápasů'!A157) -> 46347 | EP7: =IF('Seznam zápasů'!B157="","",'Seznam zápasů'!B157) -> So | EQ7: =IF('Seznam zápasů'!D157="","",'Seznam zápasů'!D157) -> KP + kval. o NF | ER7: =IF('Seznam zápasů'!E157="","",'Seznam zápasů'!E157) -> TJ Sokol Nehvizdy | ES7: =IF('Seznam zápasů'!F157="","",'Seznam zápasů'!F157) -> 2x 018,054 | ET7: =IF('Seznam zápasů'!G157="","",'Seznam zápasů'!G157) | EU7: =IF('Seznam zápasů'!H157="","",'Seznam zápasů'!H157) | EV7: =IF('Seznam zápasů'!I157="","",'Seznam zápasů'!I157) | EW7: =IF('Seznam zápasů'!J157="","",'Seznam zápasů'!J157) -> Nadcházející | EX7: =IF('Seznam zápasů'!A140="","",'Seznam zápasů'!A140) -> 46340 | EY7: =IF('Seznam zápasů'!B140="","",'Seznam zápasů'!B140) -> So | EZ7: =IF('Seznam zápasů'!D140="","",'Seznam zápasů'!D140) -> KP + kval. o NF | FA7: =IF('Seznam zápasů'!E140="","",'Seznam zápasů'!E140) -> BC Kolín | FB7: =IF('Seznam zápasů'!F140="","",'Seznam zápasů'!F140) -> 2x 025,070 | FC7: =IF('Seznam zápasů'!G140="","",'Seznam zápasů'!G140) | FD7: =IF('Seznam zápasů'!H140="","",'Seznam zápasů'!H140) | FE7: =IF('Seznam zápasů'!I140="","",'Seznam zápasů'!I140) | FF7: =IF('Seznam zápasů'!J140="","",'Seznam zápasů'!J140) -> Nadcházející | FG7: =IF('Seznam zápasů'!A230="","",'Seznam zápasů'!A230) -> 46403 | FH7: =IF('Seznam zápasů'!B230="","",'Seznam zápasů'!B230) -> So | FI7: =IF('Seznam zápasů'!D230="","",'Seznam zápasů'!D230) -> KP | FJ7: =IF('Seznam zápasů'!E230="","",'Seznam zápasů'!E230) -> BC Benešov Ž | FK7: =IF('Seznam zápasů'!F230="","",'Seznam zápasů'!F230) -> 2x 011,031 | FL7: =IF('Seznam zápasů'!G230="","",'Seznam zápasů'!G230) | FM7: =IF('Seznam zápasů'!H230="","",'Seznam zápasů'!H230) | FN7: =IF('Seznam zápasů'!I230="","",'Seznam zápasů'!I230) | FO7: =IF('Seznam zápasů'!J230="","",'Seznam zápasů'!J230) -> Nadcházející | FP7: =IF('Seznam zápasů'!A41="","",'Seznam zápasů'!A41) -> 46292 | FQ7: =IF('Seznam zápasů'!B41="","",'Seznam zápasů'!B41) -> Ne | FR7: =IF('Seznam zápasů'!D41="","",'Seznam zápasů'!D41) -> KP + kval. o NF | FS7: =IF('Seznam zápasů'!E41="","",'Seznam zápasů'!E41) -> BK Brandýs | FT7: =IF('Seznam zápasů'!F41="","",'Seznam zápasů'!F41) -> 019 | FU7: =IF('Seznam zápasů'!G41="","",'Seznam zápasů'!G41) | FV7: =IF('Seznam zápasů'!H41="","",'Seznam zápasů'!H41) | FW7: =IF('Seznam zápasů'!I41="","",'Seznam zápasů'!I41) | FX7: =IF('Seznam zápasů'!J41="","",'Seznam zápasů'!J41) -> Nadcházející | FY7: =IF('Seznam zápasů'!A159="","",'Seznam zápasů'!A159) -> 46347 | FZ7: =IF('Seznam zápasů'!B159="","",'Seznam zápasů'!B159) -> So | GA7: =IF('Seznam zápasů'!D159="","",'Seznam zápasů'!D159) -> KP + kval. o NF | GB7: =IF('Seznam zápasů'!E159="","",'Seznam zápasů'!E159) -> BK Kralupy Junior | GC7: =IF('Seznam zápasů'!F159="","",'Seznam zápasů'!F159) -> 2x 019, 047 | GD7: =IF('Seznam zápasů'!G159="","",'Seznam zápasů'!G159) | GE7: =IF('Seznam zápasů'!H159="","",'Seznam zápasů'!H159) | GF7: =IF('Seznam zápasů'!I159="","",'Seznam zápasů'!I159) | GG7: =IF('Seznam zápasů'!J159="","",'Seznam zápasů'!J159) -> Nadcházející | GH7: =IF('Seznam zápasů'!A180="","",'Seznam zápasů'!A180) -> 46361 | GI7: =IF('Seznam zápasů'!B180="","",'Seznam zápasů'!B180) -> So | GJ7: =IF('Seznam zápasů'!D180="","",'Seznam zápasů'!D180) -> KP + kval. o NF | GK7: =IF('Seznam zápasů'!E180="","",'Seznam zápasů'!E180) -> TJ AŠ Mladá Boleslav | GL7: =IF('Seznam zápasů'!F180="","",'Seznam zápasů'!F180) -> 2x 013, 034 | GM7: =IF('Seznam zápasů'!G180="","",'Seznam zápasů'!G180) | GN7: =IF('Seznam zápasů'!H180="","",'Seznam zápasů'!H180) | GO7: =IF('Seznam zápasů'!I180="","",'Seznam zápasů'!I180) | GP7: =IF('Seznam zápasů'!J180="","",'Seznam zápasů'!J180) -> Nadcházející | GQ7: =IF('Seznam zápasů'!A232="","",'Seznam zápasů'!A232) -> 46403 | GR7: =IF('Seznam zápasů'!B232="","",'Seznam zápasů'!B232) -> So | GS7: =IF('Seznam zápasů'!D232="","",'Seznam zápasů'!D232) -> KP | GT7: =IF('Seznam zápasů'!E232="","",'Seznam zápasů'!E232) -> BC Benešov M | GU7: =IF('Seznam zápasů'!F232="","",'Seznam zápasů'!F232) -> 2x 011,031 | GV7: =IF('Seznam zápasů'!G232="","",'Seznam zápasů'!G232) | GW7: =IF('Seznam zápasů'!H232="","",'Seznam zápasů'!H232) | GX7: =IF('Seznam zápasů'!I232="","",'Seznam zápasů'!I232) | GY7: =IF('Seznam zápasů'!J232="","",'Seznam zápasů'!J232) -> Nadcházející
A8: =IF('Seznam zápasů'!A99="","",'Seznam zápasů'!A99) -> 46313 | B8: =IF('Seznam zápasů'!B99="","",'Seznam zápasů'!B99) -> Ne | C8: =IF('Seznam zápasů'!D99="","",'Seznam zápasů'!D99) -> SBLM | D8: =IF('Seznam zápasů'!E99="","",'Seznam zápasů'!E99) -> BK Kladno "B" | E8: =IF('Seznam zápasů'!F99="","",'Seznam zápasů'!F99) -> 033 | F8: =IF('Seznam zápasů'!G99="","",'Seznam zápasů'!G99) | G8: =IF('Seznam zápasů'!H99="","",'Seznam zápasů'!H99) | H8: =IF('Seznam zápasů'!I99="","",'Seznam zápasů'!I99) | I8: =IF('Seznam zápasů'!J99="","",'Seznam zápasů'!J99) -> Nadcházející | J8: =IF('Seznam zápasů'!A144="","",'Seznam zápasů'!A144) -> 46340 | K8: =IF('Seznam zápasů'!B144="","",'Seznam zápasů'!B144) -> So | L8: =IF('Seznam zápasů'!D144="","",'Seznam zápasů'!D144) -> KP | M8: =IF('Seznam zápasů'!E144="","",'Seznam zápasů'!E144) -> Slavoj Český Brod "B" | N8: =IF('Seznam zápasů'!F144="","",'Seznam zápasů'!F144) -> 022 | O8: =IF('Seznam zápasů'!G144="","",'Seznam zápasů'!G144) | P8: =IF('Seznam zápasů'!H144="","",'Seznam zápasů'!H144) | Q8: =IF('Seznam zápasů'!I144="","",'Seznam zápasů'!I144) | R8: =IF('Seznam zápasů'!J144="","",'Seznam zápasů'!J144) -> Nadcházející | S8: =IF('Seznam zápasů'!A102="","",'Seznam zápasů'!A102) -> 46313 | T8: =IF('Seznam zápasů'!B102="","",'Seznam zápasů'!B102) -> Ne | U8: =IF('Seznam zápasů'!D102="","",'Seznam zápasů'!D102) -> II. Liga | V8: =IF('Seznam zápasů'!E102="","",'Seznam zápasů'!E102) -> Lokomotiva Karlovy Vary | W8: =IF('Seznam zápasů'!F102="","",'Seznam zápasů'!F102) -> 025 | X8: =IF('Seznam zápasů'!G102="","",'Seznam zápasů'!G102) | Y8: =IF('Seznam zápasů'!H102="","",'Seznam zápasů'!H102) | Z8: =IF('Seznam zápasů'!I102="","",'Seznam zápasů'!I102) | AA8: =IF('Seznam zápasů'!J102="","",'Seznam zápasů'!J102) -> Nadcházející | AB8: =IF('Seznam zápasů'!A129="","",'Seznam zápasů'!A129) -> 46333 | AC8: =IF('Seznam zápasů'!B129="","",'Seznam zápasů'!B129) -> So | AD8: =IF('Seznam zápasů'!D129="","",'Seznam zápasů'!D129) -> SBLŽ | AE8: =IF('Seznam zápasů'!E129="","",'Seznam zápasů'!E129) -> BC Slaný | AF8: =IF('Seznam zápasů'!F129="","",'Seznam zápasů'!F129) -> 025 | AG8: =IF('Seznam zápasů'!G129="","",'Seznam zápasů'!G129) | AH8: =IF('Seznam zápasů'!H129="","",'Seznam zápasů'!H129) | AI8: =IF('Seznam zápasů'!I129="","",'Seznam zápasů'!I129) | AJ8: =IF('Seznam zápasů'!J129="","",'Seznam zápasů'!J129) -> Nadcházející | AK8: =IF('Seznam zápasů'!A130="","",'Seznam zápasů'!A130) -> 46333 | AL8: =IF('Seznam zápasů'!B130="","",'Seznam zápasů'!B130) -> So | AM8: =IF('Seznam zápasů'!D130="","",'Seznam zápasů'!D130) -> SBLŽ | AN8: =IF('Seznam zápasů'!E130="","",'Seznam zápasů'!E130) -> BK Kralupy Junior | AO8: =IF('Seznam zápasů'!F130="","",'Seznam zápasů'!F130) -> 026 | AP8: =IF('Seznam zápasů'!G130="","",'Seznam zápasů'!G130) | AQ8: =IF('Seznam zápasů'!H130="","",'Seznam zápasů'!H130) | AR8: =IF('Seznam zápasů'!I130="","",'Seznam zápasů'!I130) | AS8: =IF('Seznam zápasů'!J130="","",'Seznam zápasů'!J130) -> Nadcházející | AT8: =IF('Seznam zápasů'!A113="","",'Seznam zápasů'!A113) -> 46320 | AU8: =IF('Seznam zápasů'!B113="","",'Seznam zápasů'!B113) -> Ne | AV8: =IF('Seznam zápasů'!D113="","",'Seznam zápasů'!D113) -> NRL | AW8: =IF('Seznam zápasů'!E113="","",'Seznam zápasů'!E113) -> TJ Třebíč | AX8: =IF('Seznam zápasů'!F113="","",'Seznam zápasů'!F113) -> 19244 | AY8: =IF('Seznam zápasů'!G113="","",'Seznam zápasů'!G113) | AZ8: =IF('Seznam zápasů'!H113="","",'Seznam zápasů'!H113) | BA8: =IF('Seznam zápasů'!I113="","",'Seznam zápasů'!I113) | BB8: =IF('Seznam zápasů'!J113="","",'Seznam zápasů'!J113) -> Nadcházející | BC8: =IF('Seznam zápasů'!A96="","",'Seznam zápasů'!A96) -> 46313 | BD8: =IF('Seznam zápasů'!B96="","",'Seznam zápasů'!B96) -> Ne | BE8: =IF('Seznam zápasů'!D96="","",'Seznam zápasů'!D96) -> nadreg. liga | BF8: =IF('Seznam zápasů'!E96="","",'Seznam zápasů'!E96) -> Sokol Žižkov B | BG8: =IF('Seznam zápasů'!F96="","",'Seznam zápasů'!F96) -> 17146 | BH8: =IF('Seznam zápasů'!G96="","",'Seznam zápasů'!G96) | BI8: =IF('Seznam zápasů'!H96="","",'Seznam zápasů'!H96) | BJ8: =IF('Seznam zápasů'!I96="","",'Seznam zápasů'!I96) | BK8: =IF('Seznam zápasů'!J96="","",'Seznam zápasů'!J96) -> Nadcházející | BL8: =IF('Seznam zápasů'!A97="","",'Seznam zápasů'!A97) -> 46313 | BM8: =IF('Seznam zápasů'!B97="","",'Seznam zápasů'!B97) -> Ne | BN8: =IF('Seznam zápasů'!D97="","",'Seznam zápasů'!D97) -> celostátní liga | BO8: =IF('Seznam zápasů'!E97="","",'Seznam zápasů'!E97) -> Sokol Nusle | BP8: =IF('Seznam zápasů'!F97="","",'Seznam zápasů'!F97) -> 082 | BQ8: =IF('Seznam zápasů'!G97="","",'Seznam zápasů'!G97) | BR8: =IF('Seznam zápasů'!H97="","",'Seznam zápasů'!H97) | BS8: =IF('Seznam zápasů'!I97="","",'Seznam zápasů'!I97) | BT8: =IF('Seznam zápasů'!J97="","",'Seznam zápasů'!J97) -> Nadcházející | BU8: =IF('Seznam zápasů'!A98="","",'Seznam zápasů'!A98) -> 46313 | BV8: =IF('Seznam zápasů'!B98="","",'Seznam zápasů'!B98) -> Ne | BW8: =IF('Seznam zápasů'!D98="","",'Seznam zápasů'!D98) -> nadreg. liga | BX8: =IF('Seznam zápasů'!E98="","",'Seznam zápasů'!E98) -> BC Slaný | BY8: =IF('Seznam zápasů'!F98="","",'Seznam zápasů'!F98) -> 17562 | BZ8: =IF('Seznam zápasů'!G98="","",'Seznam zápasů'!G98) | CA8: =IF('Seznam zápasů'!H98="","",'Seznam zápasů'!H98) | CB8: =IF('Seznam zápasů'!I98="","",'Seznam zápasů'!I98) | CC8: =IF('Seznam zápasů'!J98="","",'Seznam zápasů'!J98) -> Nadcházející | CD8: =IF('Seznam zápasů'!A117="","",'Seznam zápasů'!A117) -> 46320 | CE8: =IF('Seznam zápasů'!B117="","",'Seznam zápasů'!B117) -> Ne | CF8: =IF('Seznam zápasů'!D117="","",'Seznam zápasů'!D117) -> žákovská liga | CG8: =IF('Seznam zápasů'!E117="","",'Seznam zápasů'!E117) -> Slavi Tygři Praha | CH8: =IF('Seznam zápasů'!F117="","",'Seznam zápasů'!F117) -> 025 | CI8: =IF('Seznam zápasů'!G117="","",'Seznam zápasů'!G117) | CJ8: =IF('Seznam zápasů'!H117="","",'Seznam zápasů'!H117) | CK8: =IF('Seznam zápasů'!I117="","",'Seznam zápasů'!I117) | CL8: =IF('Seznam zápasů'!J117="","",'Seznam zápasů'!J117) -> Nadcházející | CM8: =IF('Seznam zápasů'!A118="","",'Seznam zápasů'!A118) -> 46320 | CN8: =IF('Seznam zápasů'!B118="","",'Seznam zápasů'!B118) -> Ne | CO8: =IF('Seznam zápasů'!D118="","",'Seznam zápasů'!D118) -> žákovská liga | CP8: =IF('Seznam zápasů'!E118="","",'Seznam zápasů'!E118) -> DBaK | CQ8: =IF('Seznam zápasů'!F118="","",'Seznam zápasů'!F118) -> 027 | CR8: =IF('Seznam zápasů'!G118="","",'Seznam zápasů'!G118) | CS8: =IF('Seznam zápasů'!H118="","",'Seznam zápasů'!H118) | CT8: =IF('Seznam zápasů'!I118="","",'Seznam zápasů'!I118) | CU8: =IF('Seznam zápasů'!J118="","",'Seznam zápasů'!J118) -> Nadcházející | CV8: =IF('Seznam zápasů'!A147="","",'Seznam zápasů'!A147) -> 46340 | CW8: =IF('Seznam zápasů'!B147="","",'Seznam zápasů'!B147) -> So | CX8: =IF('Seznam zápasů'!D147="","",'Seznam zápasů'!D147) -> nadreg. Liga | CY8: =IF('Seznam zápasů'!E147="","",'Seznam zápasů'!E147) -> Basket Říčany | CZ8: =IF('Seznam zápasů'!F147="","",'Seznam zápasů'!F147) -> 061 | DA8: =IF('Seznam zápasů'!G147="","",'Seznam zápasů'!G147) | DB8: =IF('Seznam zápasů'!H147="","",'Seznam zápasů'!H147) | DC8: =IF('Seznam zápasů'!I147="","",'Seznam zápasů'!I147) | DD8: =IF('Seznam zápasů'!J147="","",'Seznam zápasů'!J147) -> Nadcházející | DE8: =IF('Seznam zápasů'!A90="","",'Seznam zápasů'!A90) -> 46312 | DF8: =IF('Seznam zápasů'!B90="","",'Seznam zápasů'!B90) -> So | DG8: =IF('Seznam zápasů'!D90="","",'Seznam zápasů'!D90) -> žákovská liga | DH8: =IF('Seznam zápasů'!E90="","",'Seznam zápasů'!E90) -> BA Radotín | DI8: =IF('Seznam zápasů'!F90="","",'Seznam zápasů'!F90) -> 085 | DJ8: =IF('Seznam zápasů'!G90="","",'Seznam zápasů'!G90) | DK8: =IF('Seznam zápasů'!H90="","",'Seznam zápasů'!H90) | DL8: =IF('Seznam zápasů'!I90="","",'Seznam zápasů'!I90) | DM8: =IF('Seznam zápasů'!J90="","",'Seznam zápasů'!J90) -> Nadcházející | DN8: =IF('Seznam zápasů'!A126="","",'Seznam zápasů'!A126) -> 46333 | DO8: =IF('Seznam zápasů'!B126="","",'Seznam zápasů'!B126) -> So | DP8: =IF('Seznam zápasů'!D126="","",'Seznam zápasů'!D126) -> žákovská liga | DQ8: =IF('Seznam zápasů'!E126="","",'Seznam zápasů'!E126) -> BK Blansko | DR8: =IF('Seznam zápasů'!F126="","",'Seznam zápasů'!F126) | DS8: =IF('Seznam zápasů'!G126="","",'Seznam zápasů'!G126) | DT8: =IF('Seznam zápasů'!H126="","",'Seznam zápasů'!H126) | DU8: =IF('Seznam zápasů'!I126="","",'Seznam zápasů'!I126) | DV8: =IF('Seznam zápasů'!J126="","",'Seznam zápasů'!J126) -> Nadcházející | DW8: =IF('Seznam zápasů'!A135="","",'Seznam zápasů'!A135) -> 46334 | DX8: =IF('Seznam zápasů'!B135="","",'Seznam zápasů'!B135) -> Ne | DY8: =IF('Seznam zápasů'!D135="","",'Seznam zápasů'!D135) -> nadreg. liga | DZ8: =IF('Seznam zápasů'!E135="","",'Seznam zápasů'!E135) -> BA Roudnice | EA8: =IF('Seznam zápasů'!F135="","",'Seznam zápasů'!F135) -> 019 | EB8: =IF('Seznam zápasů'!G135="","",'Seznam zápasů'!G135) | EC8: =IF('Seznam zápasů'!H135="","",'Seznam zápasů'!H135) | ED8: =IF('Seznam zápasů'!I135="","",'Seznam zápasů'!I135) | EE8: =IF('Seznam zápasů'!J135="","",'Seznam zápasů'!J135) -> Nadcházející | EF8: =IF('Seznam zápasů'!A114="","",'Seznam zápasů'!A114) -> 46320 | EG8: =IF('Seznam zápasů'!B114="","",'Seznam zápasů'!B114) -> Ne | EH8: =IF('Seznam zápasů'!D114="","",'Seznam zápasů'!D114) -> KP + kval. o NF | EI8: =IF('Seznam zápasů'!E114="","",'Seznam zápasů'!E114) -> BK Mělník | EJ8: =IF('Seznam zápasů'!F114="","",'Seznam zápasů'!F114) -> 016 | EK8: =IF('Seznam zápasů'!G114="","",'Seznam zápasů'!G114) | EL8: =IF('Seznam zápasů'!H114="","",'Seznam zápasů'!H114) | EM8: =IF('Seznam zápasů'!I114="","",'Seznam zápasů'!I114) | EN8: =IF('Seznam zápasů'!J114="","",'Seznam zápasů'!J114) -> Nadcházející | EO8: =IF('Seznam zápasů'!A196="","",'Seznam zápasů'!A196) -> 46368 | EP8: =IF('Seznam zápasů'!B196="","",'Seznam zápasů'!B196) -> So | EQ8: =IF('Seznam zápasů'!D196="","",'Seznam zápasů'!D196) -> KP + kval. o NF | ER8: =IF('Seznam zápasů'!E196="","",'Seznam zápasů'!E196) -> BC Kolín | ES8: =IF('Seznam zápasů'!F196="","",'Seznam zápasů'!F196) -> 2x 023,059 | ET8: =IF('Seznam zápasů'!G196="","",'Seznam zápasů'!G196) | EU8: =IF('Seznam zápasů'!H196="","",'Seznam zápasů'!H196) | EV8: =IF('Seznam zápasů'!I196="","",'Seznam zápasů'!I196) | EW8: =IF('Seznam zápasů'!J196="","",'Seznam zápasů'!J196) -> Nadcházející | EX8: =IF('Seznam zápasů'!A178="","",'Seznam zápasů'!A178) -> 46361 | EY8: =IF('Seznam zápasů'!B178="","",'Seznam zápasů'!B178) -> So | EZ8: =IF('Seznam zápasů'!D178="","",'Seznam zápasů'!D178) -> KP + kval. o NF | FA8: =IF('Seznam zápasů'!E178="","",'Seznam zápasů'!E178) -> Basketbal Újezd nad Lesy | FB8: =IF('Seznam zápasů'!F178="","",'Seznam zápasů'!F178) -> 2x 027, 072 | FC8: =IF('Seznam zápasů'!G178="","",'Seznam zápasů'!G178) | FD8: =IF('Seznam zápasů'!H178="","",'Seznam zápasů'!H178) | FE8: =IF('Seznam zápasů'!I178="","",'Seznam zápasů'!I178) | FF8: =IF('Seznam zápasů'!J178="","",'Seznam zápasů'!J178) -> Nadcházející | FG8: =IF('Seznam zápasů'!A272="","",'Seznam zápasů'!A272) -> 46424 | FH8: =IF('Seznam zápasů'!B272="","",'Seznam zápasů'!B272) -> So | FI8: =IF('Seznam zápasů'!D272="","",'Seznam zápasů'!D272) -> KP | FJ8: =IF('Seznam zápasů'!E272="","",'Seznam zápasů'!E272) -> BK Mělník | FK8: =IF('Seznam zápasů'!F272="","",'Seznam zápasů'!F272) -> 2x 013, 033 | FL8: =IF('Seznam zápasů'!G272="","",'Seznam zápasů'!G272) | FM8: =IF('Seznam zápasů'!H272="","",'Seznam zápasů'!H272) | FN8: =IF('Seznam zápasů'!I272="","",'Seznam zápasů'!I272) | FO8: =IF('Seznam zápasů'!J272="","",'Seznam zápasů'!J272) -> Nadcházející | FP8: =IF('Seznam zápasů'!A108="","",'Seznam zápasů'!A108) -> 46319 | FQ8: =IF('Seznam zápasů'!B108="","",'Seznam zápasů'!B108) -> So | FR8: =IF('Seznam zápasů'!D108="","",'Seznam zápasů'!D108) -> KP + kval. o NF | FS8: =IF('Seznam zápasů'!E108="","",'Seznam zápasů'!E108) -> Sokol Kladno | FT8: =IF('Seznam zápasů'!F108="","",'Seznam zápasů'!F108) -> 040 | FU8: =IF('Seznam zápasů'!G108="","",'Seznam zápasů'!G108) | FV8: =IF('Seznam zápasů'!H108="","",'Seznam zápasů'!H108) | FW8: =IF('Seznam zápasů'!I108="","",'Seznam zápasů'!I108) | FX8: =IF('Seznam zápasů'!J108="","",'Seznam zápasů'!J108) -> Nadcházející | FY8: =IF('Seznam zápasů'!A198="","",'Seznam zápasů'!A198) -> 46368 | FZ8: =IF('Seznam zápasů'!B198="","",'Seznam zápasů'!B198) -> So | GA8: =IF('Seznam zápasů'!D198="","",'Seznam zápasů'!D198) -> KP + kval. o NF | GB8: =IF('Seznam zápasů'!E198="","",'Seznam zápasů'!E198) -> BK Brandýs | GC8: =IF('Seznam zápasů'!F198="","",'Seznam zápasů'!F198) -> 2x 023,051 | GD8: =IF('Seznam zápasů'!G198="","",'Seznam zápasů'!G198) | GE8: =IF('Seznam zápasů'!H198="","",'Seznam zápasů'!H198) | GF8: =IF('Seznam zápasů'!I198="","",'Seznam zápasů'!I198) | GG8: =IF('Seznam zápasů'!J198="","",'Seznam zápasů'!J198) -> Nadcházející | GH8: =IF('Seznam zápasů'!A214="","",'Seznam zápasů'!A214) -> 46396 | GI8: =IF('Seznam zápasů'!B214="","",'Seznam zápasů'!B214) -> So | GJ8: =IF('Seznam zápasů'!D214="","",'Seznam zápasů'!D214) -> KP + kval. o NF | GK8: =IF('Seznam zápasů'!E214="","",'Seznam zápasů'!E214) -> BK Brandýs nad Labem kval. | GL8: =IF('Seznam zápasů'!F214="","",'Seznam zápasů'!F214) -> 001 | GM8: =IF('Seznam zápasů'!G214="","",'Seznam zápasů'!G214) | GN8: =IF('Seznam zápasů'!H214="","",'Seznam zápasů'!H214) | GO8: =IF('Seznam zápasů'!I214="","",'Seznam zápasů'!I214) | GP8: =IF('Seznam zápasů'!J214="","",'Seznam zápasů'!J214) -> Nadcházející | GQ8: =IF('Seznam zápasů'!A274="","",'Seznam zápasů'!A274) -> 46424 | GR8: =IF('Seznam zápasů'!B274="","",'Seznam zápasů'!B274) -> So | GS8: =IF('Seznam zápasů'!D274="","",'Seznam zápasů'!D274) -> KP | GT8: =IF('Seznam zápasů'!E274="","",'Seznam zápasů'!E274) -> TJ AŠ Mladá Boleslav | GU8: =IF('Seznam zápasů'!F274="","",'Seznam zápasů'!F274) -> 2x 014,034 | GV8: =IF('Seznam zápasů'!G274="","",'Seznam zápasů'!G274) | GW8: =IF('Seznam zápasů'!H274="","",'Seznam zápasů'!H274) | GX8: =IF('Seznam zápasů'!I274="","",'Seznam zápasů'!I274) | GY8: =IF('Seznam zápasů'!J274="","",'Seznam zápasů'!J274) -> Nadcházející
A9: =IF('Seznam zápasů'!A160="","",'Seznam zápasů'!A160) -> 46347 | B9: =IF('Seznam zápasů'!B160="","",'Seznam zápasů'!B160) -> So | C9: =IF('Seznam zápasů'!D160="","",'Seznam zápasů'!D160) -> SBLM | D9: =IF('Seznam zápasů'!E160="","",'Seznam zápasů'!E160) -> BK Příbram 2000 | E9: =IF('Seznam zápasů'!F160="","",'Seznam zápasů'!F160) -> 051 | F9: =IF('Seznam zápasů'!G160="","",'Seznam zápasů'!G160) | G9: =IF('Seznam zápasů'!H160="","",'Seznam zápasů'!H160) | H9: =IF('Seznam zápasů'!I160="","",'Seznam zápasů'!I160) | I9: =IF('Seznam zápasů'!J160="","",'Seznam zápasů'!J160) -> Nadcházející | J9: =IF('Seznam zápasů'!A150="","",'Seznam zápasů'!A150) -> 46341 | K9: =IF('Seznam zápasů'!B150="","",'Seznam zápasů'!B150) -> Ne | L9: =IF('Seznam zápasů'!D150="","",'Seznam zápasů'!D150) -> KP | M9: =IF('Seznam zápasů'!E150="","",'Seznam zápasů'!E150) -> Sokol Kutná Hora | N9: =IF('Seznam zápasů'!F150="","",'Seznam zápasů'!F150) -> 026 | O9: =IF('Seznam zápasů'!G150="","",'Seznam zápasů'!G150) | P9: =IF('Seznam zápasů'!H150="","",'Seznam zápasů'!H150) | Q9: =IF('Seznam zápasů'!I150="","",'Seznam zápasů'!I150) | R9: =IF('Seznam zápasů'!J150="","",'Seznam zápasů'!J150) -> Nadcházející | S9: =IF('Seznam zápasů'!A128="","",'Seznam zápasů'!A128) -> 46333 | T9: =IF('Seznam zápasů'!B128="","",'Seznam zápasů'!B128) -> So | U9: =IF('Seznam zápasů'!D128="","",'Seznam zápasů'!D128) -> II. Liga | V9: =IF('Seznam zápasů'!E128="","",'Seznam zápasů'!E128) -> Sokol Nusle B | W9: =IF('Seznam zápasů'!F128="","",'Seznam zápasů'!F128) -> 004 | X9: =IF('Seznam zápasů'!G128="","",'Seznam zápasů'!G128) | Y9: =IF('Seznam zápasů'!H128="","",'Seznam zápasů'!H128) | Z9: =IF('Seznam zápasů'!I128="","",'Seznam zápasů'!I128) | AA9: =IF('Seznam zápasů'!J128="","",'Seznam zápasů'!J128) -> Nadcházející | AB9: =IF('Seznam zápasů'!A137="","",'Seznam zápasů'!A137) -> 46334 | AC9: =IF('Seznam zápasů'!B137="","",'Seznam zápasů'!B137) -> Ne | AD9: =IF('Seznam zápasů'!D137="","",'Seznam zápasů'!D137) -> SBLŽ | AE9: =IF('Seznam zápasů'!E137="","",'Seznam zápasů'!E137) -> BK Kralupy Junior | AF9: =IF('Seznam zápasů'!F137="","",'Seznam zápasů'!F137) -> 029 | AG9: =IF('Seznam zápasů'!G137="","",'Seznam zápasů'!G137) | AH9: =IF('Seznam zápasů'!H137="","",'Seznam zápasů'!H137) | AI9: =IF('Seznam zápasů'!I137="","",'Seznam zápasů'!I137) | AJ9: =IF('Seznam zápasů'!J137="","",'Seznam zápasů'!J137) -> Nadcházející | AK9: =IF('Seznam zápasů'!A138="","",'Seznam zápasů'!A138) -> 46334 | AL9: =IF('Seznam zápasů'!B138="","",'Seznam zápasů'!B138) -> Ne | AM9: =IF('Seznam zápasů'!D138="","",'Seznam zápasů'!D138) -> SBLŽ | AN9: =IF('Seznam zápasů'!E138="","",'Seznam zápasů'!E138) -> BC Slaný | AO9: =IF('Seznam zápasů'!F138="","",'Seznam zápasů'!F138) -> 028 | AP9: =IF('Seznam zápasů'!G138="","",'Seznam zápasů'!G138) | AQ9: =IF('Seznam zápasů'!H138="","",'Seznam zápasů'!H138) | AR9: =IF('Seznam zápasů'!I138="","",'Seznam zápasů'!I138) | AS9: =IF('Seznam zápasů'!J138="","",'Seznam zápasů'!J138) -> Nadcházející | AT9: =IF('Seznam zápasů'!A139="","",'Seznam zápasů'!A139) -> 46340 | AU9: =IF('Seznam zápasů'!B139="","",'Seznam zápasů'!B139) -> So | AV9: =IF('Seznam zápasů'!D139="","",'Seznam zápasů'!D139) -> NRL | AW9: =IF('Seznam zápasů'!E139="","",'Seznam zápasů'!E139) -> BK Lions Jindřichův Hradec | AX9: =IF('Seznam zápasů'!F139="","",'Seznam zápasů'!F139) -> 19245 | AY9: =IF('Seznam zápasů'!G139="","",'Seznam zápasů'!G139) | AZ9: =IF('Seznam zápasů'!H139="","",'Seznam zápasů'!H139) | BA9: =IF('Seznam zápasů'!I139="","",'Seznam zápasů'!I139) | BB9: =IF('Seznam zápasů'!J139="","",'Seznam zápasů'!J139) -> Nadcházející | BC9: =IF('Seznam zápasů'!A119="","",'Seznam zápasů'!A119) -> 46333 | BD9: =IF('Seznam zápasů'!B119="","",'Seznam zápasů'!B119) -> So | BE9: =IF('Seznam zápasů'!D119="","",'Seznam zápasů'!D119) -> nadreg. liga | BF9: =IF('Seznam zápasů'!E119="","",'Seznam zápasů'!E119) -> Slovan Varnsdorf B | BG9: =IF('Seznam zápasů'!F119="","",'Seznam zápasů'!F119) -> 17150 | BH9: =IF('Seznam zápasů'!G119="","",'Seznam zápasů'!G119) | BI9: =IF('Seznam zápasů'!H119="","",'Seznam zápasů'!H119) | BJ9: =IF('Seznam zápasů'!I119="","",'Seznam zápasů'!I119) | BK9: =IF('Seznam zápasů'!J119="","",'Seznam zápasů'!J119) -> Nadcházející | BL9: =IF('Seznam zápasů'!A120="","",'Seznam zápasů'!A120) -> 46333 | BM9: =IF('Seznam zápasů'!B120="","",'Seznam zápasů'!B120) -> So | BN9: =IF('Seznam zápasů'!D120="","",'Seznam zápasů'!D120) -> celostátní liga | BO9: =IF('Seznam zápasů'!E120="","",'Seznam zápasů'!E120) -> Tigers České Budějovice | BP9: =IF('Seznam zápasů'!F120="","",'Seznam zápasů'!F120) -> 058 | BQ9: =IF('Seznam zápasů'!G120="","",'Seznam zápasů'!G120) | BR9: =IF('Seznam zápasů'!H120="","",'Seznam zápasů'!H120) | BS9: =IF('Seznam zápasů'!I120="","",'Seznam zápasů'!I120) | BT9: =IF('Seznam zápasů'!J120="","",'Seznam zápasů'!J120) -> Nadcházející | BU9: =IF('Seznam zápasů'!A121="","",'Seznam zápasů'!A121) -> 46333 | BV9: =IF('Seznam zápasů'!B121="","",'Seznam zápasů'!B121) -> So | BW9: =IF('Seznam zápasů'!D121="","",'Seznam zápasů'!D121) -> nadreg. liga | BX9: =IF('Seznam zápasů'!E121="","",'Seznam zápasů'!E121) -> BK Teplice | BY9: =IF('Seznam zápasů'!F121="","",'Seznam zápasů'!F121) -> 17572 | BZ9: =IF('Seznam zápasů'!G121="","",'Seznam zápasů'!G121) | CA9: =IF('Seznam zápasů'!H121="","",'Seznam zápasů'!H121) | CB9: =IF('Seznam zápasů'!I121="","",'Seznam zápasů'!I121) | CC9: =IF('Seznam zápasů'!J121="","",'Seznam zápasů'!J121) -> Nadcházející | CD9: =IF('Seznam zápasů'!A145="","",'Seznam zápasů'!A145) -> 46340 | CE9: =IF('Seznam zápasů'!B145="","",'Seznam zápasů'!B145) -> So | CF9: =IF('Seznam zápasů'!D145="","",'Seznam zápasů'!D145) -> žákovská liga | CG9: =IF('Seznam zápasů'!E145="","",'Seznam zápasů'!E145) -> BA Radotín | CH9: =IF('Seznam zápasů'!F145="","",'Seznam zápasů'!F145) -> 002 | CI9: =IF('Seznam zápasů'!G145="","",'Seznam zápasů'!G145) | CJ9: =IF('Seznam zápasů'!H145="","",'Seznam zápasů'!H145) | CK9: =IF('Seznam zápasů'!I145="","",'Seznam zápasů'!I145) | CL9: =IF('Seznam zápasů'!J145="","",'Seznam zápasů'!J145) -> Nadcházející | CM9: =IF('Seznam zápasů'!A146="","",'Seznam zápasů'!A146) -> 46340 | CN9: =IF('Seznam zápasů'!B146="","",'Seznam zápasů'!B146) -> So | CO9: =IF('Seznam zápasů'!D146="","",'Seznam zápasů'!D146) -> žákovská liga | CP9: =IF('Seznam zápasů'!E146="","",'Seznam zápasů'!E146) -> HB Basket Praha | CQ9: =IF('Seznam zápasů'!F146="","",'Seznam zápasů'!F146) -> 001 | CR9: =IF('Seznam zápasů'!G146="","",'Seznam zápasů'!G146) | CS9: =IF('Seznam zápasů'!H146="","",'Seznam zápasů'!H146) | CT9: =IF('Seznam zápasů'!I146="","",'Seznam zápasů'!I146) | CU9: =IF('Seznam zápasů'!J146="","",'Seznam zápasů'!J146) -> Nadcházející | CV9: =IF('Seznam zápasů'!A153="","",'Seznam zápasů'!A153) -> 46341 | CW9: =IF('Seznam zápasů'!B153="","",'Seznam zápasů'!B153) -> Ne | CX9: =IF('Seznam zápasů'!D153="","",'Seznam zápasů'!D153) -> nadreg. Liga | CY9: =IF('Seznam zápasů'!E153="","",'Seznam zápasů'!E153) -> Sokol Nusle | CZ9: =IF('Seznam zápasů'!F153="","",'Seznam zápasů'!F153) -> 065 | DA9: =IF('Seznam zápasů'!G153="","",'Seznam zápasů'!G153) | DB9: =IF('Seznam zápasů'!H153="","",'Seznam zápasů'!H153) | DC9: =IF('Seznam zápasů'!I153="","",'Seznam zápasů'!I153) | DD9: =IF('Seznam zápasů'!J153="","",'Seznam zápasů'!J153) -> Nadcházející | DE9: =IF('Seznam zápasů'!A100="","",'Seznam zápasů'!A100) -> 46313 | DF9: =IF('Seznam zápasů'!B100="","",'Seznam zápasů'!B100) -> Ne | DG9: =IF('Seznam zápasů'!D100="","",'Seznam zápasů'!D100) -> žákovská liga | DH9: =IF('Seznam zápasů'!E100="","",'Seznam zápasů'!E100) -> BA Radotín | DI9: =IF('Seznam zápasů'!F100="","",'Seznam zápasů'!F100) -> 106 | DJ9: =IF('Seznam zápasů'!G100="","",'Seznam zápasů'!G100) | DK9: =IF('Seznam zápasů'!H100="","",'Seznam zápasů'!H100) | DL9: =IF('Seznam zápasů'!I100="","",'Seznam zápasů'!I100) | DM9: =IF('Seznam zápasů'!J100="","",'Seznam zápasů'!J100) -> Nadcházející | DN9: =IF('Seznam zápasů'!A134="","",'Seznam zápasů'!A134) -> 46334 | DO9: =IF('Seznam zápasů'!B134="","",'Seznam zápasů'!B134) -> Ne | DP9: =IF('Seznam zápasů'!D134="","",'Seznam zápasů'!D134) -> žákovská liga | DQ9: =IF('Seznam zápasů'!E134="","",'Seznam zápasů'!E134) -> Vlčice Žďár | DR9: =IF('Seznam zápasů'!F134="","",'Seznam zápasů'!F134) -> 139 | DS9: =IF('Seznam zápasů'!G134="","",'Seznam zápasů'!G134) | DT9: =IF('Seznam zápasů'!H134="","",'Seznam zápasů'!H134) | DU9: =IF('Seznam zápasů'!I134="","",'Seznam zápasů'!I134) | DV9: =IF('Seznam zápasů'!J134="","",'Seznam zápasů'!J134) -> Nadcházející | DW9: =IF('Seznam zápasů'!A163="","",'Seznam zápasů'!A163) -> 46347 | DX9: =IF('Seznam zápasů'!B163="","",'Seznam zápasů'!B163) -> So | DY9: =IF('Seznam zápasů'!D163="","",'Seznam zápasů'!D163) -> nadreg. liga | DZ9: =IF('Seznam zápasů'!E163="","",'Seznam zápasů'!E163) -> Basket Říčany | EA9: =IF('Seznam zápasů'!F163="","",'Seznam zápasů'!F163) -> 023 | EB9: =IF('Seznam zápasů'!G163="","",'Seznam zápasů'!G163) | EC9: =IF('Seznam zápasů'!H163="","",'Seznam zápasů'!H163) | ED9: =IF('Seznam zápasů'!I163="","",'Seznam zápasů'!I163) | EE9: =IF('Seznam zápasů'!J163="","",'Seznam zápasů'!J163) -> Nadcházející | EF9: =IF('Seznam zápasů'!A141="","",'Seznam zápasů'!A141) -> 46340 | EG9: =IF('Seznam zápasů'!B141="","",'Seznam zápasů'!B141) -> So | EH9: =IF('Seznam zápasů'!D141="","",'Seznam zápasů'!D141) -> KP + kval. o NF | EI9: =IF('Seznam zápasů'!E141="","",'Seznam zápasů'!E141) -> Basketbal Újezd nad Lesy | EJ9: =IF('Seznam zápasů'!F141="","",'Seznam zápasů'!F141) -> 021 | EK9: =IF('Seznam zápasů'!G141="","",'Seznam zápasů'!G141) | EL9: =IF('Seznam zápasů'!H141="","",'Seznam zápasů'!H141) | EM9: =IF('Seznam zápasů'!I141="","",'Seznam zápasů'!I141) | EN9: =IF('Seznam zápasů'!J141="","",'Seznam zápasů'!J141) -> Nadcházející | EO9: =IF('Seznam zápasů'!A231="","",'Seznam zápasů'!A231) -> 46403 | EP9: =IF('Seznam zápasů'!B231="","",'Seznam zápasů'!B231) -> So | EQ9: =IF('Seznam zápasů'!D231="","",'Seznam zápasů'!D231) -> KP + kval. o NF | ER9: =IF('Seznam zápasů'!E231="","",'Seznam zápasů'!E231) -> Nymburk-BN-Brandýs 001-003 | ES9: =IF('Seznam zápasů'!F231="","",'Seznam zápasů'!F231) | ET9: =IF('Seznam zápasů'!G231="","",'Seznam zápasů'!G231) | EU9: =IF('Seznam zápasů'!H231="","",'Seznam zápasů'!H231) | EV9: =IF('Seznam zápasů'!I231="","",'Seznam zápasů'!I231) | EW9: =IF('Seznam zápasů'!J231="","",'Seznam zápasů'!J231) -> Nadcházející | EX9: =IF('Seznam zápasů'!A213="","",'Seznam zápasů'!A213) -> 46396 | EY9: =IF('Seznam zápasů'!B213="","",'Seznam zápasů'!B213) -> So | EZ9: =IF('Seznam zápasů'!D213="","",'Seznam zápasů'!D213) -> KP + kval. o NF | FA9: =IF('Seznam zápasů'!E213="","",'Seznam zápasů'!E213) -> BN-Brandýs-Nymburk 001-003 | FB9: =IF('Seznam zápasů'!F213="","",'Seznam zápasů'!F213) | FC9: =IF('Seznam zápasů'!G213="","",'Seznam zápasů'!G213) | FD9: =IF('Seznam zápasů'!H213="","",'Seznam zápasů'!H213) | FE9: =IF('Seznam zápasů'!I213="","",'Seznam zápasů'!I213) | FF9: =IF('Seznam zápasů'!J213="","",'Seznam zápasů'!J213) -> Nadcházející | FG9: =IF('Seznam zápasů'!A305="","",'Seznam zápasů'!A305) -> 46438 | FH9: =IF('Seznam zápasů'!B305="","",'Seznam zápasů'!B305) -> So | FI9: =IF('Seznam zápasů'!D305="","",'Seznam zápasů'!D305) -> KP | FJ9: =IF('Seznam zápasů'!E305="","",'Seznam zápasů'!E305) -> BC Slaný | FK9: =IF('Seznam zápasů'!F305="","",'Seznam zápasů'!F305) -> 2x 016,036 | FL9: =IF('Seznam zápasů'!G305="","",'Seznam zápasů'!G305) | FM9: =IF('Seznam zápasů'!H305="","",'Seznam zápasů'!H305) | FN9: =IF('Seznam zápasů'!I305="","",'Seznam zápasů'!I305) | FO9: =IF('Seznam zápasů'!J305="","",'Seznam zápasů'!J305) -> Nadcházející | FP9: =IF('Seznam zápasů'!A115="","",'Seznam zápasů'!A115) -> 46320 | FQ9: =IF('Seznam zápasů'!B115="","",'Seznam zápasů'!B115) -> Ne | FR9: =IF('Seznam zápasů'!D115="","",'Seznam zápasů'!D115) -> KP + kval. o NF | FS9: =IF('Seznam zápasů'!E115="","",'Seznam zápasů'!E115) -> HB Basket | FT9: =IF('Seznam zápasů'!F115="","",'Seznam zápasů'!F115) -> 045 | FU9: =IF('Seznam zápasů'!G115="","",'Seznam zápasů'!G115) | FV9: =IF('Seznam zápasů'!H115="","",'Seznam zápasů'!H115) | FW9: =IF('Seznam zápasů'!I115="","",'Seznam zápasů'!I115) | FX9: =IF('Seznam zápasů'!J115="","",'Seznam zápasů'!J115) -> Nadcházející | FY9: =IF('Seznam zápasů'!A243="","",'Seznam zápasů'!A243) -> 46404 | FZ9: =IF('Seznam zápasů'!B243="","",'Seznam zápasů'!B243) -> Ne | GA9: =IF('Seznam zápasů'!D243="","",'Seznam zápasů'!D243) -> KP + kval. o NF | GB9: =IF('Seznam zápasů'!E243="","",'Seznam zápasů'!E243) -> ŠBK Sadská kval. | GC9: =IF('Seznam zápasů'!F243="","",'Seznam zápasů'!F243) -> 002 | GD9: =IF('Seznam zápasů'!G243="","",'Seznam zápasů'!G243) | GE9: =IF('Seznam zápasů'!H243="","",'Seznam zápasů'!H243) | GF9: =IF('Seznam zápasů'!I243="","",'Seznam zápasů'!I243) | GG9: =IF('Seznam zápasů'!J243="","",'Seznam zápasů'!J243) -> Nadcházející | GH9: =IF('Seznam zápasů'!A221="","",'Seznam zápasů'!A221) -> 46397 | GI9: =IF('Seznam zápasů'!B221="","",'Seznam zápasů'!B221) -> Ne | GJ9: =IF('Seznam zápasů'!D221="","",'Seznam zápasů'!D221) -> KP + kval. o NF | GK9: =IF('Seznam zápasů'!E221="","",'Seznam zápasů'!E221) -> BC Slaný kval. | GL9: =IF('Seznam zápasů'!F221="","",'Seznam zápasů'!F221) -> 003 | GM9: =IF('Seznam zápasů'!G221="","",'Seznam zápasů'!G221) | GN9: =IF('Seznam zápasů'!H221="","",'Seznam zápasů'!H221) | GO9: =IF('Seznam zápasů'!I221="","",'Seznam zápasů'!I221) | GP9: =IF('Seznam zápasů'!J221="","",'Seznam zápasů'!J221) -> Nadcházející | GQ9: =IF('Seznam zápasů'!A331="","",'Seznam zápasů'!A331) -> 46452 | GR9: =IF('Seznam zápasů'!B331="","",'Seznam zápasů'!B331) -> So | GS9: =IF('Seznam zápasů'!D331="","",'Seznam zápasů'!D331) -> KP | GT9: =IF('Seznam zápasů'!E331="","",'Seznam zápasů'!E331) -> BK Mělník | GU9: =IF('Seznam zápasů'!F331="","",'Seznam zápasů'!F331) -> 2x 018,038 | GV9: =IF('Seznam zápasů'!G331="","",'Seznam zápasů'!G331) | GW9: =IF('Seznam zápasů'!H331="","",'Seznam zápasů'!H331) | GX9: =IF('Seznam zápasů'!I331="","",'Seznam zápasů'!I331) | GY9: =IF('Seznam zápasů'!J331="","",'Seznam zápasů'!J331) -> Nadcházející
A10: =IF('Seznam zápasů'!A171="","",'Seznam zápasů'!A171) -> 46348 | B10: =IF('Seznam zápasů'!B171="","",'Seznam zápasů'!B171) -> Ne | C10: =IF('Seznam zápasů'!D171="","",'Seznam zápasů'!D171) -> SBLM | D10: =IF('Seznam zápasů'!E171="","",'Seznam zápasů'!E171) -> BK Beroun | E10: =IF('Seznam zápasů'!F171="","",'Seznam zápasů'!F171) -> 056 | F10: =IF('Seznam zápasů'!G171="","",'Seznam zápasů'!G171) | G10: =IF('Seznam zápasů'!H171="","",'Seznam zápasů'!H171) | H10: =IF('Seznam zápasů'!I171="","",'Seznam zápasů'!I171) | I10: =IF('Seznam zápasů'!J171="","",'Seznam zápasů'!J171) -> Nadcházející | J10: =IF('Seznam zápasů'!A182="","",'Seznam zápasů'!A182) -> 46361 | K10: =IF('Seznam zápasů'!B182="","",'Seznam zápasů'!B182) -> So | L10: =IF('Seznam zápasů'!D182="","",'Seznam zápasů'!D182) -> KP | M10: =IF('Seznam zápasů'!E182="","",'Seznam zápasů'!E182) -> TJ TZ Rakovník | N10: =IF('Seznam zápasů'!F182="","",'Seznam zápasů'!F182) -> 031 | O10: =IF('Seznam zápasů'!G182="","",'Seznam zápasů'!G182) | P10: =IF('Seznam zápasů'!H182="","",'Seznam zápasů'!H182) | Q10: =IF('Seznam zápasů'!I182="","",'Seznam zápasů'!I182) | R10: =IF('Seznam zápasů'!J182="","",'Seznam zápasů'!J182) -> Nadcházející | S10: =IF('Seznam zápasů'!A136="","",'Seznam zápasů'!A136) -> 46334 | T10: =IF('Seznam zápasů'!B136="","",'Seznam zápasů'!B136) -> Ne | U10: =IF('Seznam zápasů'!D136="","",'Seznam zápasů'!D136) -> II. Liga | V10: =IF('Seznam zápasů'!E136="","",'Seznam zápasů'!E136) -> Sokol Nusle B | W10: =IF('Seznam zápasů'!F136="","",'Seznam zápasů'!F136) -> 032 | X10: =IF('Seznam zápasů'!G136="","",'Seznam zápasů'!G136) | Y10: =IF('Seznam zápasů'!H136="","",'Seznam zápasů'!H136) | Z10: =IF('Seznam zápasů'!I136="","",'Seznam zápasů'!I136) | AA10: =IF('Seznam zápasů'!J136="","",'Seznam zápasů'!J136) -> Nadcházející | AB10: =IF('Seznam zápasů'!A165="","",'Seznam zápasů'!A165) -> 46347 | AC10: =IF('Seznam zápasů'!B165="","",'Seznam zápasů'!B165) -> So | AD10: =IF('Seznam zápasů'!D165="","",'Seznam zápasů'!D165) -> SBLŽ | AE10: =IF('Seznam zápasů'!E165="","",'Seznam zápasů'!E165) -> BC Benešov "C" | AF10: =IF('Seznam zápasů'!F165="","",'Seznam zápasů'!F165) -> 030 | AG10: =IF('Seznam zápasů'!G165="","",'Seznam zápasů'!G165) | AH10: =IF('Seznam zápasů'!H165="","",'Seznam zápasů'!H165) | AI10: =IF('Seznam zápasů'!I165="","",'Seznam zápasů'!I165) | AJ10: =IF('Seznam zápasů'!J165="","",'Seznam zápasů'!J165) -> Nadcházející | AK10: =IF('Seznam zápasů'!A166="","",'Seznam zápasů'!A166) -> 46347 | AL10: =IF('Seznam zápasů'!B166="","",'Seznam zápasů'!B166) -> So | AM10: =IF('Seznam zápasů'!D166="","",'Seznam zápasů'!D166) -> SBLŽ | AN10: =IF('Seznam zápasů'!E166="","",'Seznam zápasů'!E166) -> BC Benešov "B" | AO10: =IF('Seznam zápasů'!F166="","",'Seznam zápasů'!F166) -> 030 | AP10: =IF('Seznam zápasů'!G166="","",'Seznam zápasů'!G166) | AQ10: =IF('Seznam zápasů'!H166="","",'Seznam zápasů'!H166) | AR10: =IF('Seznam zápasů'!I166="","",'Seznam zápasů'!I166) | AS10: =IF('Seznam zápasů'!J166="","",'Seznam zápasů'!J166) -> Nadcházející | AT10: =IF('Seznam zápasů'!A148="","",'Seznam zápasů'!A148) -> 46341 | AU10: =IF('Seznam zápasů'!B148="","",'Seznam zápasů'!B148) -> Ne | AV10: =IF('Seznam zápasů'!D148="","",'Seznam zápasů'!D148) -> NRL | AW10: =IF('Seznam zápasů'!E148="","",'Seznam zápasů'!E148) -> Tigers České Budějovice | AX10: =IF('Seznam zápasů'!F148="","",'Seznam zápasů'!F148) -> 19249 | AY10: =IF('Seznam zápasů'!G148="","",'Seznam zápasů'!G148) | AZ10: =IF('Seznam zápasů'!H148="","",'Seznam zápasů'!H148) | BA10: =IF('Seznam zápasů'!I148="","",'Seznam zápasů'!I148) | BB10: =IF('Seznam zápasů'!J148="","",'Seznam zápasů'!J148) -> Nadcházející | BC10: =IF('Seznam zápasů'!A131="","",'Seznam zápasů'!A131) -> 46334 | BD10: =IF('Seznam zápasů'!B131="","",'Seznam zápasů'!B131) -> Ne | BE10: =IF('Seznam zápasů'!D131="","",'Seznam zápasů'!D131) -> nadreg. liga | BF10: =IF('Seznam zápasů'!E131="","",'Seznam zápasů'!E131) -> BA Lynx Liberecko B | BG10: =IF('Seznam zápasů'!F131="","",'Seznam zápasů'!F131) -> 17157 | BH10: =IF('Seznam zápasů'!G131="","",'Seznam zápasů'!G131) | BI10: =IF('Seznam zápasů'!H131="","",'Seznam zápasů'!H131) | BJ10: =IF('Seznam zápasů'!I131="","",'Seznam zápasů'!I131) | BK10: =IF('Seznam zápasů'!J131="","",'Seznam zápasů'!J131) -> Nadcházející | BL10: =IF('Seznam zápasů'!A132="","",'Seznam zápasů'!A132) -> 46334 | BM10: =IF('Seznam zápasů'!B132="","",'Seznam zápasů'!B132) -> Ne | BN10: =IF('Seznam zápasů'!D132="","",'Seznam zápasů'!D132) -> celostátní liga | BO10: =IF('Seznam zápasů'!E132="","",'Seznam zápasů'!E132) -> Tigers České Budějovice | BP10: =IF('Seznam zápasů'!F132="","",'Seznam zápasů'!F132) -> 086 | BQ10: =IF('Seznam zápasů'!G132="","",'Seznam zápasů'!G132) | BR10: =IF('Seznam zápasů'!H132="","",'Seznam zápasů'!H132) | BS10: =IF('Seznam zápasů'!I132="","",'Seznam zápasů'!I132) | BT10: =IF('Seznam zápasů'!J132="","",'Seznam zápasů'!J132) -> Nadcházející | BU10: =IF('Seznam zápasů'!A133="","",'Seznam zápasů'!A133) -> 46334 | BV10: =IF('Seznam zápasů'!B133="","",'Seznam zápasů'!B133) -> Ne | BW10: =IF('Seznam zápasů'!D133="","",'Seznam zápasů'!D133) -> nadreg. liga | BX10: =IF('Seznam zápasů'!E133="","",'Seznam zápasů'!E133) -> Válečnice Děčín B | BY10: =IF('Seznam zápasů'!F133="","",'Seznam zápasů'!F133) -> 17578 | BZ10: =IF('Seznam zápasů'!G133="","",'Seznam zápasů'!G133) | CA10: =IF('Seznam zápasů'!H133="","",'Seznam zápasů'!H133) | CB10: =IF('Seznam zápasů'!I133="","",'Seznam zápasů'!I133) | CC10: =IF('Seznam zápasů'!J133="","",'Seznam zápasů'!J133) -> Nadcházející | CD10: =IF('Seznam zápasů'!A151="","",'Seznam zápasů'!A151) -> 46341 | CE10: =IF('Seznam zápasů'!B151="","",'Seznam zápasů'!B151) -> Ne | CF10: =IF('Seznam zápasů'!D151="","",'Seznam zápasů'!D151) -> žákovská liga | CG10: =IF('Seznam zápasů'!E151="","",'Seznam zápasů'!E151) -> BA Radotín | CH10: =IF('Seznam zápasů'!F151="","",'Seznam zápasů'!F151) -> 030 | CI10: =IF('Seznam zápasů'!G151="","",'Seznam zápasů'!G151) | CJ10: =IF('Seznam zápasů'!H151="","",'Seznam zápasů'!H151) | CK10: =IF('Seznam zápasů'!I151="","",'Seznam zápasů'!I151) | CL10: =IF('Seznam zápasů'!J151="","",'Seznam zápasů'!J151) -> Nadcházející | CM10: =IF('Seznam zápasů'!A152="","",'Seznam zápasů'!A152) -> 46341 | CN10: =IF('Seznam zápasů'!B152="","",'Seznam zápasů'!B152) -> Ne | CO10: =IF('Seznam zápasů'!D152="","",'Seznam zápasů'!D152) -> žákovská liga | CP10: =IF('Seznam zápasů'!E152="","",'Seznam zápasů'!E152) -> HB Basket Praha | CQ10: =IF('Seznam zápasů'!F152="","",'Seznam zápasů'!F152) -> 029 | CR10: =IF('Seznam zápasů'!G152="","",'Seznam zápasů'!G152) | CS10: =IF('Seznam zápasů'!H152="","",'Seznam zápasů'!H152) | CT10: =IF('Seznam zápasů'!I152="","",'Seznam zápasů'!I152) | CU10: =IF('Seznam zápasů'!J152="","",'Seznam zápasů'!J152) -> Nadcházející | CV10: =IF('Seznam zápasů'!A185="","",'Seznam zápasů'!A185) -> 46361 | CW10: =IF('Seznam zápasů'!B185="","",'Seznam zápasů'!B185) -> So | CX10: =IF('Seznam zápasů'!D185="","",'Seznam zápasů'!D185) -> nadreg. Liga | CY10: =IF('Seznam zápasů'!E185="","",'Seznam zápasů'!E185) -> BC Wizard | CZ10: =IF('Seznam zápasů'!F185="","",'Seznam zápasů'!F185) -> 068 | DA10: =IF('Seznam zápasů'!G185="","",'Seznam zápasů'!G185) | DB10: =IF('Seznam zápasů'!H185="","",'Seznam zápasů'!H185) | DC10: =IF('Seznam zápasů'!I185="","",'Seznam zápasů'!I185) | DD10: =IF('Seznam zápasů'!J185="","",'Seznam zápasů'!J185) -> Nadcházející | DE10: =IF('Seznam zápasů'!A125="","",'Seznam zápasů'!A125) -> 46333 | DF10: =IF('Seznam zápasů'!B125="","",'Seznam zápasů'!B125) -> So | DG10: =IF('Seznam zápasů'!D125="","",'Seznam zápasů'!D125) -> žákovská liga | DH10: =IF('Seznam zápasů'!E125="","",'Seznam zápasů'!E125) -> BK Kladno | DI10: =IF('Seznam zápasů'!F125="","",'Seznam zápasů'!F125) -> 109 | DJ10: =IF('Seznam zápasů'!G125="","",'Seznam zápasů'!G125) | DK10: =IF('Seznam zápasů'!H125="","",'Seznam zápasů'!H125) | DL10: =IF('Seznam zápasů'!I125="","",'Seznam zápasů'!I125) | DM10: =IF('Seznam zápasů'!J125="","",'Seznam zápasů'!J125) -> Nadcházející | DN10: =IF('Seznam zápasů'!A162="","",'Seznam zápasů'!A162) -> 46347 | DO10: =IF('Seznam zápasů'!B162="","",'Seznam zápasů'!B162) -> So | DP10: =IF('Seznam zápasů'!D162="","",'Seznam zápasů'!D162) -> žákovská liga | DQ10: =IF('Seznam zápasů'!E162="","",'Seznam zápasů'!E162) -> Žabiny Brno B | DR10: =IF('Seznam zápasů'!F162="","",'Seznam zápasů'!F162) -> 142 | DS10: =IF('Seznam zápasů'!G162="","",'Seznam zápasů'!G162) | DT10: =IF('Seznam zápasů'!H162="","",'Seznam zápasů'!H162) | DU10: =IF('Seznam zápasů'!I162="","",'Seznam zápasů'!I162) | DV10: =IF('Seznam zápasů'!J162="","",'Seznam zápasů'!J162) -> Nadcházející | DW10: =IF('Seznam zápasů'!A209="","",'Seznam zápasů'!A209) -> 46369 | DX10: =IF('Seznam zápasů'!B209="","",'Seznam zápasů'!B209) -> Ne | DY10: =IF('Seznam zápasů'!D209="","",'Seznam zápasů'!D209) -> nadreg. liga | DZ10: =IF('Seznam zápasů'!E209="","",'Seznam zápasů'!E209) -> Slovan Varnsdorf | EA10: =IF('Seznam zápasů'!F209="","",'Seznam zápasů'!F209) -> 029 | EB10: =IF('Seznam zápasů'!G209="","",'Seznam zápasů'!G209) | EC10: =IF('Seznam zápasů'!H209="","",'Seznam zápasů'!H209) | ED10: =IF('Seznam zápasů'!I209="","",'Seznam zápasů'!I209) | EE10: =IF('Seznam zápasů'!J209="","",'Seznam zápasů'!J209) -> Nadcházející | EF10: =IF('Seznam zápasů'!A179="","",'Seznam zápasů'!A179) -> 46361 | EG10: =IF('Seznam zápasů'!B179="","",'Seznam zápasů'!B179) -> So | EH10: =IF('Seznam zápasů'!D179="","",'Seznam zápasů'!D179) -> KP + kval. o NF | EI10: =IF('Seznam zápasů'!E179="","",'Seznam zápasů'!E179) -> NBK Milovice | EJ10: =IF('Seznam zápasů'!F179="","",'Seznam zápasů'!F179) -> 022 | EK10: =IF('Seznam zápasů'!G179="","",'Seznam zápasů'!G179) | EL10: =IF('Seznam zápasů'!H179="","",'Seznam zápasů'!H179) | EM10: =IF('Seznam zápasů'!I179="","",'Seznam zápasů'!I179) | EN10: =IF('Seznam zápasů'!J179="","",'Seznam zápasů'!J179) -> Nadcházející | EO10: =IF('Seznam zápasů'!A273="","",'Seznam zápasů'!A273) -> 46424 | EP10: =IF('Seznam zápasů'!B273="","",'Seznam zápasů'!B273) -> So | EQ10: =IF('Seznam zápasů'!D273="","",'Seznam zápasů'!D273) -> KP + kval. o NF | ER10: =IF('Seznam zápasů'!E273="","",'Seznam zápasů'!E273) -> TJ Sokol Smíchov | ES10: =IF('Seznam zápasů'!F273="","",'Seznam zápasů'!F273) -> 2x 025,061 | ET10: =IF('Seznam zápasů'!G273="","",'Seznam zápasů'!G273) | EU10: =IF('Seznam zápasů'!H273="","",'Seznam zápasů'!H273) | EV10: =IF('Seznam zápasů'!I273="","",'Seznam zápasů'!I273) | EW10: =IF('Seznam zápasů'!J273="","",'Seznam zápasů'!J273) -> Nadcházející | EX10: =IF('Seznam zápasů'!A253="","",'Seznam zápasů'!A253) -> 46410 | EY10: =IF('Seznam zápasů'!B253="","",'Seznam zápasů'!B253) -> So | EZ10: =IF('Seznam zápasů'!D253="","",'Seznam zápasů'!D253) -> KP + kval. o NF | FA10: =IF('Seznam zápasů'!E253="","",'Seznam zápasů'!E253) -> Nymburk-Brandýs-BN 004-006 | FB10: =IF('Seznam zápasů'!F253="","",'Seznam zápasů'!F253) | FC10: =IF('Seznam zápasů'!G253="","",'Seznam zápasů'!G253) | FD10: =IF('Seznam zápasů'!H253="","",'Seznam zápasů'!H253) | FE10: =IF('Seznam zápasů'!I253="","",'Seznam zápasů'!I253) | FF10: =IF('Seznam zápasů'!J253="","",'Seznam zápasů'!J253) -> Nadcházející | FG10: =IF('Seznam zápasů'!A373="","",'Seznam zápasů'!A373) -> 46480 | FH10: =IF('Seznam zápasů'!B373="","",'Seznam zápasů'!B373) -> So | FI10: =IF('Seznam zápasů'!D373="","",'Seznam zápasů'!D373) -> KP | FJ10: =IF('Seznam zápasů'!E373="","",'Seznam zápasů'!E373) -> TJ AŠ Mladá Boleslav | FK10: =IF('Seznam zápasů'!F373="","",'Seznam zápasů'!F373) -> 2x 020,040 | FL10: =IF('Seznam zápasů'!G373="","",'Seznam zápasů'!G373) | FM10: =IF('Seznam zápasů'!H373="","",'Seznam zápasů'!H373) | FN10: =IF('Seznam zápasů'!I373="","",'Seznam zápasů'!I373) | FO10: =IF('Seznam zápasů'!J373="","",'Seznam zápasů'!J373) -> Nadcházející | FP10: =IF('Seznam zápasů'!A143="","",'Seznam zápasů'!A143) -> 46340 | FQ10: =IF('Seznam zápasů'!B143="","",'Seznam zápasů'!B143) -> So | FR10: =IF('Seznam zápasů'!D143="","",'Seznam zápasů'!D143) -> KP + kval. o NF | FS10: =IF('Seznam zápasů'!E143="","",'Seznam zápasů'!E143) -> BC Kolín | FT10: =IF('Seznam zápasů'!F143="","",'Seznam zápasů'!F143) -> 052 | FU10: =IF('Seznam zápasů'!G143="","",'Seznam zápasů'!G143) | FV10: =IF('Seznam zápasů'!H143="","",'Seznam zápasů'!H143) | FW10: =IF('Seznam zápasů'!I143="","",'Seznam zápasů'!I143) | FX10: =IF('Seznam zápasů'!J143="","",'Seznam zápasů'!J143) -> Nadcházející | FY10: =IF('Seznam zápasů'!A275="","",'Seznam zápasů'!A275) -> 46424 | FZ10: =IF('Seznam zápasů'!B275="","",'Seznam zápasů'!B275) -> So | GA10: =IF('Seznam zápasů'!D275="","",'Seznam zápasů'!D275) -> KP + kval. o NF | GB10: =IF('Seznam zápasů'!E275="","",'Seznam zápasů'!E275) -> Sokol Kladno | GC10: =IF('Seznam zápasů'!F275="","",'Seznam zápasů'!F275) -> 2x 026,64 | GD10: =IF('Seznam zápasů'!G275="","",'Seznam zápasů'!G275) | GE10: =IF('Seznam zápasů'!H275="","",'Seznam zápasů'!H275) | GF10: =IF('Seznam zápasů'!I275="","",'Seznam zápasů'!I275) | GG10: =IF('Seznam zápasů'!J275="","",'Seznam zápasů'!J275) -> Nadcházející | GH10: =IF('Seznam zápasů'!A255="","",'Seznam zápasů'!A255) -> 46410 | GI10: =IF('Seznam zápasů'!B255="","",'Seznam zápasů'!B255) -> So | GJ10: =IF('Seznam zápasů'!D255="","",'Seznam zápasů'!D255) -> KP + kval. o NF | GK10: =IF('Seznam zápasů'!E255="","",'Seznam zápasů'!E255) -> ŠBK Sadská kval. | GL10: =IF('Seznam zápasů'!F255="","",'Seznam zápasů'!F255) -> 005 | GM10: =IF('Seznam zápasů'!G255="","",'Seznam zápasů'!G255) | GN10: =IF('Seznam zápasů'!H255="","",'Seznam zápasů'!H255) | GO10: =IF('Seznam zápasů'!I255="","",'Seznam zápasů'!I255) | GP10: =IF('Seznam zápasů'!J255="","",'Seznam zápasů'!J255) -> Nadcházející | GQ10: =IF('Seznam zápasů'!A375="","",'Seznam zápasů'!A375) -> 46480 | GR10: =IF('Seznam zápasů'!B375="","",'Seznam zápasů'!B375) -> So | GS10: =IF('Seznam zápasů'!D375="","",'Seznam zápasů'!D375) -> KP | GT10: =IF('Seznam zápasů'!E375="","",'Seznam zápasů'!E375) -> BC Slaný | GU10: =IF('Seznam zápasů'!F375="","",'Seznam zápasů'!F375) -> 2x 019,039 | GV10: =IF('Seznam zápasů'!G375="","",'Seznam zápasů'!G375) | GW10: =IF('Seznam zápasů'!H375="","",'Seznam zápasů'!H375) | GX10: =IF('Seznam zápasů'!I375="","",'Seznam zápasů'!I375) | GY10: =IF('Seznam zápasů'!J375="","",'Seznam zápasů'!J375) -> Nadcházející
A11: =IF('Seznam zápasů'!A175="","",'Seznam zápasů'!A175) -> 46354 | B11: =IF('Seznam zápasů'!B175="","",'Seznam zápasů'!B175) -> So | C11: =IF('Seznam zápasů'!D175="","",'Seznam zápasů'!D175) -> SBLM | D11: =IF('Seznam zápasů'!E175="","",'Seznam zápasů'!E175) -> BC Real Réma Nymbuk | E11: =IF('Seznam zápasů'!F175="","",'Seznam zápasů'!F175) -> 058 | F11: =IF('Seznam zápasů'!G175="","",'Seznam zápasů'!G175) | G11: =IF('Seznam zápasů'!H175="","",'Seznam zápasů'!H175) | H11: =IF('Seznam zápasů'!I175="","",'Seznam zápasů'!I175) | I11: =IF('Seznam zápasů'!J175="","",'Seznam zápasů'!J175) -> Nadcházející | J11: =IF('Seznam zápasů'!A223="","",'Seznam zápasů'!A223) -> 46397 | K11: =IF('Seznam zápasů'!B223="","",'Seznam zápasů'!B223) -> Ne | L11: =IF('Seznam zápasů'!D223="","",'Seznam zápasů'!D223) -> KP | M11: =IF('Seznam zápasů'!E223="","",'Seznam zápasů'!E223) -> BK Příbram 2000 "B" | N11: =IF('Seznam zápasů'!F223="","",'Seznam zápasů'!F223) -> 040 | O11: =IF('Seznam zápasů'!G223="","",'Seznam zápasů'!G223) | P11: =IF('Seznam zápasů'!H223="","",'Seznam zápasů'!H223) | Q11: =IF('Seznam zápasů'!I223="","",'Seznam zápasů'!I223) | R11: =IF('Seznam zápasů'!J223="","",'Seznam zápasů'!J223) -> Nadcházející | S11: =IF('Seznam zápasů'!A164="","",'Seznam zápasů'!A164) -> 46347 | T11: =IF('Seznam zápasů'!B164="","",'Seznam zápasů'!B164) -> So | U11: =IF('Seznam zápasů'!D164="","",'Seznam zápasů'!D164) -> II. Liga | V11: =IF('Seznam zápasů'!E164="","",'Seznam zápasů'!E164) -> BA Roudnice | W11: =IF('Seznam zápasů'!F164="","",'Seznam zápasů'!F164) -> 033 | X11: =IF('Seznam zápasů'!G164="","",'Seznam zápasů'!G164) | Y11: =IF('Seznam zápasů'!H164="","",'Seznam zápasů'!H164) | Z11: =IF('Seznam zápasů'!I164="","",'Seznam zápasů'!I164) | AA11: =IF('Seznam zápasů'!J164="","",'Seznam zápasů'!J164) -> Nadcházející | AB11: =IF('Seznam zápasů'!A202="","",'Seznam zápasů'!A202) -> 46368 | AC11: =IF('Seznam zápasů'!B202="","",'Seznam zápasů'!B202) -> So | AD11: =IF('Seznam zápasů'!D202="","",'Seznam zápasů'!D202) -> SBLŽ | AE11: =IF('Seznam zápasů'!E202="","",'Seznam zápasů'!E202) -> BK Příbram 2000 | AF11: =IF('Seznam zápasů'!F202="","",'Seznam zápasů'!F202) -> 039 | AG11: =IF('Seznam zápasů'!G202="","",'Seznam zápasů'!G202) | AH11: =IF('Seznam zápasů'!H202="","",'Seznam zápasů'!H202) | AI11: =IF('Seznam zápasů'!I202="","",'Seznam zápasů'!I202) | AJ11: =IF('Seznam zápasů'!J202="","",'Seznam zápasů'!J202) -> Nadcházející | AK11: =IF('Seznam zápasů'!A211="","",'Seznam zápasů'!A211) -> 46369 | AL11: =IF('Seznam zápasů'!B211="","",'Seznam zápasů'!B211) -> Ne | AM11: =IF('Seznam zápasů'!D211="","",'Seznam zápasů'!D211) -> SBLŽ | AN11: =IF('Seznam zápasů'!E211="","",'Seznam zápasů'!E211) -> BK Příbram 2000 | AO11: =IF('Seznam zápasů'!F211="","",'Seznam zápasů'!F211) -> 043 | AP11: =IF('Seznam zápasů'!G211="","",'Seznam zápasů'!G211) | AQ11: =IF('Seznam zápasů'!H211="","",'Seznam zápasů'!H211) | AR11: =IF('Seznam zápasů'!I211="","",'Seznam zápasů'!I211) | AS11: =IF('Seznam zápasů'!J211="","",'Seznam zápasů'!J211) -> Nadcházející | AT11: =IF('Seznam zápasů'!A177="","",'Seznam zápasů'!A177) -> 46361 | AU11: =IF('Seznam zápasů'!B177="","",'Seznam zápasů'!B177) -> So | AV11: =IF('Seznam zápasů'!D177="","",'Seznam zápasů'!D177) -> NRL | AW11: =IF('Seznam zápasů'!E177="","",'Seznam zápasů'!E177) -> BK Příbram 2000 | AX11: =IF('Seznam zápasů'!F177="","",'Seznam zápasů'!F177) -> 19259 | AY11: =IF('Seznam zápasů'!G177="","",'Seznam zápasů'!G177) | AZ11: =IF('Seznam zápasů'!H177="","",'Seznam zápasů'!H177) | BA11: =IF('Seznam zápasů'!I177="","",'Seznam zápasů'!I177) | BB11: =IF('Seznam zápasů'!J177="","",'Seznam zápasů'!J177) -> Nadcházející | BC11: =IF('Seznam zápasů'!A154="","",'Seznam zápasů'!A154) -> 46347 | BD11: =IF('Seznam zápasů'!B154="","",'Seznam zápasů'!B154) -> So | BE11: =IF('Seznam zápasů'!D154="","",'Seznam zápasů'!D154) -> nadreg. liga | BF11: =IF('Seznam zápasů'!E154="","",'Seznam zápasů'!E154) -> BA Radotín | BG11: =IF('Seznam zápasů'!F154="","",'Seznam zápasů'!F154) -> 17162 | BH11: =IF('Seznam zápasů'!G154="","",'Seznam zápasů'!G154) | BI11: =IF('Seznam zápasů'!H154="","",'Seznam zápasů'!H154) | BJ11: =IF('Seznam zápasů'!I154="","",'Seznam zápasů'!I154) | BK11: =IF('Seznam zápasů'!J154="","",'Seznam zápasů'!J154) -> Nadcházející | BL11: =IF('Seznam zápasů'!A155="","",'Seznam zápasů'!A155) -> 46347 | BM11: =IF('Seznam zápasů'!B155="","",'Seznam zápasů'!B155) -> So | BN11: =IF('Seznam zápasů'!D155="","",'Seznam zápasů'!D155) -> celostátní liga | BO11: =IF('Seznam zápasů'!E155="","",'Seznam zápasů'!E155) -> Vlčice Žďár | BP11: =IF('Seznam zápasů'!F155="","",'Seznam zápasů'!F155) -> 092 | BQ11: =IF('Seznam zápasů'!G155="","",'Seznam zápasů'!G155) | BR11: =IF('Seznam zápasů'!H155="","",'Seznam zápasů'!H155) | BS11: =IF('Seznam zápasů'!I155="","",'Seznam zápasů'!I155) | BT11: =IF('Seznam zápasů'!J155="","",'Seznam zápasů'!J155) -> Nadcházející | BU11: =IF('Seznam zápasů'!A156="","",'Seznam zápasů'!A156) -> 46347 | BV11: =IF('Seznam zápasů'!B156="","",'Seznam zápasů'!B156) -> So | BW11: =IF('Seznam zápasů'!D156="","",'Seznam zápasů'!D156) -> nadreg. liga | BX11: =IF('Seznam zápasů'!E156="","",'Seznam zápasů'!E156) -> Basketbal Újezd nad Lesy | BY11: =IF('Seznam zápasů'!F156="","",'Seznam zápasů'!F156) -> 17582 | BZ11: =IF('Seznam zápasů'!G156="","",'Seznam zápasů'!G156) | CA11: =IF('Seznam zápasů'!H156="","",'Seznam zápasů'!H156) | CB11: =IF('Seznam zápasů'!I156="","",'Seznam zápasů'!I156) | CC11: =IF('Seznam zápasů'!J156="","",'Seznam zápasů'!J156) -> Nadcházející | CD11: =IF('Seznam zápasů'!A183="","",'Seznam zápasů'!A183) -> 46361 | CE11: =IF('Seznam zápasů'!B183="","",'Seznam zápasů'!B183) -> So | CF11: =IF('Seznam zápasů'!D183="","",'Seznam zápasů'!D183) -> žákovská liga | CG11: =IF('Seznam zápasů'!E183="","",'Seznam zápasů'!E183) -> BK Medvědi Tábor | CH11: =IF('Seznam zápasů'!F183="","",'Seznam zápasů'!F183) -> 035 | CI11: =IF('Seznam zápasů'!G183="","",'Seznam zápasů'!G183) | CJ11: =IF('Seznam zápasů'!H183="","",'Seznam zápasů'!H183) | CK11: =IF('Seznam zápasů'!I183="","",'Seznam zápasů'!I183) | CL11: =IF('Seznam zápasů'!J183="","",'Seznam zápasů'!J183) -> Nadcházející | CM11: =IF('Seznam zápasů'!A184="","",'Seznam zápasů'!A184) -> 46361 | CN11: =IF('Seznam zápasů'!B184="","",'Seznam zápasů'!B184) -> So | CO11: =IF('Seznam zápasů'!D184="","",'Seznam zápasů'!D184) -> žákovská liga | CP11: =IF('Seznam zápasů'!E184="","",'Seznam zápasů'!E184) -> Levhartice Chomutov | CQ11: =IF('Seznam zápasů'!F184="","",'Seznam zápasů'!F184) -> 034 | CR11: =IF('Seznam zápasů'!G184="","",'Seznam zápasů'!G184) | CS11: =IF('Seznam zápasů'!H184="","",'Seznam zápasů'!H184) | CT11: =IF('Seznam zápasů'!I184="","",'Seznam zápasů'!I184) | CU11: =IF('Seznam zápasů'!J184="","",'Seznam zápasů'!J184) -> Nadcházející | CV11: =IF('Seznam zápasů'!A191="","",'Seznam zápasů'!A191) -> 46362 | CW11: =IF('Seznam zápasů'!B191="","",'Seznam zápasů'!B191) -> Ne | CX11: =IF('Seznam zápasů'!D191="","",'Seznam zápasů'!D191) -> nadreg. Liga | CY11: =IF('Seznam zápasů'!E191="","",'Seznam zápasů'!E191) -> BK Brandýs B | CZ11: =IF('Seznam zápasů'!F191="","",'Seznam zápasů'!F191) -> 073 | DA11: =IF('Seznam zápasů'!G191="","",'Seznam zápasů'!G191) | DB11: =IF('Seznam zápasů'!H191="","",'Seznam zápasů'!H191) | DC11: =IF('Seznam zápasů'!I191="","",'Seznam zápasů'!I191) | DD11: =IF('Seznam zápasů'!J191="","",'Seznam zápasů'!J191) -> Nadcházející | DE11: =IF('Seznam zápasů'!A161="","",'Seznam zápasů'!A161) -> 46347 | DF11: =IF('Seznam zápasů'!B161="","",'Seznam zápasů'!B161) -> So | DG11: =IF('Seznam zápasů'!D161="","",'Seznam zápasů'!D161) -> žákovská liga | DH11: =IF('Seznam zápasů'!E161="","",'Seznam zápasů'!E161) -> Jižní Supi | DI11: =IF('Seznam zápasů'!F161="","",'Seznam zápasů'!F161) -> 111 | DJ11: =IF('Seznam zápasů'!G161="","",'Seznam zápasů'!G161) | DK11: =IF('Seznam zápasů'!H161="","",'Seznam zápasů'!H161) | DL11: =IF('Seznam zápasů'!I161="","",'Seznam zápasů'!I161) | DM11: =IF('Seznam zápasů'!J161="","",'Seznam zápasů'!J161) -> Nadcházející | DN11: =IF('Seznam zápasů'!A173="","",'Seznam zápasů'!A173) -> 46348 | DO11: =IF('Seznam zápasů'!B173="","",'Seznam zápasů'!B173) -> Ne | DP11: =IF('Seznam zápasů'!D173="","",'Seznam zápasů'!D173) -> žákovská liga | DQ11: =IF('Seznam zápasů'!E173="","",'Seznam zápasů'!E173) -> Žabiny Brno | DR11: =IF('Seznam zápasů'!F173="","",'Seznam zápasů'!F173) -> 144 | DS11: =IF('Seznam zápasů'!G173="","",'Seznam zápasů'!G173) | DT11: =IF('Seznam zápasů'!H173="","",'Seznam zápasů'!H173) | DU11: =IF('Seznam zápasů'!I173="","",'Seznam zápasů'!I173) | DV11: =IF('Seznam zápasů'!J173="","",'Seznam zápasů'!J173) -> Nadcházející | DW11: =IF('Seznam zápasů'!A236="","",'Seznam zápasů'!A236) -> 46403 | DX11: =IF('Seznam zápasů'!B236="","",'Seznam zápasů'!B236) -> So | DY11: =IF('Seznam zápasů'!D236="","",'Seznam zápasů'!D236) -> nadreg. liga | DZ11: =IF('Seznam zápasů'!E236="","",'Seznam zápasů'!E236) -> Tygři Praha B | EA11: =IF('Seznam zápasů'!F236="","",'Seznam zápasů'!F236) -> 033 | EB11: =IF('Seznam zápasů'!G236="","",'Seznam zápasů'!G236) | EC11: =IF('Seznam zápasů'!H236="","",'Seznam zápasů'!H236) | ED11: =IF('Seznam zápasů'!I236="","",'Seznam zápasů'!I236) | EE11: =IF('Seznam zápasů'!J236="","",'Seznam zápasů'!J236) -> Nadcházející | EF11: =IF('Seznam zápasů'!A187="","",'Seznam zápasů'!A187) -> 46362 | EG11: =IF('Seznam zápasů'!B187="","",'Seznam zápasů'!B187) -> Ne | EH11: =IF('Seznam zápasů'!D187="","",'Seznam zápasů'!D187) -> KP + kval. o NF | EI11: =IF('Seznam zápasů'!E187="","",'Seznam zápasů'!E187) -> BK Český Brod | EJ11: =IF('Seznam zápasů'!F187="","",'Seznam zápasů'!F187) -> 025 | EK11: =IF('Seznam zápasů'!G187="","",'Seznam zápasů'!G187) | EL11: =IF('Seznam zápasů'!H187="","",'Seznam zápasů'!H187) | EM11: =IF('Seznam zápasů'!I187="","",'Seznam zápasů'!I187) | EN11: =IF('Seznam zápasů'!J187="","",'Seznam zápasů'!J187) -> Nadcházející | EO11: =IF('Seznam zápasů'!A306="","",'Seznam zápasů'!A306) -> 46438 | EP11: =IF('Seznam zápasů'!B306="","",'Seznam zápasů'!B306) -> So | EQ11: =IF('Seznam zápasů'!D306="","",'Seznam zápasů'!D306) -> KP + kval. o NF | ER11: =IF('Seznam zápasů'!E306="","",'Seznam zápasů'!E306) -> BK Mělník | ES11: =IF('Seznam zápasů'!F306="","",'Seznam zápasů'!F306) -> 2x 032,068 | ET11: =IF('Seznam zápasů'!G306="","",'Seznam zápasů'!G306) | EU11: =IF('Seznam zápasů'!H306="","",'Seznam zápasů'!H306) | EV11: =IF('Seznam zápasů'!I306="","",'Seznam zápasů'!I306) | EW11: =IF('Seznam zápasů'!J306="","",'Seznam zápasů'!J306) -> Nadcházející | EX11: =IF('Seznam zápasů'!A291="","",'Seznam zápasů'!A291) -> 46431 | EY11: =IF('Seznam zápasů'!B291="","",'Seznam zápasů'!B291) -> So | EZ11: =IF('Seznam zápasů'!D291="","",'Seznam zápasů'!D291) -> KP + kval. o NF | FA11: =IF('Seznam zápasů'!E291="","",'Seznam zápasů'!E291) -> TJ AŠ Mladá Boleslav | FB11: =IF('Seznam zápasů'!F291="","",'Seznam zápasů'!F291) -> 2x 034,079 | FC11: =IF('Seznam zápasů'!G291="","",'Seznam zápasů'!G291) | FD11: =IF('Seznam zápasů'!H291="","",'Seznam zápasů'!H291) | FE11: =IF('Seznam zápasů'!I291="","",'Seznam zápasů'!I291) | FF11: =IF('Seznam zápasů'!J291="","",'Seznam zápasů'!J291) -> Nadcházející | FG11: =IF('Seznam zápasů'!A402="","",'Seznam zápasů'!A402) -> 46494 | FH11: =IF('Seznam zápasů'!B402="","",'Seznam zápasů'!B402) -> So | FI11: =IF('Seznam zápasů'!D402="","",'Seznam zápasů'!D402) -> KP | FJ11: =IF('Seznam zápasů'!E402="","",'Seznam zápasů'!E402) -> 1-3,4-5 | FK11: =IF('Seznam zápasů'!F402="","",'Seznam zápasů'!F402) | FL11: =IF('Seznam zápasů'!G402="","",'Seznam zápasů'!G402) | FM11: =IF('Seznam zápasů'!H402="","",'Seznam zápasů'!H402) | FN11: =IF('Seznam zápasů'!I402="","",'Seznam zápasů'!I402) | FO11: =IF('Seznam zápasů'!J402="","",'Seznam zápasů'!J402) -> Nadcházející | FP11: =IF('Seznam zápasů'!A149="","",'Seznam zápasů'!A149) -> 46341 | FQ11: =IF('Seznam zápasů'!B149="","",'Seznam zápasů'!B149) -> Ne | FR11: =IF('Seznam zápasů'!D149="","",'Seznam zápasů'!D149) -> KP + kval. o NF | FS11: =IF('Seznam zápasů'!E149="","",'Seznam zápasů'!E149) -> ŠBK Sadská | FT11: =IF('Seznam zápasů'!F149="","",'Seznam zápasů'!F149) -> 058 | FU11: =IF('Seznam zápasů'!G149="","",'Seznam zápasů'!G149) | FV11: =IF('Seznam zápasů'!H149="","",'Seznam zápasů'!H149) | FW11: =IF('Seznam zápasů'!I149="","",'Seznam zápasů'!I149) | FX11: =IF('Seznam zápasů'!J149="","",'Seznam zápasů'!J149) -> Nadcházející | FY11: =IF('Seznam zápasů'!A307="","",'Seznam zápasů'!A307) -> 46438 | FZ11: =IF('Seznam zápasů'!B307="","",'Seznam zápasů'!B307) -> So | GA11: =IF('Seznam zápasů'!D307="","",'Seznam zápasů'!D307) -> KP + kval. o NF | GB11: =IF('Seznam zápasů'!E307="","",'Seznam zápasů'!E307) -> Sokol Nusle | GC11: =IF('Seznam zápasů'!F307="","",'Seznam zápasů'!F307) -> 2x 058, 086 | GD11: =IF('Seznam zápasů'!G307="","",'Seznam zápasů'!G307) | GE11: =IF('Seznam zápasů'!H307="","",'Seznam zápasů'!H307) | GF11: =IF('Seznam zápasů'!I307="","",'Seznam zápasů'!I307) | GG11: =IF('Seznam zápasů'!J307="","",'Seznam zápasů'!J307) -> Nadcházející | GH11: =IF('Seznam zápasů'!A262="","",'Seznam zápasů'!A262) -> 46411 | GI11: =IF('Seznam zápasů'!B262="","",'Seznam zápasů'!B262) -> Ne | GJ11: =IF('Seznam zápasů'!D262="","",'Seznam zápasů'!D262) -> KP + kval. o NF | GK11: =IF('Seznam zápasů'!E262="","",'Seznam zápasů'!E262) -> ŠBK Sadská kval. | GL11: =IF('Seznam zápasů'!F262="","",'Seznam zápasů'!F262) -> 007 | GM11: =IF('Seznam zápasů'!G262="","",'Seznam zápasů'!G262) | GN11: =IF('Seznam zápasů'!H262="","",'Seznam zápasů'!H262) | GO11: =IF('Seznam zápasů'!I262="","",'Seznam zápasů'!I262) | GP11: =IF('Seznam zápasů'!J262="","",'Seznam zápasů'!J262) -> Nadcházející | GQ11: =IF('Seznam zápasů'!A403="","",'Seznam zápasů'!A403) -> 46494 | GR11: =IF('Seznam zápasů'!B403="","",'Seznam zápasů'!B403) -> So | GS11: =IF('Seznam zápasů'!D403="","",'Seznam zápasů'!D403) -> KP | GT11: =IF('Seznam zápasů'!E403="","",'Seznam zápasů'!E403) -> 1-3,4-5 | GU11: =IF('Seznam zápasů'!F403="","",'Seznam zápasů'!F403) | GV11: =IF('Seznam zápasů'!G403="","",'Seznam zápasů'!G403) | GW11: =IF('Seznam zápasů'!H403="","",'Seznam zápasů'!H403) | GX11: =IF('Seznam zápasů'!I403="","",'Seznam zápasů'!I403) | GY11: =IF('Seznam zápasů'!J403="","",'Seznam zápasů'!J403) -> Nadcházející
A12: =IF('Seznam zápasů'!A176="","",'Seznam zápasů'!A176) -> 46355 | B12: =IF('Seznam zápasů'!B176="","",'Seznam zápasů'!B176) -> Ne | C12: =IF('Seznam zápasů'!D176="","",'Seznam zápasů'!D176) -> SBLM | D12: =IF('Seznam zápasů'!E176="","",'Seznam zápasů'!E176) -> Basket Poděbrady "B" | E12: =IF('Seznam zápasů'!F176="","",'Seznam zápasů'!F176) -> 063 | F12: =IF('Seznam zápasů'!G176="","",'Seznam zápasů'!G176) | G12: =IF('Seznam zápasů'!H176="","",'Seznam zápasů'!H176) | H12: =IF('Seznam zápasů'!I176="","",'Seznam zápasů'!I176) | I12: =IF('Seznam zápasů'!J176="","",'Seznam zápasů'!J176) -> Nadcházející | J12: =IF('Seznam zápasů'!A257="","",'Seznam zápasů'!A257) -> 46410 | K12: =IF('Seznam zápasů'!B257="","",'Seznam zápasů'!B257) -> So | L12: =IF('Seznam zápasů'!D257="","",'Seznam zápasů'!D257) -> KP | M12: =IF('Seznam zápasů'!E257="","",'Seznam zápasů'!E257) -> BK Mělník | N12: =IF('Seznam zápasů'!F257="","",'Seznam zápasů'!F257) -> 046 | O12: =IF('Seznam zápasů'!G257="","",'Seznam zápasů'!G257) | P12: =IF('Seznam zápasů'!H257="","",'Seznam zápasů'!H257) | Q12: =IF('Seznam zápasů'!I257="","",'Seznam zápasů'!I257) | R12: =IF('Seznam zápasů'!J257="","",'Seznam zápasů'!J257) -> Nadcházející | S12: =IF('Seznam zápasů'!A174="","",'Seznam zápasů'!A174) -> 46348 | T12: =IF('Seznam zápasů'!B174="","",'Seznam zápasů'!B174) -> Ne | U12: =IF('Seznam zápasů'!D174="","",'Seznam zápasů'!D174) -> II. Liga | V12: =IF('Seznam zápasů'!E174="","",'Seznam zápasů'!E174) -> BK Lvice Litoměřice | W12: =IF('Seznam zápasů'!F174="","",'Seznam zápasů'!F174) -> 038 | X12: =IF('Seznam zápasů'!G174="","",'Seznam zápasů'!G174) | Y12: =IF('Seznam zápasů'!H174="","",'Seznam zápasů'!H174) | Z12: =IF('Seznam zápasů'!I174="","",'Seznam zápasů'!I174) | AA12: =IF('Seznam zápasů'!J174="","",'Seznam zápasů'!J174) -> Nadcházející | AB12: =IF('Seznam zápasů'!A238="","",'Seznam zápasů'!A238) -> 46403 | AC12: =IF('Seznam zápasů'!B238="","",'Seznam zápasů'!B238) -> So | AD12: =IF('Seznam zápasů'!D238="","",'Seznam zápasů'!D238) -> SBLŽ | AE12: =IF('Seznam zápasů'!E238="","",'Seznam zápasů'!E238) -> BK Sojky Pelhřimov | AF12: =IF('Seznam zápasů'!F238="","",'Seznam zápasů'!F238) -> 045 | AG12: =IF('Seznam zápasů'!G238="","",'Seznam zápasů'!G238) | AH12: =IF('Seznam zápasů'!H238="","",'Seznam zápasů'!H238) | AI12: =IF('Seznam zápasů'!I238="","",'Seznam zápasů'!I238) | AJ12: =IF('Seznam zápasů'!J238="","",'Seznam zápasů'!J238) -> Nadcházející | AK12: =IF('Seznam zápasů'!A239="","",'Seznam zápasů'!A239) -> 46403 | AL12: =IF('Seznam zápasů'!B239="","",'Seznam zápasů'!B239) -> So | AM12: =IF('Seznam zápasů'!D239="","",'Seznam zápasů'!D239) -> SBLŽ | AN12: =IF('Seznam zápasů'!E239="","",'Seznam zápasů'!E239) -> BC Kolín "B" | AO12: =IF('Seznam zápasů'!F239="","",'Seznam zápasů'!F239) -> 046 | AP12: =IF('Seznam zápasů'!G239="","",'Seznam zápasů'!G239) | AQ12: =IF('Seznam zápasů'!H239="","",'Seznam zápasů'!H239) | AR12: =IF('Seznam zápasů'!I239="","",'Seznam zápasů'!I239) | AS12: =IF('Seznam zápasů'!J239="","",'Seznam zápasů'!J239) -> Nadcházející | AT12: =IF('Seznam zápasů'!A186="","",'Seznam zápasů'!A186) -> 46362 | AU12: =IF('Seznam zápasů'!B186="","",'Seznam zápasů'!B186) -> Ne | AV12: =IF('Seznam zápasů'!D186="","",'Seznam zápasů'!D186) -> NRL | AW12: =IF('Seznam zápasů'!E186="","",'Seznam zápasů'!E186) -> Radotínský SK | AX12: =IF('Seznam zápasů'!F186="","",'Seznam zápasů'!F186) -> 19263 | AY12: =IF('Seznam zápasů'!G186="","",'Seznam zápasů'!G186) | AZ12: =IF('Seznam zápasů'!H186="","",'Seznam zápasů'!H186) | BA12: =IF('Seznam zápasů'!I186="","",'Seznam zápasů'!I186) | BB12: =IF('Seznam zápasů'!J186="","",'Seznam zápasů'!J186) -> Nadcházející | BC12: =IF('Seznam zápasů'!A167="","",'Seznam zápasů'!A167) -> 46348 | BD12: =IF('Seznam zápasů'!B167="","",'Seznam zápasů'!B167) -> Ne | BE12: =IF('Seznam zápasů'!D167="","",'Seznam zápasů'!D167) -> nadreg. liga | BF12: =IF('Seznam zápasů'!E167="","",'Seznam zápasů'!E167) -> Basketbal Újezd nad Lesy | BG12: =IF('Seznam zápasů'!F167="","",'Seznam zápasů'!F167) -> 17168 | BH12: =IF('Seznam zápasů'!G167="","",'Seznam zápasů'!G167) | BI12: =IF('Seznam zápasů'!H167="","",'Seznam zápasů'!H167) | BJ12: =IF('Seznam zápasů'!I167="","",'Seznam zápasů'!I167) | BK12: =IF('Seznam zápasů'!J167="","",'Seznam zápasů'!J167) -> Nadcházející | BL12: =IF('Seznam zápasů'!A168="","",'Seznam zápasů'!A168) -> 46348 | BM12: =IF('Seznam zápasů'!B168="","",'Seznam zápasů'!B168) -> Ne | BN12: =IF('Seznam zápasů'!D168="","",'Seznam zápasů'!D168) -> celostátní liga | BO12: =IF('Seznam zápasů'!E168="","",'Seznam zápasů'!E168) -> Sojky Pelhřimov | BP12: =IF('Seznam zápasů'!F168="","",'Seznam zápasů'!F168) -> 096 | BQ12: =IF('Seznam zápasů'!G168="","",'Seznam zápasů'!G168) | BR12: =IF('Seznam zápasů'!H168="","",'Seznam zápasů'!H168) | BS12: =IF('Seznam zápasů'!I168="","",'Seznam zápasů'!I168) | BT12: =IF('Seznam zápasů'!J168="","",'Seznam zápasů'!J168) -> Nadcházející | BU12: =IF('Seznam zápasů'!A169="","",'Seznam zápasů'!A169) -> 46348 | BV12: =IF('Seznam zápasů'!B169="","",'Seznam zápasů'!B169) -> Ne | BW12: =IF('Seznam zápasů'!D169="","",'Seznam zápasů'!D169) -> nadreg. liga | BX12: =IF('Seznam zápasů'!E169="","",'Seznam zápasů'!E169) -> BC Wizards | BY12: =IF('Seznam zápasů'!F169="","",'Seznam zápasů'!F169) -> 17587 | BZ12: =IF('Seznam zápasů'!G169="","",'Seznam zápasů'!G169) | CA12: =IF('Seznam zápasů'!H169="","",'Seznam zápasů'!H169) | CB12: =IF('Seznam zápasů'!I169="","",'Seznam zápasů'!I169) | CC12: =IF('Seznam zápasů'!J169="","",'Seznam zápasů'!J169) -> Nadcházející | CD12: =IF('Seznam zápasů'!A189="","",'Seznam zápasů'!A189) -> 46362 | CE12: =IF('Seznam zápasů'!B189="","",'Seznam zápasů'!B189) -> Ne | CF12: =IF('Seznam zápasů'!D189="","",'Seznam zápasů'!D189) -> žákovská liga | CG12: =IF('Seznam zápasů'!E189="","",'Seznam zápasů'!E189) -> Tigers České Budějovice | CH12: =IF('Seznam zápasů'!F189="","",'Seznam zápasů'!F189) -> 039 | CI12: =IF('Seznam zápasů'!G189="","",'Seznam zápasů'!G189) | CJ12: =IF('Seznam zápasů'!H189="","",'Seznam zápasů'!H189) | CK12: =IF('Seznam zápasů'!I189="","",'Seznam zápasů'!I189) | CL12: =IF('Seznam zápasů'!J189="","",'Seznam zápasů'!J189) -> Nadcházející | CM12: =IF('Seznam zápasů'!A190="","",'Seznam zápasů'!A190) -> 46362 | CN12: =IF('Seznam zápasů'!B190="","",'Seznam zápasů'!B190) -> Ne | CO12: =IF('Seznam zápasů'!D190="","",'Seznam zápasů'!D190) -> žákovská liga | CP12: =IF('Seznam zápasů'!E190="","",'Seznam zápasů'!E190) -> USK Praha | CQ12: =IF('Seznam zápasů'!F190="","",'Seznam zápasů'!F190) -> 038 | CR12: =IF('Seznam zápasů'!G190="","",'Seznam zápasů'!G190) | CS12: =IF('Seznam zápasů'!H190="","",'Seznam zápasů'!H190) | CT12: =IF('Seznam zápasů'!I190="","",'Seznam zápasů'!I190) | CU12: =IF('Seznam zápasů'!J190="","",'Seznam zápasů'!J190) -> Nadcházející | CV12: =IF('Seznam zápasů'!A218="","",'Seznam zápasů'!A218) -> 46396 | CW12: =IF('Seznam zápasů'!B218="","",'Seznam zápasů'!B218) -> So | CX12: =IF('Seznam zápasů'!D218="","",'Seznam zápasů'!D218) -> nadreg. Liga | CY12: =IF('Seznam zápasů'!E218="","",'Seznam zápasů'!E218) -> AŠ Mladá Boleslav | CZ12: =IF('Seznam zápasů'!F218="","",'Seznam zápasů'!F218) -> 076 | DA12: =IF('Seznam zápasů'!G218="","",'Seznam zápasů'!G218) | DB12: =IF('Seznam zápasů'!H218="","",'Seznam zápasů'!H218) | DC12: =IF('Seznam zápasů'!I218="","",'Seznam zápasů'!I218) | DD12: =IF('Seznam zápasů'!J218="","",'Seznam zápasů'!J218) -> Nadcházející | DE12: =IF('Seznam zápasů'!A172="","",'Seznam zápasů'!A172) -> 46348 | DF12: =IF('Seznam zápasů'!B172="","",'Seznam zápasů'!B172) -> Ne | DG12: =IF('Seznam zápasů'!D172="","",'Seznam zápasů'!D172) -> žákovská liga | DH12: =IF('Seznam zápasů'!E172="","",'Seznam zápasů'!E172) -> BK Brandýs | DI12: =IF('Seznam zápasů'!F172="","",'Seznam zápasů'!F172) -> 120 | DJ12: =IF('Seznam zápasů'!G172="","",'Seznam zápasů'!G172) | DK12: =IF('Seznam zápasů'!H172="","",'Seznam zápasů'!H172) | DL12: =IF('Seznam zápasů'!I172="","",'Seznam zápasů'!I172) | DM12: =IF('Seznam zápasů'!J172="","",'Seznam zápasů'!J172) -> Nadcházející | DN12: =IF('Seznam zápasů'!A208="","",'Seznam zápasů'!A208) -> 46369 | DO12: =IF('Seznam zápasů'!B208="","",'Seznam zápasů'!B208) -> Ne | DP12: =IF('Seznam zápasů'!D208="","",'Seznam zápasů'!D208) -> žákovská liga | DQ12: =IF('Seznam zápasů'!E208="","",'Seznam zápasů'!E208) -> Studánka Pardubice | DR12: =IF('Seznam zápasů'!F208="","",'Seznam zápasů'!F208) -> 148 | DS12: =IF('Seznam zápasů'!G208="","",'Seznam zápasů'!G208) | DT12: =IF('Seznam zápasů'!H208="","",'Seznam zápasů'!H208) | DU12: =IF('Seznam zápasů'!I208="","",'Seznam zápasů'!I208) | DV12: =IF('Seznam zápasů'!J208="","",'Seznam zápasů'!J208) -> Nadcházející | DW12: =IF('Seznam zápasů'!A247="","",'Seznam zápasů'!A247) -> 46404 | DX12: =IF('Seznam zápasů'!B247="","",'Seznam zápasů'!B247) -> Ne | DY12: =IF('Seznam zápasů'!D247="","",'Seznam zápasů'!D247) -> nadreg. liga | DZ12: =IF('Seznam zápasů'!E247="","",'Seznam zápasů'!E247) -> Basket Slovanka B | EA12: =IF('Seznam zápasů'!F247="","",'Seznam zápasů'!F247) -> 035 | EB12: =IF('Seznam zápasů'!G247="","",'Seznam zápasů'!G247) | EC12: =IF('Seznam zápasů'!H247="","",'Seznam zápasů'!H247) | ED12: =IF('Seznam zápasů'!I247="","",'Seznam zápasů'!I247) | EE12: =IF('Seznam zápasů'!J247="","",'Seznam zápasů'!J247) -> Nadcházející | EF12: =IF('Seznam zápasů'!A220="","",'Seznam zápasů'!A220) -> 46397 | EG12: =IF('Seznam zápasů'!B220="","",'Seznam zápasů'!B220) -> Ne | EH12: =IF('Seznam zápasů'!D220="","",'Seznam zápasů'!D220) -> KP + kval. o NF | EI12: =IF('Seznam zápasů'!E220="","",'Seznam zápasů'!E220) -> Basket Poděbrady | EJ12: =IF('Seznam zápasů'!F220="","",'Seznam zápasů'!F220) -> 032 | EK12: =IF('Seznam zápasů'!G220="","",'Seznam zápasů'!G220) | EL12: =IF('Seznam zápasů'!H220="","",'Seznam zápasů'!H220) | EM12: =IF('Seznam zápasů'!I220="","",'Seznam zápasů'!I220) | EN12: =IF('Seznam zápasů'!J220="","",'Seznam zápasů'!J220) -> Nadcházející | EO12: =IF('Seznam zápasů'!A342="","",'Seznam zápasů'!A342) -> 46459 | EP12: =IF('Seznam zápasů'!B342="","",'Seznam zápasů'!B342) -> So | EQ12: =IF('Seznam zápasů'!D342="","",'Seznam zápasů'!D342) -> KP + kval. o NF | ER12: =IF('Seznam zápasů'!E342="","",'Seznam zápasů'!E342) -> Brandýs-Nymburk-BN 004-006 | ES12: =IF('Seznam zápasů'!F342="","",'Seznam zápasů'!F342) | ET12: =IF('Seznam zápasů'!G342="","",'Seznam zápasů'!G342) | EU12: =IF('Seznam zápasů'!H342="","",'Seznam zápasů'!H342) | EV12: =IF('Seznam zápasů'!I342="","",'Seznam zápasů'!I342) | EW12: =IF('Seznam zápasů'!J342="","",'Seznam zápasů'!J342) -> Nadcházející | EX12: =IF('Seznam zápasů'!A329="","",'Seznam zápasů'!A329) -> 46452 | EY12: =IF('Seznam zápasů'!B329="","",'Seznam zápasů'!B329) -> So | EZ12: =IF('Seznam zápasů'!D329="","",'Seznam zápasů'!D329) -> KP + kval. o NF | FA12: =IF('Seznam zápasů'!E329="","",'Seznam zápasů'!E329) -> NBK Milovice | FB12: =IF('Seznam zápasů'!F329="","",'Seznam zápasů'!F329) -> 2x 034,083 | FC12: =IF('Seznam zápasů'!G329="","",'Seznam zápasů'!G329) | FD12: =IF('Seznam zápasů'!H329="","",'Seznam zápasů'!H329) | FE12: =IF('Seznam zápasů'!I329="","",'Seznam zápasů'!I329) | FF12: =IF('Seznam zápasů'!J329="","",'Seznam zápasů'!J329) -> Nadcházející | FP12: =IF('Seznam zápasů'!A170="","",'Seznam zápasů'!A170) -> 46348 | FQ12: =IF('Seznam zápasů'!B170="","",'Seznam zápasů'!B170) -> Ne | FR12: =IF('Seznam zápasů'!D170="","",'Seznam zápasů'!D170) -> KP + kval. o NF | FS12: =IF('Seznam zápasů'!E170="","",'Seznam zápasů'!E170) -> BK Kralupy Junior | FT12: =IF('Seznam zápasů'!F170="","",'Seznam zápasů'!F170) -> 036 | FU12: =IF('Seznam zápasů'!G170="","",'Seznam zápasů'!G170) | FV12: =IF('Seznam zápasů'!H170="","",'Seznam zápasů'!H170) | FW12: =IF('Seznam zápasů'!I170="","",'Seznam zápasů'!I170) | FX12: =IF('Seznam zápasů'!J170="","",'Seznam zápasů'!J170) -> Nadcházející | FY12: =IF('Seznam zápasů'!A343="","",'Seznam zápasů'!A343) -> 46459 | FZ12: =IF('Seznam zápasů'!B343="","",'Seznam zápasů'!B343) -> So | GA12: =IF('Seznam zápasů'!D343="","",'Seznam zápasů'!D343) -> KP + kval. o NF | GB12: =IF('Seznam zápasů'!E343="","",'Seznam zápasů'!E343) -> ŠBK Sadská kval. | GC12: =IF('Seznam zápasů'!F343="","",'Seznam zápasů'!F343) -> 003 | GD12: =IF('Seznam zápasů'!G343="","",'Seznam zápasů'!G343) | GE12: =IF('Seznam zápasů'!H343="","",'Seznam zápasů'!H343) | GF12: =IF('Seznam zápasů'!I343="","",'Seznam zápasů'!I343) | GG12: =IF('Seznam zápasů'!J343="","",'Seznam zápasů'!J343) -> Nadcházející | GH12: =IF('Seznam zápasů'!A321="","",'Seznam zápasů'!A321) -> 46445 | GI12: =IF('Seznam zápasů'!B321="","",'Seznam zápasů'!B321) -> So | GJ12: =IF('Seznam zápasů'!D321="","",'Seznam zápasů'!D321) -> KP + kval. o NF | GK12: =IF('Seznam zápasů'!E321="","",'Seznam zápasů'!E321) -> BK Příbram 2000 | GL12: =IF('Seznam zápasů'!F321="","",'Seznam zápasů'!F321) -> 2x 019,040 | GM12: =IF('Seznam zápasů'!G321="","",'Seznam zápasů'!G321) | GN12: =IF('Seznam zápasů'!H321="","",'Seznam zápasů'!H321) | GO12: =IF('Seznam zápasů'!I321="","",'Seznam zápasů'!I321) | GP12: =IF('Seznam zápasů'!J321="","",'Seznam zápasů'!J321) -> Nadcházející
A13: =IF('Seznam zápasů'!A199="","",'Seznam zápasů'!A199) -> 46368 | B13: =IF('Seznam zápasů'!B199="","",'Seznam zápasů'!B199) -> So | C13: =IF('Seznam zápasů'!D199="","",'Seznam zápasů'!D199) -> SBLM | D13: =IF('Seznam zápasů'!E199="","",'Seznam zápasů'!E199) -> ŠSK Slaný | E13: =IF('Seznam zápasů'!F199="","",'Seznam zápasů'!F199) -> 071 | F13: =IF('Seznam zápasů'!G199="","",'Seznam zápasů'!G199) | G13: =IF('Seznam zápasů'!H199="","",'Seznam zápasů'!H199) | H13: =IF('Seznam zápasů'!I199="","",'Seznam zápasů'!I199) | I13: =IF('Seznam zápasů'!J199="","",'Seznam zápasů'!J199) -> Nadcházející | J13: =IF('Seznam zápasů'!A264="","",'Seznam zápasů'!A264) -> 46411 | K13: =IF('Seznam zápasů'!B264="","",'Seznam zápasů'!B264) -> Ne | L13: =IF('Seznam zápasů'!D264="","",'Seznam zápasů'!D264) -> KP | M13: =IF('Seznam zápasů'!E264="","",'Seznam zápasů'!E264) -> AŠ Mladá Boleslav "B" | N13: =IF('Seznam zápasů'!F264="","",'Seznam zápasů'!F264) -> 049 | O13: =IF('Seznam zápasů'!G264="","",'Seznam zápasů'!G264) | P13: =IF('Seznam zápasů'!H264="","",'Seznam zápasů'!H264) | Q13: =IF('Seznam zápasů'!I264="","",'Seznam zápasů'!I264) | R13: =IF('Seznam zápasů'!J264="","",'Seznam zápasů'!J264) -> Nadcházející | S13: =IF('Seznam zápasů'!A201="","",'Seznam zápasů'!A201) -> 46368 | T13: =IF('Seznam zápasů'!B201="","",'Seznam zápasů'!B201) -> So | U13: =IF('Seznam zápasů'!D201="","",'Seznam zápasů'!D201) -> II. Liga | V13: =IF('Seznam zápasů'!E201="","",'Seznam zápasů'!E201) -> Sokol Kladno | W13: =IF('Seznam zápasů'!F201="","",'Seznam zápasů'!F201) -> 042 | X13: =IF('Seznam zápasů'!G201="","",'Seznam zápasů'!G201) | Y13: =IF('Seznam zápasů'!H201="","",'Seznam zápasů'!H201) | Z13: =IF('Seznam zápasů'!I201="","",'Seznam zápasů'!I201) | AA13: =IF('Seznam zápasů'!J201="","",'Seznam zápasů'!J201) -> Nadcházející | AB13: =IF('Seznam zápasů'!A249="","",'Seznam zápasů'!A249) -> 46404 | AC13: =IF('Seznam zápasů'!B249="","",'Seznam zápasů'!B249) -> Ne | AD13: =IF('Seznam zápasů'!D249="","",'Seznam zápasů'!D249) -> SBLŽ | AE13: =IF('Seznam zápasů'!E249="","",'Seznam zápasů'!E249) -> BC Kolín "B" | AF13: =IF('Seznam zápasů'!F249="","",'Seznam zápasů'!F249) -> 048 | AG13: =IF('Seznam zápasů'!G249="","",'Seznam zápasů'!G249) | AH13: =IF('Seznam zápasů'!H249="","",'Seznam zápasů'!H249) | AI13: =IF('Seznam zápasů'!I249="","",'Seznam zápasů'!I249) | AJ13: =IF('Seznam zápasů'!J249="","",'Seznam zápasů'!J249) -> Nadcházející | AK13: =IF('Seznam zápasů'!A250="","",'Seznam zápasů'!A250) -> 46404 | AL13: =IF('Seznam zápasů'!B250="","",'Seznam zápasů'!B250) -> Ne | AM13: =IF('Seznam zápasů'!D250="","",'Seznam zápasů'!D250) -> SBLŽ | AN13: =IF('Seznam zápasů'!E250="","",'Seznam zápasů'!E250) -> BK Sojky Pelhřimov | AO13: =IF('Seznam zápasů'!F250="","",'Seznam zápasů'!F250) -> 049 | AP13: =IF('Seznam zápasů'!G250="","",'Seznam zápasů'!G250) | AQ13: =IF('Seznam zápasů'!H250="","",'Seznam zápasů'!H250) | AR13: =IF('Seznam zápasů'!I250="","",'Seznam zápasů'!I250) | AS13: =IF('Seznam zápasů'!J250="","",'Seznam zápasů'!J250) -> Nadcházející | AT13: =IF('Seznam zápasů'!A212="","",'Seznam zápasů'!A212) -> 46396 | AU13: =IF('Seznam zápasů'!B212="","",'Seznam zápasů'!B212) -> So | AV13: =IF('Seznam zápasů'!D212="","",'Seznam zápasů'!D212) -> NRL | AW13: =IF('Seznam zápasů'!E212="","",'Seznam zápasů'!E212) -> TJ Třebíč | AX13: =IF('Seznam zápasů'!F212="","",'Seznam zápasů'!F212) -> 19268 | AY13: =IF('Seznam zápasů'!G212="","",'Seznam zápasů'!G212) | AZ13: =IF('Seznam zápasů'!H212="","",'Seznam zápasů'!H212) | BA13: =IF('Seznam zápasů'!I212="","",'Seznam zápasů'!I212) | BB13: =IF('Seznam zápasů'!J212="","",'Seznam zápasů'!J212) -> Nadcházející | BC13: =IF('Seznam zápasů'!A192="","",'Seznam zápasů'!A192) -> 46368 | BD13: =IF('Seznam zápasů'!B192="","",'Seznam zápasů'!B192) -> So | BE13: =IF('Seznam zápasů'!D192="","",'Seznam zápasů'!D192) -> nadreg. liga | BF13: =IF('Seznam zápasů'!E192="","",'Seznam zápasů'!E192) -> Sokol Pečky | BG13: =IF('Seznam zápasů'!F192="","",'Seznam zápasů'!F192) -> 17175 | BH13: =IF('Seznam zápasů'!G192="","",'Seznam zápasů'!G192) | BI13: =IF('Seznam zápasů'!H192="","",'Seznam zápasů'!H192) | BJ13: =IF('Seznam zápasů'!I192="","",'Seznam zápasů'!I192) | BK13: =IF('Seznam zápasů'!J192="","",'Seznam zápasů'!J192) -> Nadcházející | BL13: =IF('Seznam zápasů'!A193="","",'Seznam zápasů'!A193) -> 46368 | BM13: =IF('Seznam zápasů'!B193="","",'Seznam zápasů'!B193) -> So | BN13: =IF('Seznam zápasů'!D193="","",'Seznam zápasů'!D193) -> celostátní liga | BO13: =IF('Seznam zápasů'!E193="","",'Seznam zápasů'!E193) -> TJ AŠ Mladá Boleslav | BP13: =IF('Seznam zápasů'!F193="","",'Seznam zápasů'!F193) -> 099 | BQ13: =IF('Seznam zápasů'!G193="","",'Seznam zápasů'!G193) | BR13: =IF('Seznam zápasů'!H193="","",'Seznam zápasů'!H193) | BS13: =IF('Seznam zápasů'!I193="","",'Seznam zápasů'!I193) | BT13: =IF('Seznam zápasů'!J193="","",'Seznam zápasů'!J193) -> Nadcházející | BU13: =IF('Seznam zápasů'!A194="","",'Seznam zápasů'!A194) -> 46368 | BV13: =IF('Seznam zápasů'!B194="","",'Seznam zápasů'!B194) -> So | BW13: =IF('Seznam zápasů'!D194="","",'Seznam zápasů'!D194) -> nadreg. liga | BX13: =IF('Seznam zápasů'!E194="","",'Seznam zápasů'!E194) -> Radotínský SK | BY13: =IF('Seznam zápasů'!F194="","",'Seznam zápasů'!F194) -> 17592 | BZ13: =IF('Seznam zápasů'!G194="","",'Seznam zápasů'!G194) | CA13: =IF('Seznam zápasů'!H194="","",'Seznam zápasů'!H194) | CB13: =IF('Seznam zápasů'!I194="","",'Seznam zápasů'!I194) | CC13: =IF('Seznam zápasů'!J194="","",'Seznam zápasů'!J194) -> Nadcházející | CD13: =IF('Seznam zápasů'!A216="","",'Seznam zápasů'!A216) -> 46396 | CE13: =IF('Seznam zápasů'!B216="","",'Seznam zápasů'!B216) -> So | CF13: =IF('Seznam zápasů'!D216="","",'Seznam zápasů'!D216) -> žákovská liga | CG13: =IF('Seznam zápasů'!E216="","",'Seznam zápasů'!E216) -> TJ Sokol Kbely | CH13: =IF('Seznam zápasů'!F216="","",'Seznam zápasů'!F216) -> 044 | CI13: =IF('Seznam zápasů'!G216="","",'Seznam zápasů'!G216) | CJ13: =IF('Seznam zápasů'!H216="","",'Seznam zápasů'!H216) | CK13: =IF('Seznam zápasů'!I216="","",'Seznam zápasů'!I216) | CL13: =IF('Seznam zápasů'!J216="","",'Seznam zápasů'!J216) -> Nadcházející | CM13: =IF('Seznam zápasů'!A217="","",'Seznam zápasů'!A217) -> 46396 | CN13: =IF('Seznam zápasů'!B217="","",'Seznam zápasů'!B217) -> So | CO13: =IF('Seznam zápasů'!D217="","",'Seznam zápasů'!D217) -> žákovská liga | CP13: =IF('Seznam zápasů'!E217="","",'Seznam zápasů'!E217) -> BK Strakonice | CQ13: =IF('Seznam zápasů'!F217="","",'Seznam zápasů'!F217) -> 044 | CR13: =IF('Seznam zápasů'!G217="","",'Seznam zápasů'!G217) | CS13: =IF('Seznam zápasů'!H217="","",'Seznam zápasů'!H217) | CT13: =IF('Seznam zápasů'!I217="","",'Seznam zápasů'!I217) | CU13: =IF('Seznam zápasů'!J217="","",'Seznam zápasů'!J217) -> Nadcházející | CV13: =IF('Seznam zápasů'!A226="","",'Seznam zápasů'!A226) -> 46397 | CW13: =IF('Seznam zápasů'!B226="","",'Seznam zápasů'!B226) -> Ne | CX13: =IF('Seznam zápasů'!D226="","",'Seznam zápasů'!D226) -> nadreg. Liga | CY13: =IF('Seznam zápasů'!E226="","",'Seznam zápasů'!E226) -> Bižu Jablonecko B | CZ13: =IF('Seznam zápasů'!F226="","",'Seznam zápasů'!F226) -> 081 | DA13: =IF('Seznam zápasů'!G226="","",'Seznam zápasů'!G226) | DB13: =IF('Seznam zápasů'!H226="","",'Seznam zápasů'!H226) | DC13: =IF('Seznam zápasů'!I226="","",'Seznam zápasů'!I226) | DD13: =IF('Seznam zápasů'!J226="","",'Seznam zápasů'!J226) -> Nadcházející | DE13: =IF('Seznam zápasů'!A200="","",'Seznam zápasů'!A200) -> 46368 | DF13: =IF('Seznam zápasů'!B200="","",'Seznam zápasů'!B200) -> So | DG13: =IF('Seznam zápasů'!D200="","",'Seznam zápasů'!D200) -> žákovská liga | DH13: =IF('Seznam zápasů'!E200="","",'Seznam zápasů'!E200) -> Slavia Tygři Praha | DI13: =IF('Seznam zápasů'!F200="","",'Seznam zápasů'!F200) -> 122 | DJ13: =IF('Seznam zápasů'!G200="","",'Seznam zápasů'!G200) | DK13: =IF('Seznam zápasů'!H200="","",'Seznam zápasů'!H200) | DL13: =IF('Seznam zápasů'!I200="","",'Seznam zápasů'!I200) | DM13: =IF('Seznam zápasů'!J200="","",'Seznam zápasů'!J200) -> Nadcházející | DN13: =IF('Seznam zápasů'!A235="","",'Seznam zápasů'!A235) -> 46403 | DO13: =IF('Seznam zápasů'!B235="","",'Seznam zápasů'!B235) -> So | DP13: =IF('Seznam zápasů'!D235="","",'Seznam zápasů'!D235) -> žákovská liga | DQ13: =IF('Seznam zápasů'!E235="","",'Seznam zápasů'!E235) -> F1, S1 | DR13: =IF('Seznam zápasů'!F235="","",'Seznam zápasů'!F235) | DS13: =IF('Seznam zápasů'!G235="","",'Seznam zápasů'!G235) | DT13: =IF('Seznam zápasů'!H235="","",'Seznam zápasů'!H235) | DU13: =IF('Seznam zápasů'!I235="","",'Seznam zápasů'!I235) | DV13: =IF('Seznam zápasů'!J235="","",'Seznam zápasů'!J235) -> Nadcházející | DW13: =IF('Seznam zápasů'!A279="","",'Seznam zápasů'!A279) -> 46424 | DX13: =IF('Seznam zápasů'!B279="","",'Seznam zápasů'!B279) -> So | DY13: =IF('Seznam zápasů'!D279="","",'Seznam zápasů'!D279) -> nadreg. liga | DZ13: =IF('Seznam zápasů'!E279="","",'Seznam zápasů'!E279) -> BA Roudnice | EA13: =IF('Seznam zápasů'!F279="","",'Seznam zápasů'!F279) -> 038 | EB13: =IF('Seznam zápasů'!G279="","",'Seznam zápasů'!G279) | EC13: =IF('Seznam zápasů'!H279="","",'Seznam zápasů'!H279) | ED13: =IF('Seznam zápasů'!I279="","",'Seznam zápasů'!I279) | EE13: =IF('Seznam zápasů'!J279="","",'Seznam zápasů'!J279) -> Nadcházející | EF13: =IF('Seznam zápasů'!A254="","",'Seznam zápasů'!A254) -> 46410 | EG13: =IF('Seznam zápasů'!B254="","",'Seznam zápasů'!B254) -> So | EH13: =IF('Seznam zápasů'!D254="","",'Seznam zápasů'!D254) -> KP + kval. o NF | EI13: =IF('Seznam zápasů'!E254="","",'Seznam zápasů'!E254) -> BK Mělník | EJ13: =IF('Seznam zápasů'!F254="","",'Seznam zápasů'!F254) -> 033 | EK13: =IF('Seznam zápasů'!G254="","",'Seznam zápasů'!G254) | EL13: =IF('Seznam zápasů'!H254="","",'Seznam zápasů'!H254) | EM13: =IF('Seznam zápasů'!I254="","",'Seznam zápasů'!I254) | EN13: =IF('Seznam zápasů'!J254="","",'Seznam zápasů'!J254) -> Nadcházející | EO13: =IF('Seznam zápasů'!A374="","",'Seznam zápasů'!A374) -> 46480 | EP13: =IF('Seznam zápasů'!B374="","",'Seznam zápasů'!B374) -> So | EQ13: =IF('Seznam zápasů'!D374="","",'Seznam zápasů'!D374) -> KP + kval. o NF | ER13: =IF('Seznam zápasů'!E374="","",'Seznam zápasů'!E374) -> BN-Brandýs-Nymburk 007-009 | ES13: =IF('Seznam zápasů'!F374="","",'Seznam zápasů'!F374) | ET13: =IF('Seznam zápasů'!G374="","",'Seznam zápasů'!G374) | EU13: =IF('Seznam zápasů'!H374="","",'Seznam zápasů'!H374) | EV13: =IF('Seznam zápasů'!I374="","",'Seznam zápasů'!I374) | EW13: =IF('Seznam zápasů'!J374="","",'Seznam zápasů'!J374) -> Nadcházející | EX13: =IF('Seznam zápasů'!A356="","",'Seznam zápasů'!A356) -> 46466 | EY13: =IF('Seznam zápasů'!B356="","",'Seznam zápasů'!B356) -> So | EZ13: =IF('Seznam zápasů'!D356="","",'Seznam zápasů'!D356) -> KP + kval. o NF | FA13: =IF('Seznam zápasů'!E356="","",'Seznam zápasů'!E356) -> Brandýs-BN-Nymburk 007-009 | FB13: =IF('Seznam zápasů'!F356="","",'Seznam zápasů'!F356) | FC13: =IF('Seznam zápasů'!G356="","",'Seznam zápasů'!G356) | FD13: =IF('Seznam zápasů'!H356="","",'Seznam zápasů'!H356) | FE13: =IF('Seznam zápasů'!I356="","",'Seznam zápasů'!I356) | FF13: =IF('Seznam zápasů'!J356="","",'Seznam zápasů'!J356) -> Nadcházející | FP13: =IF('Seznam zápasů'!A181="","",'Seznam zápasů'!A181) -> 46361 | FQ13: =IF('Seznam zápasů'!B181="","",'Seznam zápasů'!B181) -> So | FR13: =IF('Seznam zápasů'!D181="","",'Seznam zápasů'!D181) -> KP + kval. o NF | FS13: =IF('Seznam zápasů'!E181="","",'Seznam zápasů'!E181) -> BK Pelhřimov | FT13: =IF('Seznam zápasů'!F181="","",'Seznam zápasů'!F181) -> 064 | FU13: =IF('Seznam zápasů'!G181="","",'Seznam zápasů'!G181) | FV13: =IF('Seznam zápasů'!H181="","",'Seznam zápasů'!H181) | FW13: =IF('Seznam zápasů'!I181="","",'Seznam zápasů'!I181) | FX13: =IF('Seznam zápasů'!J181="","",'Seznam zápasů'!J181) -> Nadcházející | FY13: =IF('Seznam zápasů'!A349="","",'Seznam zápasů'!A349) -> 46460 | FZ13: =IF('Seznam zápasů'!B349="","",'Seznam zápasů'!B349) -> Ne | GA13: =IF('Seznam zápasů'!D349="","",'Seznam zápasů'!D349) -> KP + kval. o NF | GB13: =IF('Seznam zápasů'!E349="","",'Seznam zápasů'!E349) -> BC Slaný kval. | GC13: =IF('Seznam zápasů'!F349="","",'Seznam zápasů'!F349) -> 004 | GD13: =IF('Seznam zápasů'!G349="","",'Seznam zápasů'!G349) | GE13: =IF('Seznam zápasů'!H349="","",'Seznam zápasů'!H349) | GF13: =IF('Seznam zápasů'!I349="","",'Seznam zápasů'!I349) | GG13: =IF('Seznam zápasů'!J349="","",'Seznam zápasů'!J349) -> Nadcházející | GH13: =IF('Seznam zápasů'!A358="","",'Seznam zápasů'!A358) -> 46466 | GI13: =IF('Seznam zápasů'!B358="","",'Seznam zápasů'!B358) -> So | GJ13: =IF('Seznam zápasů'!D358="","",'Seznam zápasů'!D358) -> KP + kval. o NF | GK13: =IF('Seznam zápasů'!E358="","",'Seznam zápasů'!E358) -> BC Slaný kval. | GL13: =IF('Seznam zápasů'!F358="","",'Seznam zápasů'!F358) -> 010 | GM13: =IF('Seznam zápasů'!G358="","",'Seznam zápasů'!G358) | GN13: =IF('Seznam zápasů'!H358="","",'Seznam zápasů'!H358) | GO13: =IF('Seznam zápasů'!I358="","",'Seznam zápasů'!I358) | GP13: =IF('Seznam zápasů'!J358="","",'Seznam zápasů'!J358) -> Nadcházející
A14: =IF('Seznam zápasů'!A206="","",'Seznam zápasů'!A206) -> 46369 | B14: =IF('Seznam zápasů'!B206="","",'Seznam zápasů'!B206) -> Ne | C14: =IF('Seznam zápasů'!D206="","",'Seznam zápasů'!D206) -> SBLM | D14: =IF('Seznam zápasů'!E206="","",'Seznam zápasů'!E206) -> BK Kralupy Junior | E14: =IF('Seznam zápasů'!F206="","",'Seznam zápasů'!F206) -> 076 | F14: =IF('Seznam zápasů'!G206="","",'Seznam zápasů'!G206) | G14: =IF('Seznam zápasů'!H206="","",'Seznam zápasů'!H206) | H14: =IF('Seznam zápasů'!I206="","",'Seznam zápasů'!I206) | I14: =IF('Seznam zápasů'!J206="","",'Seznam zápasů'!J206) -> Nadcházející | J14: =IF('Seznam zápasů'!A294="","",'Seznam zápasů'!A294) -> 46431 | K14: =IF('Seznam zápasů'!B294="","",'Seznam zápasů'!B294) -> So | L14: =IF('Seznam zápasů'!D294="","",'Seznam zápasů'!D294) -> KP | M14: =IF('Seznam zápasů'!E294="","",'Seznam zápasů'!E294) -> TJ Sokol Nehvizdy | N14: =IF('Seznam zápasů'!F294="","",'Seznam zápasů'!F294) -> 051 | O14: =IF('Seznam zápasů'!G294="","",'Seznam zápasů'!G294) | P14: =IF('Seznam zápasů'!H294="","",'Seznam zápasů'!H294) | Q14: =IF('Seznam zápasů'!I294="","",'Seznam zápasů'!I294) | R14: =IF('Seznam zápasů'!J294="","",'Seznam zápasů'!J294) -> Nadcházející | S14: =IF('Seznam zápasů'!A210="","",'Seznam zápasů'!A210) -> 46369 | T14: =IF('Seznam zápasů'!B210="","",'Seznam zápasů'!B210) -> Ne | U14: =IF('Seznam zápasů'!D210="","",'Seznam zápasů'!D210) -> II. Liga | V14: =IF('Seznam zápasů'!E210="","",'Seznam zápasů'!E210) -> BA Louny | W14: =IF('Seznam zápasů'!F210="","",'Seznam zápasů'!F210) -> 045 | X14: =IF('Seznam zápasů'!G210="","",'Seznam zápasů'!G210) | Y14: =IF('Seznam zápasů'!H210="","",'Seznam zápasů'!H210) | Z14: =IF('Seznam zápasů'!I210="","",'Seznam zápasů'!I210) | AA14: =IF('Seznam zápasů'!J210="","",'Seznam zápasů'!J210) -> Nadcházející | AB14: =IF('Seznam zápasů'!A280="","",'Seznam zápasů'!A280) -> 46424 | AC14: =IF('Seznam zápasů'!B280="","",'Seznam zápasů'!B280) -> So | AD14: =IF('Seznam zápasů'!D280="","",'Seznam zápasů'!D280) -> SBLŽ | AE14: =IF('Seznam zápasů'!E280="","",'Seznam zápasů'!E280) -> Slavoj Český Brod | AF14: =IF('Seznam zápasů'!F280="","",'Seznam zápasů'!F280) -> 053 | AG14: =IF('Seznam zápasů'!G280="","",'Seznam zápasů'!G280) | AH14: =IF('Seznam zápasů'!H280="","",'Seznam zápasů'!H280) | AI14: =IF('Seznam zápasů'!I280="","",'Seznam zápasů'!I280) | AJ14: =IF('Seznam zápasů'!J280="","",'Seznam zápasů'!J280) -> Nadcházející | AK14: =IF('Seznam zápasů'!A281="","",'Seznam zápasů'!A281) -> 46424 | AL14: =IF('Seznam zápasů'!B281="","",'Seznam zápasů'!B281) -> So | AM14: =IF('Seznam zápasů'!D281="","",'Seznam zápasů'!D281) -> SBLŽ | AN14: =IF('Seznam zápasů'!E281="","",'Seznam zápasů'!E281) -> BK Brandýs B | AO14: =IF('Seznam zápasů'!F281="","",'Seznam zápasů'!F281) -> 052 | AP14: =IF('Seznam zápasů'!G281="","",'Seznam zápasů'!G281) | AQ14: =IF('Seznam zápasů'!H281="","",'Seznam zápasů'!H281) | AR14: =IF('Seznam zápasů'!I281="","",'Seznam zápasů'!I281) | AS14: =IF('Seznam zápasů'!J281="","",'Seznam zápasů'!J281) -> Nadcházející | AT14: =IF('Seznam zápasů'!A219="","",'Seznam zápasů'!A219) -> 46397 | AU14: =IF('Seznam zápasů'!B219="","",'Seznam zápasů'!B219) -> Ne | AV14: =IF('Seznam zápasů'!D219="","",'Seznam zápasů'!D219) -> NRL | AW14: =IF('Seznam zápasů'!E219="","",'Seznam zápasů'!E219) -> BK Sojky Pelhřimov C | AX14: =IF('Seznam zápasů'!F219="","",'Seznam zápasů'!F219) -> 19271 | AY14: =IF('Seznam zápasů'!G219="","",'Seznam zápasů'!G219) | AZ14: =IF('Seznam zápasů'!H219="","",'Seznam zápasů'!H219) | BA14: =IF('Seznam zápasů'!I219="","",'Seznam zápasů'!I219) | BB14: =IF('Seznam zápasů'!J219="","",'Seznam zápasů'!J219) -> Nadcházející | BC14: =IF('Seznam zápasů'!A203="","",'Seznam zápasů'!A203) -> 46369 | BD14: =IF('Seznam zápasů'!B203="","",'Seznam zápasů'!B203) -> Ne | BE14: =IF('Seznam zápasů'!D203="","",'Seznam zápasů'!D203) -> nadreg. liga | BF14: =IF('Seznam zápasů'!E203="","",'Seznam zápasů'!E203) -> Sokol Pečky | BG14: =IF('Seznam zápasů'!F203="","",'Seznam zápasů'!F203) -> 17181 | BH14: =IF('Seznam zápasů'!G203="","",'Seznam zápasů'!G203) | BI14: =IF('Seznam zápasů'!H203="","",'Seznam zápasů'!H203) | BJ14: =IF('Seznam zápasů'!I203="","",'Seznam zápasů'!I203) | BK14: =IF('Seznam zápasů'!J203="","",'Seznam zápasů'!J203) -> Nadcházející | BL14: =IF('Seznam zápasů'!A204="","",'Seznam zápasů'!A204) -> 46369 | BM14: =IF('Seznam zápasů'!B204="","",'Seznam zápasů'!B204) -> Ne | BN14: =IF('Seznam zápasů'!D204="","",'Seznam zápasů'!D204) -> celostátní liga | BO14: =IF('Seznam zápasů'!E204="","",'Seznam zápasů'!E204) -> HB Basket Praha B | BP14: =IF('Seznam zápasů'!F204="","",'Seznam zápasů'!F204) -> 104 | BQ14: =IF('Seznam zápasů'!G204="","",'Seznam zápasů'!G204) | BR14: =IF('Seznam zápasů'!H204="","",'Seznam zápasů'!H204) | BS14: =IF('Seznam zápasů'!I204="","",'Seznam zápasů'!I204) | BT14: =IF('Seznam zápasů'!J204="","",'Seznam zápasů'!J204) -> Nadcházející | BU14: =IF('Seznam zápasů'!A205="","",'Seznam zápasů'!A205) -> 46369 | BV14: =IF('Seznam zápasů'!B205="","",'Seznam zápasů'!B205) -> Ne | BW14: =IF('Seznam zápasů'!D205="","",'Seznam zápasů'!D205) -> nadreg. liga | BX14: =IF('Seznam zápasů'!E205="","",'Seznam zápasů'!E205) -> Radotínský SK | BY14: =IF('Seznam zápasů'!F205="","",'Seznam zápasů'!F205) -> 17598 | BZ14: =IF('Seznam zápasů'!G205="","",'Seznam zápasů'!G205) | CA14: =IF('Seznam zápasů'!H205="","",'Seznam zápasů'!H205) | CB14: =IF('Seznam zápasů'!I205="","",'Seznam zápasů'!I205) | CC14: =IF('Seznam zápasů'!J205="","",'Seznam zápasů'!J205) -> Nadcházející | CD14: =IF('Seznam zápasů'!A224="","",'Seznam zápasů'!A224) -> 46397 | CE14: =IF('Seznam zápasů'!B224="","",'Seznam zápasů'!B224) -> Ne | CF14: =IF('Seznam zápasů'!D224="","",'Seznam zápasů'!D224) -> žákovská liga | CG14: =IF('Seznam zápasů'!E224="","",'Seznam zápasů'!E224) -> Jižní Supi | CH14: =IF('Seznam zápasů'!F224="","",'Seznam zápasů'!F224) -> 047 | CI14: =IF('Seznam zápasů'!G224="","",'Seznam zápasů'!G224) | CJ14: =IF('Seznam zápasů'!H224="","",'Seznam zápasů'!H224) | CK14: =IF('Seznam zápasů'!I224="","",'Seznam zápasů'!I224) | CL14: =IF('Seznam zápasů'!J224="","",'Seznam zápasů'!J224) -> Nadcházející | CM14: =IF('Seznam zápasů'!A225="","",'Seznam zápasů'!A225) -> 46397 | CN14: =IF('Seznam zápasů'!B225="","",'Seznam zápasů'!B225) -> Ne | CO14: =IF('Seznam zápasů'!D225="","",'Seznam zápasů'!D225) -> žákovská liga | CP14: =IF('Seznam zápasů'!E225="","",'Seznam zápasů'!E225) -> Tigers České Budějovice | CQ14: =IF('Seznam zápasů'!F225="","",'Seznam zápasů'!F225) -> 048 | CR14: =IF('Seznam zápasů'!G225="","",'Seznam zápasů'!G225) | CS14: =IF('Seznam zápasů'!H225="","",'Seznam zápasů'!H225) | CT14: =IF('Seznam zápasů'!I225="","",'Seznam zápasů'!I225) | CU14: =IF('Seznam zápasů'!J225="","",'Seznam zápasů'!J225) -> Nadcházející | CV14: =IF('Seznam zápasů'!A260="","",'Seznam zápasů'!A260) -> 46410 | CW14: =IF('Seznam zápasů'!B260="","",'Seznam zápasů'!B260) -> So | CX14: =IF('Seznam zápasů'!D260="","",'Seznam zápasů'!D260) -> nadreg. Liga | CY14: =IF('Seznam zápasů'!E260="","",'Seznam zápasů'!E260) -> Basketbal Újezd nad Lesy | CZ14: =IF('Seznam zápasů'!F260="","",'Seznam zápasů'!F260) -> 088 | DA14: =IF('Seznam zápasů'!G260="","",'Seznam zápasů'!G260) | DB14: =IF('Seznam zápasů'!H260="","",'Seznam zápasů'!H260) | DC14: =IF('Seznam zápasů'!I260="","",'Seznam zápasů'!I260) | DD14: =IF('Seznam zápasů'!J260="","",'Seznam zápasů'!J260) -> Nadcházející | DE14: =IF('Seznam zápasů'!A207="","",'Seznam zápasů'!A207) -> 46369 | DF14: =IF('Seznam zápasů'!B207="","",'Seznam zápasů'!B207) -> Ne | DG14: =IF('Seznam zápasů'!D207="","",'Seznam zápasů'!D207) -> žákovská liga | DH14: =IF('Seznam zápasů'!E207="","",'Seznam zápasů'!E207) -> Slavia Tygři Praha B | DI14: =IF('Seznam zápasů'!F207="","",'Seznam zápasů'!F207) -> 126 | DJ14: =IF('Seznam zápasů'!G207="","",'Seznam zápasů'!G207) | DK14: =IF('Seznam zápasů'!H207="","",'Seznam zápasů'!H207) | DL14: =IF('Seznam zápasů'!I207="","",'Seznam zápasů'!I207) | DM14: =IF('Seznam zápasů'!J207="","",'Seznam zápasů'!J207) -> Nadcházející | DN14: =IF('Seznam zápasů'!A246="","",'Seznam zápasů'!A246) -> 46404 | DO14: =IF('Seznam zápasů'!B246="","",'Seznam zápasů'!B246) -> Ne | DP14: =IF('Seznam zápasů'!D246="","",'Seznam zápasů'!D246) -> žákovská liga | DQ14: =IF('Seznam zápasů'!E246="","",'Seznam zápasů'!E246) -> F1, S1 | DR14: =IF('Seznam zápasů'!F246="","",'Seznam zápasů'!F246) | DS14: =IF('Seznam zápasů'!G246="","",'Seznam zápasů'!G246) | DT14: =IF('Seznam zápasů'!H246="","",'Seznam zápasů'!H246) | DU14: =IF('Seznam zápasů'!I246="","",'Seznam zápasů'!I246) | DV14: =IF('Seznam zápasů'!J246="","",'Seznam zápasů'!J246) -> Nadcházející | DW14: =IF('Seznam zápasů'!A288="","",'Seznam zápasů'!A288) -> 46425 | DX14: =IF('Seznam zápasů'!B288="","",'Seznam zápasů'!B288) -> Ne | DY14: =IF('Seznam zápasů'!D288="","",'Seznam zápasů'!D288) -> nadreg. liga | DZ14: =IF('Seznam zápasů'!E288="","",'Seznam zápasů'!E288) -> Kralupy Junior | EA14: =IF('Seznam zápasů'!F288="","",'Seznam zápasů'!F288) -> 040 | EB14: =IF('Seznam zápasů'!G288="","",'Seznam zápasů'!G288) | EC14: =IF('Seznam zápasů'!H288="","",'Seznam zápasů'!H288) | ED14: =IF('Seznam zápasů'!I288="","",'Seznam zápasů'!I288) | EE14: =IF('Seznam zápasů'!J288="","",'Seznam zápasů'!J288) -> Nadcházející | EF14: =IF('Seznam zápasů'!A292="","",'Seznam zápasů'!A292) -> 46431 | EG14: =IF('Seznam zápasů'!B292="","",'Seznam zápasů'!B292) -> So | EH14: =IF('Seznam zápasů'!D292="","",'Seznam zápasů'!D292) -> KP + kval. o NF | EI14: =IF('Seznam zápasů'!E292="","",'Seznam zápasů'!E292) -> Basketbal Újezd nad Lesy | EJ14: =IF('Seznam zápasů'!F292="","",'Seznam zápasů'!F292) -> 041 | EK14: =IF('Seznam zápasů'!G292="","",'Seznam zápasů'!G292) | EL14: =IF('Seznam zápasů'!H292="","",'Seznam zápasů'!H292) | EM14: =IF('Seznam zápasů'!I292="","",'Seznam zápasů'!I292) | EN14: =IF('Seznam zápasů'!J292="","",'Seznam zápasů'!J292) -> Nadcházející | EX14: =IF('Seznam zápasů'!A390="","",'Seznam zápasů'!A390) -> 46487 | EY14: =IF('Seznam zápasů'!B390="","",'Seznam zápasů'!B390) -> So | EZ14: =IF('Seznam zápasů'!D390="","",'Seznam zápasů'!D390) -> KP + kval. o NF | FA14: =IF('Seznam zápasů'!E390="","",'Seznam zápasů'!E390) -> TJ Sokol Pečky | FB14: =IF('Seznam zápasů'!F390="","",'Seznam zápasů'!F390) -> 2x 043, 088 | FC14: =IF('Seznam zápasů'!G390="","",'Seznam zápasů'!G390) | FD14: =IF('Seznam zápasů'!H390="","",'Seznam zápasů'!H390) | FE14: =IF('Seznam zápasů'!I390="","",'Seznam zápasů'!I390) | FF14: =IF('Seznam zápasů'!J390="","",'Seznam zápasů'!J390) -> Nadcházející | FP14: =IF('Seznam zápasů'!A188="","",'Seznam zápasů'!A188) -> 46362 | FQ14: =IF('Seznam zápasů'!B188="","",'Seznam zápasů'!B188) -> Ne | FR14: =IF('Seznam zápasů'!D188="","",'Seznam zápasů'!D188) -> KP + kval. o NF | FS14: =IF('Seznam zápasů'!E188="","",'Seznam zápasů'!E188) -> BK Pelhřimov | FT14: =IF('Seznam zápasů'!F188="","",'Seznam zápasů'!F188) -> 070 | FU14: =IF('Seznam zápasů'!G188="","",'Seznam zápasů'!G188) | FV14: =IF('Seznam zápasů'!H188="","",'Seznam zápasů'!H188) | FW14: =IF('Seznam zápasů'!I188="","",'Seznam zápasů'!I188) | FX14: =IF('Seznam zápasů'!J188="","",'Seznam zápasů'!J188) -> Nadcházející | FY14: =IF('Seznam zápasů'!A376="","",'Seznam zápasů'!A376) -> 46480 | FZ14: =IF('Seznam zápasů'!B376="","",'Seznam zápasů'!B376) -> So | GA14: =IF('Seznam zápasů'!D376="","",'Seznam zápasů'!D376) -> KP + kval. o NF | GB14: =IF('Seznam zápasů'!E376="","",'Seznam zápasů'!E376) -> BC Slaný kval. | GC14: =IF('Seznam zápasů'!F376="","",'Seznam zápasů'!F376) -> 005 | GD14: =IF('Seznam zápasů'!G376="","",'Seznam zápasů'!G376) | GE14: =IF('Seznam zápasů'!H376="","",'Seznam zápasů'!H376) | GF14: =IF('Seznam zápasů'!I376="","",'Seznam zápasů'!I376) | GG14: =IF('Seznam zápasů'!J376="","",'Seznam zápasů'!J376) -> Nadcházející | GH14: =IF('Seznam zápasů'!A363="","",'Seznam zápasů'!A363) -> 46467 | GI14: =IF('Seznam zápasů'!B363="","",'Seznam zápasů'!B363) -> Ne | GJ14: =IF('Seznam zápasů'!D363="","",'Seznam zápasů'!D363) -> KP + kval. o NF | GK14: =IF('Seznam zápasů'!E363="","",'Seznam zápasů'!E363) -> BK Brandýs nad Labem kval. | GL14: =IF('Seznam zápasů'!F363="","",'Seznam zápasů'!F363) -> 011 | GM14: =IF('Seznam zápasů'!G363="","",'Seznam zápasů'!G363) | GN14: =IF('Seznam zápasů'!H363="","",'Seznam zápasů'!H363) | GO14: =IF('Seznam zápasů'!I363="","",'Seznam zápasů'!I363) | GP14: =IF('Seznam zápasů'!J363="","",'Seznam zápasů'!J363) -> Nadcházející
