Workbook

Sheet Rozpis zápasů 26-27
A1: Rozpis zápasů BC Benešov 2026/2027
A2: Přehled termínů podle družstev • sezóna 2026/2027
A3: MĚSÍC | B3: DATUM | C3: Muži "A" | D3: Muži "B" | E3: Ženy "A" | F3: Ženy "B" | G3: Ženy "C" | H3: junioři U19 | I3: kadeti U17 | J3: kadetky U17 | K3: kadetky U17 "B" | L3: žáci U15 | M3: žákyně U15 | N3: žákyně U15 "B" | O3: žáci U14 | P3: žákyně U14 | Q3: žákyně U14 "B" | R3: minižáci U13 | S3: minižáci U12 | T3: minižáci U11 | U3: minižáci U10 | V3: minižákyně U13 | W3: minižákyně U12 | X3: minižákyně U11 | Y3: minižákyně U10 | Z3: mix U10
C4: SBLM | D4: KP | E4: II. Liga | F4: SBLŽ | G4: SBLŽ | H4: NRL | I4: nadreg. liga | J4: celostátní liga | K4: nadreg. liga | L4: žákovská liga | M4: žákovská liga | N4: nadreg. Liga | O4: žákovská liga | P4: žákovská liga | Q4: nadreg. liga | R4: KP + kval. o NF | S4: KP + kval. o NF | T4: KP + kval. o NF | U4: KP | V4: KP + kval. o NF | W4: KP + kval. o NF | X4: KP + kval. o NF | Y4: KP | Z4: Šmoulinka
B5: So 5. 9.
B6: Ne 6. 9.
B7: Čt 10. 9. | V7: Sokol Nusle 006
B8: So 12. 9. | R8: BN-Pardubice-Nymburk | T8: Slavoj Český Brod 2x 004, 049
B9: Ne 13. 9. | O9: BK Kladno 091 | V9: Sokol Nehvizdy 011
B10: So 19. 9. | C10: BK Český Brod 004 | E10: BK Lvice Litoměřice 006 | G10: BK Příbram 2000 004 | I10: BC Kolín A 17116 | J10: Sojky Pelhřimov 064 | K10: BK Klatovy 17534 | O10: BK Brandýs 096 | P10: Vlčice Žďár 122 | Q10: Basket Říčany 002 | S10: BA Nymburk 2x 004,040
B11: Ne 20. 9. | C11: BC Kolín 009 | E11: BA Roudnice 009 | F11: BK Příbram 2000 007 | I11: BC Kolín B 17123 | J11: Vlčice Žďár 06 | K11: BK Strakonice B 17540 | O11: Jižní Supi 099 | P11: BK Blansko 124 | V11: BC Slaný 030 | W11: ŠBK Sadská 2x 004,032
B12: So 26. 9. | D12: BK Příbram 2000 "B" 001 | H12: BK Medvědi Tábor 19226 | L12: Tigers České Budějovice 007 | M12: USK Praha 006 | N12: Bižu Jablonecko B 032 | R12: BK Český Brod 002 | T12: BA Nymburk 2x 004,052 | V12: TJ AŠ Mladá Boleslav 014 | X12: Basket Poděbrady 2x 003, 024
B13: Ne 27. 9. | H13: BK Medvědi Tábor 19254 | L13: BK Medvědi Tábor 011 | M13: BK Levhartice Chomutov 10 | N13: AŠ Mladá Boleslav 026 | R13: NBK Milovice 004 | V13: BK Brandýs 019
A14: říjen | B14: So 3. 10. | C14: BK Brandýs n.L. "B" 013 | E14: BA Louny 014 | F14: BC Kolín "B" 008 | G14: BK Sojky Pelhřimov 009 | I14: Basket Poděbrady B 17124 | J14: HB Basket Praha B 072 | K14: PORG Basket 17548 | O14: Slavia Tygři Praha B 102 | P14: Žabiny Brno 127 | Q14: Slovan Varnsdorf 006 | S14: BK Brandýs 2x 005,041 | U14: BC Benešov Ž 2x 001,021 | W14: BC Kolín 2x 005,033 | Y14: BC Benešov M 2x 01,021
B15: Ne 4. 10. | C15: AŠ Mladá Boleslav 018 | E15: Sokol Kladno 018 | F15: BK Sojky Pelhřimov 014 | G15: BC Kolín "B" 012 | I15: AŠ Mladá Boleslav 17131 | J15: TJ AŠ Mladá Boleslav 075 | K15: Sokol Nusle B 17553 | O15: Slavia Tygři Praha 104 | P15: Žabiny Brno B 130
B16: So 10. 10. | D16: AŠ Mladá Boleslav "B" 010 | H16: Radotínský SK 19231 | L16: Jižní Supi 015 | M16: Tigers České Budějovice 016 | N16: Sokol Pečky 043 | R16: Basket Poděbrady 008 | T16: BK Brandýs 2x 015,060 | X16: BC Slaný 2x 005,026
B17: Ne 11. 10. | D17: BK Mělník 013 | H17: BK Příbram 2000 19235 | L17: TJ Sokol Kbely 020 | M17: BK Strakonice 020 | N17: Basketbal Újezd nad Lesy 048 | R17: BA Nymburk 011
B18: So 17. 10. | C18: Sokol Nové Strašecí 028 | E18: DBaK 022 | F18: BK Brandýs "B" 017 | G18: Slavoj Český Brod 018 | I18: Jižní Supi B 17140 | J18: Studánka Pardubice 078 | K18: BCM Sokolov 17556 | O18: BA Radotín 085 | P18: Studánka Pardubice 131 | Q18: Basket Slovanka B 011 | S18: TJ AŠ Mladá Boleslav 2x 011, 047 | U18: BK Mělník 2x 002,022 | W18: BC Slaný 2x 012,040 | Y18: TJ AŚ Mladá Boleslav 2x 004,024
B19: Ne 18. 10. | C19: BK Kladno "B" 033 | E19: Lokomotiva Karlovy Vary 025 | F19: Slavoj Český Brod 020 | G19: BK Brandýs "B" 021 | I19: Sokol Žižkov B 17146 | J19: Sokol Nusle 082 | K19: BC Slaný 17562 | O19: BA Radotín 106 | Q19: Tygři Praha B 015
B20: St 21. 10.
B21: So 24. 10. | D21: BK Sadská 016 | H21: BK Sojky Pelhřimov C 19239 | L21: BK Lokomotiva Plzeň 021 | M21: SKB Rokycany 024 | N21: BK Příbram 2000 049 | T21: Pandy Čelákovice 2x 016, 061 | V21: Sokol Kladno 040 | X21: BK Brandýs nad Labem 2x 008,027
B22: Ne 25. 10. | D22: TJ Sokol Nehvizdy 020 | H22: TJ Třebíč 19244 | L22: Slavi Tygři Praha 025 | M22: DBaK 027 | R22: BK Mělník 016 | V22: HB Basket 045
B23: So 31. 10.
A24: listopad | B24: Ne 1. 11.
B25: So 7. 11. | E25: Sokol Nusle B 004 | F25: BC Slaný 025 | G25: BK Kralupy Junior 026 | I25: Slovan Varnsdorf B 17150 | J25: Tigers České Budějovice 058 | K25: BK Teplice 17572 | O25: BK Kladno 109 | P25: BK Blansko | Q25: Kralupy Junior 016 | S25: BK Beroun 2x 014, 050 | U25: BC Slaný 2x 006,26 | W25: Sokol Nusle 2x 014,042
B26: Ne 8. 11. | E26: Sokol Nusle B 032 | F26: BK Kralupy Junior 029 | G26: BC Slaný 028 | I26: BA Lynx Liberecko B 17157 | J26: Tigers České Budějovice 086 | K26: Válečnice Děčín B 17578 | P26: Vlčice Žďár 139 | Q26: BA Roudnice 019
B27: So 14. 11. | D27: Slavoj Český Brod "B" 022 | H27: BK Lions Jindřichův Hradec 19245 | L27: BA Radotín 002 | M27: HB Basket Praha 001 | N27: Basket Říčany 061 | R27: Basketbal Újezd nad Lesy 021 | T27: BC Kolín 2x 025,070 | V27: BC Kolín 052 | X27: ŠBK Sadská 2x 012,033
B28: Ne 15. 11. | D28: Sokol Kutná Hora 026 | H28: Tigers České Budějovice 19249 | L28: BA Radotín 030 | M28: HB Basket Praha 029 | N28: Sokol Nusle 065 | V28: ŠBK Sadská 058
B29: Út 17. 11.
B30: So 21. 11. | C30: BK Příbram 2000 051 | E30: BA Roudnice 033 | F30: BC Benešov "C" 030 | G30: BC Benešov "B" 030 | I30: BA Radotín 17162 | J30: Vlčice Žďár 092 | K30: Basketbal Újezd nad Lesy 17582 | O30: Jižní Supi 111 | P30: Žabiny Brno B 142 | Q30: Basket Říčany 023 | S30: TJ Sokol Nehvizdy 2x 018,054 | W30: BK Kralupy Junior 2x 019, 047 | Y30: BK Mělník 2x 008,028
B31: Ne 22. 11. | C31: BK Beroun 056 | E31: BK Lvice Litoměřice 038 | I31: Basketbal Újezd nad Lesy 17168 | J31: Sojky Pelhřimov 096 | K31: BC Wizards 17587 | O31: BK Brandýs 120 | P31: Žabiny Brno 144 | V31: BK Kralupy Junior 036
B32: So 28. 11. | C32: BC Real Réma Nymbuk 058
B33: Ne 29. 11. | C33: Basket Poděbrady "B" 063
A34: prosinec | B34: So 5. 12. | D34: TJ TZ Rakovník 031 | H34: BK Příbram 2000 19259 | L34: BK Medvědi Tábor 035 | M34: Levhartice Chomutov 034 | N34: BC Wizard 068 | R34: NBK Milovice 022 | T34: Basketbal Újezd nad Lesy 2x 027, 072 | V34: BK Pelhřimov 064 | X34: TJ AŠ Mladá Boleslav 2x 013, 034
B35: Ne 6. 12. | H35: Radotínský SK 19263 | L35: Tigers České Budějovice 039 | M35: USK Praha 038 | N35: BK Brandýs B 073 | R35: BK Český Brod 025 | V35: BK Pelhřimov 070
B36: So 12. 12. | C36: ŠSK Slaný 071 | E36: Sokol Kladno 042 | F36: BK Příbram 2000 039 | I36: Sokol Pečky 17175 | J36: TJ AŠ Mladá Boleslav 099 | K36: Radotínský SK 17592 | O36: Slavia Tygři Praha 122 | S36: BC Kolín 2x 023,059 | U36: TJ AŠ Mladá Boleslav 2x 010,030 | W36: BK Brandýs 2x 023,051 | Y36: BC Slaný 2x 009,029
B37: Ne 13. 12. | C37: BK Kralupy Junior 076 | E37: BA Louny 045 | G37: BK Příbram 2000 043 | I37: Sokol Pečky 17181 | J37: HB Basket Praha B 104 | K37: Radotínský SK 17598 | O37: Slavia Tygři Praha B 126 | P37: Studánka Pardubice 148 | Q37: Slovan Varnsdorf 029
B38: So 19. 12.
B39: Ne 20. 12.
A40: leden | B40: So 2. 1.
...

Sheet Seznam zápasů
A1: SEZNAM VŠECH ZÁPASŮ • BC BENEŠOV 2026/2027 | M1: Družstva
A2: Filtrujte podle data, družstva, soutěže nebo stavu. Pole Čas, Místo a Poznámka jsou připravena k doplnění. | M2: Muži "A"
M3: Muži "B"
A4: Datum | B4: Den | C4: Družstvo | D4: Soutěž | E4: Soupeř / fáze | F4: Číslo utkání | G4: Čas | H4: Místo | I4: Poznámka | J4: Stav | M4: Ženy "A"
A5: 46275 | B5: Čt | C5: minižákyně U13 | D5: KP + kval. o NF | E5: Sokol Nusle | F5: 006 | J5: =IF(A5<TODAY(),"Odehráno",IF(A5=TODAY(),"Dnes","Nadcházející")) -> Nadcházející | M5: Ženy "B"
A6: 46277 | B6: So | C6: minižáci U11 | D6: KP + kval. o NF | E6: Slavoj Český Brod | F6: 2x 004, 049 | J6: =IF(A6<TODAY(),"Odehráno",IF(A6=TODAY(),"Dnes","Nadcházející")) -> Nadcházející | M6: Ženy "C"
A7: 46277 | B7: So | C7: minižáci U13 | D7: KP + kval. o NF | E7: BN-Pardubice-Nymburk | J7: =IF(A7<TODAY(),"Odehráno",IF(A7=TODAY(),"Dnes","Nadcházející")) -> Nadcházející | M7: junioři U19
A8: 46278 | B8: Ne | C8: minižákyně U13 | D8: KP + kval. o NF | E8: Sokol Nehvizdy | F8: 011 | J8: =IF(A8<TODAY(),"Odehráno",IF(A8=TODAY(),"Dnes","Nadcházející")) -> Nadcházející | M8: kadeti U17
A9: 46278 | B9: Ne | C9: žáci U14 | D9: žákovská liga | E9: BK Kladno | F9: 091 | J9: =IF(A9<TODAY(),"Odehráno",IF(A9=TODAY(),"Dnes","Nadcházející")) -> Nadcházející | M9: kadetky U17
A10: 46284 | B10: So | C10: kadeti U17 | D10: nadreg. liga | E10: BC Kolín A | F10: 17116 | J10: =IF(A10<TODAY(),"Odehráno",IF(A10=TODAY(),"Dnes","Nadcházející")) -> Nadcházející | M10: kadetky U17 "B"
A11: 46284 | B11: So | C11: kadetky U17 | D11: celostátní liga | E11: Sojky Pelhřimov | F11: 064 | J11: =IF(A11<TODAY(),"Odehráno",IF(A11=TODAY(),"Dnes","Nadcházející")) -> Nadcházející | M11: žáci U15
A12: 46284 | B12: So | C12: kadetky U17 "B" | D12: nadreg. liga | E12: BK Klatovy | F12: 17534 | J12: =IF(A12<TODAY(),"Odehráno",IF(A12=TODAY(),"Dnes","Nadcházející")) -> Nadcházející | M12: žákyně U15
A13: 46284 | B13: So | C13: minižáci U12 | D13: KP + kval. o NF | E13: BA Nymburk | F13: 2x 004,040 | J13: =IF(A13<TODAY(),"Odehráno",IF(A13=TODAY(),"Dnes","Nadcházející")) -> Nadcházející | M13: žákyně U15 "B"
A14: 46284 | B14: So | C14: Muži "A" | D14: SBLM | E14: BK Český Brod | F14: 004 | J14: =IF(A14<TODAY(),"Odehráno",IF(A14=TODAY(),"Dnes","Nadcházející")) -> Nadcházející | M14: žáci U14
A15: 46284 | B15: So | C15: žáci U14 | D15: žákovská liga | E15: BK Brandýs | F15: 096 | J15: =IF(A15<TODAY(),"Odehráno",IF(A15=TODAY(),"Dnes","Nadcházející")) -> Nadcházející | M15: žákyně U14
A16: 46284 | B16: So | C16: žákyně U14 | D16: žákovská liga | E16: Vlčice Žďár | F16: 122 | J16: =IF(A16<TODAY(),"Odehráno",IF(A16=TODAY(),"Dnes","Nadcházející")) -> Nadcházející | M16: žákyně U14 "B"
A17: 46284 | B17: So | C17: žákyně U14 "B" | D17: nadreg. liga | E17: Basket Říčany | F17: 002 | J17: =IF(A17<TODAY(),"Odehráno",IF(A17=TODAY(),"Dnes","Nadcházející")) -> Nadcházející | M17: minižáci U13
A18: 46284 | B18: So | C18: Ženy "A" | D18: II. Liga | E18: BK Lvice Litoměřice | F18: 006 | J18: =IF(A18<TODAY(),"Odehráno",IF(A18=TODAY(),"Dnes","Nadcházející")) -> Nadcházející | M18: minižáci U12
A19: 46284 | B19: So | C19: Ženy "C" | D19: SBLŽ | E19: BK Příbram 2000 | F19: 004 | J19: =IF(A19<TODAY(),"Odehráno",IF(A19=TODAY(),"Dnes","Nadcházející")) -> Nadcházející | M19: minižáci U11
... A25: 46285 | B25: Ne | C25: Muži "A" | D25: SBLM | E25: BC Kolín | F25: 009 | J25: =IF(A25<TODAY(),"Odehráno",IF(A25=TODAY(),"Dnes","Nadcházející")) -> Nadcházející | M25: mix U10
A26: 46285 | B26: Ne | C26: žáci U14 | D26: žákovská liga | E26: Jižní Supi | F26: 099 | J26: =IF(A26<TODAY(),"Odehráno",IF(A26=TODAY(),"Dnes","Nadcházející")) -> Nadcházející
A27: 46285 | B27: Ne | C27: žákyně U14 | D27: žákovská liga | E27: BK Blansko | F27: 124 | J27: =IF(A27<TODAY(),"Odehráno",IF(A27=TODAY(),"Dnes","Nadcházející")) -> Nadcházející
A28: 46285 | B28: Ne | C28: Ženy "A" | D28: II. Liga | E28: BA Roudnice | F28: 009 | J28: =IF(A28<TODAY(),"Odehráno",IF(A28=TODAY(),"Dnes","Nadcházející")) -> Nadcházející
A29: 46285 | B29: Ne | C29: Ženy "B" | D29: SBLŽ | E29: BK Příbram 2000 | F29: 007 | J29: =IF(A29<TODAY(),"Odehráno",IF(A29=TODAY(),"Dnes","Nadcházející")) -> Nadcházející
A30: 46291 | B30: So | C30: junioři U19 | D30: NRL | E30: BK Medvědi Tábor | F30: 19226 | J30: =IF(A30<TODAY(),"Odehráno",IF(A30=TODAY(),"Dnes","Nadcházející")) -> Nadcházející
A31: 46291 | B31: So | C31: minižáci U11 | D31: KP + kval. o NF | E31: BA Nymburk | F31: 2x 004,052 | J31: =IF(A31<TODAY(),"Odehráno",IF(A31=TODAY(),"Dnes","Nadcházející")) -> Nadcházející
A32: 46291 | B32: So | C32: minižáci U13 | D32: KP + kval. o NF | E32: BK Český Brod | F32: 002 | J32: =IF(A32<TODAY(),"Odehráno",IF(A32=TODAY(),"Dnes","Nadcházející")) -> Nadcházející
A33: 46291 | B33: So | C33: minižákyně U11 | D33: KP + kval. o NF | E33: Basket Poděbrady | F33: 2x 003, 024 | J33: =IF(A33<TODAY(),"Odehráno",IF(A33=TODAY(),"Dnes","Nadcházející")) -> Nadcházející
A34: 46291 | B34: So | C34: minižákyně U13 | D34: KP + kval. o NF | E34: TJ AŠ Mladá Boleslav | F34: 014 | J34: =IF(A34<TODAY(),"Odehráno",IF(A34=TODAY(),"Dnes","Nadcházející")) -> Nadcházející
A35: 46291 | B35: So | C35: Muži "B" | D35: KP | E35: BK Příbram 2000 "B" | F35: 001 | J35: =IF(A35<TODAY(),"Odehráno",IF(A35=TODAY(),"Dnes","Nadcházející")) -> Nadcházející
A36: 46291 | B36: So | C36: žáci U15 | D36: žákovská liga | E36: Tigers České Budějovice | F36: 007 | J36: =IF(A36<TODAY(),"Odehráno",IF(A36=TODAY(),"Dnes","Nadcházející")) -> Nadcházející
A37: 46291 | B37: So | C37: žákyně U15 | D37: žákovská liga | E37: USK Praha | F37: 006 | J37: =IF(A37<TODAY(),"Odehráno",IF(A37=TODAY(),"Dnes","Nadcházející")) -> Nadcházející
... A125: 46333 | B125: So | C125: žáci U14 | D125: žákovská liga | E125: BK Kladno | F125: 109 | J125: =IF(A125<TODAY(),"Odehráno",IF(A125=TODAY(),"Dnes","Nadcházející")) -> Nadcházející
A126: 46333 | B126: So | C126: žákyně U14 | D126: žákovská liga | E126: BK Blansko | J126: =IF(A126<TODAY(),"Odehráno",IF(A126=TODAY(),"Dnes","Nadcházející")) -> Nadcházející
A127: 46333 | B127: So | C127: žákyně U14 "B" | D127: nadreg. liga | E127: Kralupy Junior | F127: 016 | J127: =IF(A127<TODAY(),"Odehráno",IF(A127=TODAY(),"Dnes","Nadcházející")) -> Nadcházející
A128: 46333 | B128: So | C128: Ženy "A" | D128: II. Liga | E128: Sokol Nusle B | F128: 004 | J128: =IF(A128<TODAY(),"Odehráno",IF(A128=TODAY(),"Dnes","Nadcházející")) -> Nadcházející
A129: 46333 | B129: So | C129: Ženy "B" | D129: SBLŽ | E129: BC Slaný | F129: 025 | J129: =IF(A129<TODAY(),"Odehráno",IF(A129=TODAY(),"Dnes","Nadcházející")) -> Nadcházející
A130: 46333 | B130: So | C130: Ženy "C" | D130: SBLŽ | E130: BK Kralupy Junior | F130: 026 | J130: =IF(A130<TODAY(),"Odehráno",IF(A130=TODAY(),"Dnes","Nadcházející")) -> Nadcházející
A131: 46334 | B131: Ne | C131: kadeti U17 | D131: nadreg. liga | E131: BA Lynx Liberecko B | F131: 17157 | J131: =IF(A131<TODAY(),"Odehráno",IF(A131=TODAY(),"Dnes","Nadcházející")) -> Nadcházející
A132: 46334 | B132: Ne | C132: kadetky U17 | D132: celostátní liga | E132: Tigers České Budějovice | F132: 086 | J132: =IF(A132<TODAY(),"Odehráno",IF(A132=TODAY(),"Dnes","Nadcházející")) -> Nadcházející
...

Sheet Data družstev
A1: Muži "A" | J1: Muži "B" | S1: Ženy "A" | AB1: Ženy "B" | AK1: Ženy "C" | AT1: junioři U19 | BC1: kadeti U17 | BL1: kadetky U17 | BU1: kadetky U17 "B" | CD1: žáci U15 | CM1: žákyně U15 | CV1: žákyně U15 "B" | DE1: žáci U14 | DN1: žákyně U14 | DW1: žákyně U14 "B" | EF1: minižáci U13 | EO1: minižáci U12 | EX1: minižáci U11 | FG1: minižáci U10 | FP1: minižákyně U13 | FY1: minižákyně U12 | GH1: minižákyně U11 | GQ1: minižákyně U10 | GZ1: mix U10
A2: Datum | B2: Den | C2: Soutěž | D2: Soupeř / fáze | E2: Číslo utkání | F2: Čas | G2: Místo | H2: Poznámka | I2: Stav | J2: Datum | K2: Den | L2: Soutěž | M2: Soupeř / fáze | N2: Číslo utkání | O2: Čas | P2: Místo | Q2: Poznámka | R2: Stav | S2: Datum | T2: Den | U2: Soutěž | V2: Soupeř / fáze | W2: Číslo utkání | X2: Čas | Y2: Místo | Z2: Poznámka | AA2: Stav | AB2: Datum | AC2: Den | AD2: Soutěž | AE2: Soupeř / fáze | AF2: Číslo utkání | AG2: Čas | AH2: Místo | AI2: Poznámka | AJ2: Stav | AK2: Datum | AL2: Den | AM2: Soutěž | AN2: Soupeř / fáze | AO2: Číslo utkání | AP2: Čas | AQ2: Místo | AR2: Poznámka | AS2: Stav | AT2: Datum | AU2: Den | AV2: Soutěž | AW2: Soupeř / fáze | AX2: Číslo utkání | AY2: Čas | AZ2: Místo | BA2: Poznámka | BB2: Stav | BC2: Datum | BD2: Den | BE2: Soutěž | BF2: Soupeř / fáze | BG2: Číslo utkání | BH2: Čas | BI2: Místo | BJ2: Poznámka | BK2: Stav | BL2: Datum | BM2: Den | BN2: Soutěž | BO2: Soupeř / fáze | BP2: Číslo utkání | BQ2: Čas | BR2: Místo | BS2: Poznámka | BT2: Stav | BU2: Datum | BV2: Den | BW2: Soutěž | BX2: Soupeř / fáze | BY2: Číslo utkání | BZ2: Čas | CA2: Místo | CB2: Poznámka | CC2: Stav | CD2: Datum | CE2: Den | CF2: Soutěž | CG2: Soupeř / fáze | CH2: Číslo utkání | CI2: Čas | CJ2: Místo | CK2: Poznámka | CL2: Stav | CM2: Datum | CN2: Den | CO2: Soutěž | CP2: Soupeř / fáze | CQ2: Číslo utkání | CR2: Čas | CS2: Místo | CT2: Poznámka | CU2: Stav | CV2: Datum | CW2: Den | CX2: Soutěž | CY2: Soupeř / fáze | CZ2: Číslo utkání | DA2: Čas | DB2: Místo | DC2: Poznámka | DD2: Stav | DE2: Datum | DF2: Den | DG2: Soutěž | DH2: Soupeř / fáze | DI2: Číslo utkání | DJ2: Čas | DK2: Místo | DL2: Poznámka | DM2: Stav | DN2: Datum | DO2: Den | DP2: Soutěž | DQ2: Soupeř / fáze | DR2: Číslo utkání | DS2: Čas | DT2: Místo | DU2: Poznámka | DV2: Stav | DW2: Datum | DX2: Den | DY2: Soutěž | DZ2: Soupeř / fáze | EA2: Číslo utkání | EB2: Čas | EC2: Místo | ED2: Poznámka | EE2: Stav | EF2: Datum | EG2: Den | EH2: Soutěž | EI2: Soupeř / fáze | EJ2: Číslo utkání | EK2: Čas | EL2: Místo | EM2: Poznámka | EN2: Stav | EO2: Datum | EP2: Den | EQ2: Soutěž | ER2: Soupeř / fáze | ES2: Číslo utkání | ET2: Čas | EU2: Místo | EV2: Poznámka | EW2: Stav | EX2: Datum | EY2: Den | EZ2: Soutěž | FA2: Soupeř / fáze | FB2: Číslo utkání | FC2: Čas | FD2: Místo | FE2: Poznámka | FF2: Stav | FG2: Datum | FH2: Den | FI2: Soutěž | FJ2: Soupeř / fáze | FK2: Číslo utkání | FL2: Čas | FM2: Místo | FN2: Poznámka | FO2: Stav | FP2: Datum | FQ2: Den | FR2: Soutěž | FS2: Soupeř / fáze | FT2: Číslo utkání | FU2: Čas | FV2: Místo | FW2: Poznámka | FX2: Stav | FY2: Datum | FZ2: Den | GA2: Soutěž | GB2: Soupeř / fáze | GC2: Číslo utkání | GD2: Čas | GE2: Místo | GF2: Poznámka | GG2: Stav | GH2: Datum | GI2: Den | GJ2: Soutěž | GK2: Soupeř / fáze | GL2: Číslo utkání | GM2: Čas | GN2: Místo | GO2: Poznámka | GP2: Stav | GQ2: Datum | GR2: Den | GS2: Soutěž | GT2: Soupeř / fáze | GU2: Číslo utkání | GV2: Čas | GW2: Místo | GX2: Poznámka | GY2: Stav | GZ2: Datum | HA2: Den | HB2: Soutěž | HC2: Soupeř / fáze | HD2: Číslo utkání | HE2: Čas | HF2: Místo | HG2: Poznámka | HH2: Stav
A3: =IF('Seznam zápasů'!A14="","",'Seznam zápasů'!A14) -> 46284 | B3: =IF('Seznam zápasů'!B14="","",'Seznam zápasů'!B14) -> So | C3: =IF('Seznam zápasů'!D14="","",'Seznam zápasů'!D14) -> SBLM | D3: =IF('Seznam zápasů'!E14="","",'Seznam zápasů'!E14) -> BK Český Brod | E3: =IF('Seznam zápasů'!F14="","",'Seznam zápasů'!F14) -> 004 | F3: =IF('Seznam zápasů'!G14="","",'Seznam zápasů'!G14) | G3: =IF('Seznam zápasů'!H14="","",'Seznam zápasů'!H14) | H3: =IF('Seznam zápasů'!I14="","",'Seznam zápasů'!I14) | I3: =IF('Seznam zápasů'!J14="","",'Seznam zápasů'!J14) -> Nadcházející | J3: =IF('Seznam zápasů'!A35="","",'Seznam zápasů'!A35) -> 46291 | K3: =IF('Seznam zápasů'!B35="","",'Seznam zápasů'!B35) -> So | L3: =IF('Seznam zápasů'!D35="","",'Seznam zápasů'!D35) -> KP | M3: =IF('Seznam zápasů'!E35="","",'Seznam zápasů'!E35) -> BK Příbram 2000 "B" | N3: =IF('Seznam zápasů'!F35="","",'Seznam zápasů'!F35) -> 001 | O3: =IF('Seznam zápasů'!G35="","",'Seznam zápasů'!G35) | P3: =IF('Seznam zápasů'!H35="","",'Seznam zápasů'!H35) | Q3: =IF('Seznam zápasů'!I35="","",'Seznam zápasů'!I35) | R3: =IF('Seznam zápasů'!J35="","",'Seznam zápasů'!J35) -> Nadcházející | S3: =IF('Seznam zápasů'!A18="","",'Seznam zápasů'!A18) -> 46284 | T3: =IF('Seznam zápasů'!B18="","",'Seznam zápasů'!B18) -> So | U3: =IF('Seznam zápasů'!D18="","",'Seznam zápasů'!D18) -> II. Liga | V3: =IF('Seznam zápasů'!E18="","",'Seznam zápasů'!E18) -> BK Lvice Litoměřice | W3: =IF('Seznam zápasů'!F18="","",'Seznam zápasů'!F18) -> 006 | X3: =IF('Seznam zápasů'!G18="","",'Seznam zápasů'!G18) | Y3: =IF('Seznam zápasů'!H18="","",'Seznam zápasů'!H18) | Z3: =IF('Seznam zápasů'!I18="","",'Seznam zápasů'!I18) | AA3: =IF('Seznam zápasů'!J18="","",'Seznam zápasů'!J18) -> Nadcházející | AB3: =IF('Seznam zápasů'!A29="","",'Seznam zápasů'!A29) -> 46285 | AC3: =IF('Seznam zápasů'!B29="","",'Seznam zápasů'!B29) -> Ne | AD3: =IF('Seznam zápasů'!D29="","",'Seznam zápasů'!D29) -> SBLŽ | AE3: =IF('Seznam zápasů'!E29="","",'Seznam zápasů'!E29) -> BK Příbram 2000 | AF3: =IF('Seznam zápasů'!F29="","",'Seznam zápasů'!F29) -> 007 | AG3: =IF('Seznam zápasů'!G29="","",'Seznam zápasů'!G29) | AH3: =IF('Seznam zápasů'!H29="","",'Seznam zápasů'!H29) | AI3: =IF('Seznam zápasů'!I29="","",'Seznam zápasů'!I29) | AJ3: =IF('Seznam zápasů'!J29="","",'Seznam zápasů'!J29) -> Nadcházející | AK3: =IF('Seznam zápasů'!A19="","",'Seznam zápasů'!A19) -> 46284 | AL3: =IF('Seznam zápasů'!B19="","",'Seznam zápasů'!B19) -> So | AM3: =IF('Seznam zápasů'!D19="","",'Seznam zápasů'!D19) -> SBLŽ | AN3: =IF('Seznam zápasů'!E19="","",'Seznam zápasů'!E19) -> BK Příbram 2000 | AO3: =IF('Seznam zápasů'!F19="","",'Seznam zápasů'!F19) -> 004 | AP3: =IF('Seznam zápasů'!G19="","",'Seznam zápasů'!G19) | AQ3: =IF('Seznam zápasů'!H19="","",'Seznam zápasů'!H19) | AR3: =IF('Seznam zápasů'!I19="","",'Seznam zápasů'!I19) | AS3: =IF('Seznam zápasů'!J19="","",'Seznam zápasů'!J19) -> Nadcházející | AT3: =IF('Seznam zápasů'!A30="","",'Seznam zápasů'!A30) -> 46291 | AU3: =IF('Seznam zápasů'!B30="","",'Seznam zápasů'!B30) -> So | AV3: =IF('Seznam zápasů'!D30="","",'Seznam zápasů'!D30) -> NRL | AW3: =IF('Seznam zápasů'!E30="","",'Seznam zápasů'!E30) -> BK Medvědi Tábor | AX3: =IF('Seznam zápasů'!F30="","",'Seznam zápasů'!F30) -> 19226 | AY3: =IF('Seznam zápasů'!G30="","",'Seznam zápasů'!G30) | AZ3: =IF('Seznam zápasů'!H30="","",'Seznam zápasů'!H30) | BA3: =IF('Seznam zápasů'!I30="","",'Seznam zápasů'!I30) | BB3: =IF('Seznam zápasů'!J30="","",'Seznam zápasů'!J30) -> Nadcházející | BC3: =IF('Seznam zápasů'!A10="","",'Seznam zápasů'!A10) -> 46284 | BD3: =IF('Seznam zápasů'!B10="","",'Seznam zápasů'!B10) -> So | BE3: =IF('Seznam zápasů'!D10="","",'Seznam zápasů'!D10) -> nadreg. liga | BF3: =IF('Seznam zápasů'!E10="","",'Seznam zápasů'!E10) -> BC Kolín A | BG3: =IF('Seznam zápasů'!F10="","",'Seznam zápasů'!F10) -> 17116 | BH3: =IF('Seznam zápasů'!G10="","",'Seznam zápasů'!G10) | BI3: =IF('Seznam zápasů'!H10="","",'Seznam zápasů'!H10) | BJ3: =IF('Seznam zápasů'!I10="","",'Seznam zápasů'!I10) | BK3: =IF('Seznam zápasů'!J10="","",'Seznam zápasů'!J10) -> Nadcházející | BL3: =IF('Seznam zápasů'!A11="","",'Seznam zápasů'!A11) -> 46284 | BM3: =IF('Seznam zápasů'!B11="","",'Seznam zápasů'!B11) -> So | BN3: =IF('Seznam zápasů'!D11="","",'Seznam zápasů'!D11) -> celostátní liga | BO3: =IF('Seznam zápasů'!E11="","",'Seznam zápasů'!E11) -> Sojky Pelhřimov | BP3: =IF('Seznam zápasů'!F11="","",'Seznam zápasů'!F11) -> 064 | BQ3: =IF('Seznam zápasů'!G11="","",'Seznam zápasů'!G11) | BR3: =IF('Seznam zápasů'!H11="","",'Seznam zápasů'!H11) | BS3: =IF('Seznam zápasů'!I11="","",'Seznam zápasů'!I11) | BT3: =IF('Seznam zápasů'!J11="","",'Seznam zápasů'!J11) -> Nadcházející | BU3: =IF('Seznam zápasů'!A12="","",'Seznam zápasů'!A12) -> 46284 | BV3: =IF('Seznam zápasů'!B12="","",'Seznam zápasů'!B12) -> So | BW3: =IF('Seznam zápasů'!D12="","",'Seznam zápasů'!D12) -> nadreg. liga | BX3: =IF('Seznam zápasů'!E12="","",'Seznam zápasů'!E12) -> BK Klatovy | BY3: =IF('Seznam zápasů'!F12="","",'Seznam zápasů'!F12) -> 17534 | BZ3: =IF('Seznam zápasů'!G12="","",'Seznam zápasů'!G12) | CA3: =IF('Seznam zápasů'!H12="","",'Seznam zápasů'!H12) | CB3: =IF('Seznam zápasů'!I12="","",'Seznam zápasů'!I12) | CC3: =IF('Seznam zápasů'!J12="","",'Seznam zápasů'!J12) -> Nadcházející | CD3: =IF('Seznam zápasů'!A36="","",'Seznam zápasů'!A36) -> 46291 | CE3: =IF('Seznam zápasů'!B36="","",'Seznam zápasů'!B36) -> So | CF3: =IF('Seznam zápasů'!D36="","",'Seznam zápasů'!D36) -> žákovská liga | CG3: =IF('Seznam zápasů'!E36="","",'Seznam zápasů'!E36) -> Tigers České Budějovice | CH3: =IF('Seznam zápasů'!F36="","",'Seznam zápasů'!F36) -> 007 | CI3: =IF('Seznam zápasů'!G36="","",'Seznam zápasů'!G36) | CJ3: =IF('Seznam zápasů'!H36="","",'Seznam zápasů'!H36) | CK3: =IF('Seznam zápasů'!I36="","",'Seznam zápasů'!I36) | CL3: =IF('Seznam zápasů'!J36="","",'Seznam zápasů'!J36) -> Nadcházející | CM3: =IF('Seznam zápasů'!A37="","",'Seznam zápasů'!A37) -> 46291 | CN3: =IF('Seznam zápasů'!B37="","",'Seznam zápasů'!B37) -> So | CO3: =IF('Seznam zápasů'!D37="","",'Seznam zápasů'!D37) -> žákovská liga | CP3: =IF('Seznam zápasů'!E37="","",'Seznam zápasů'!E37) -> USK Praha | CQ3: =IF('Seznam zápasů'!F37="","",'Seznam zápasů'!F37) -> 006 | CR3: =IF('Seznam zápasů'!G37="","",'Seznam zápasů'!G37) | CS3: =IF('Seznam zápasů'!H37="","",'Seznam zápasů'!H37) | CT3: =IF('Seznam zápasů'!I37="","",'Seznam zápasů'!I37) | CU3: =IF('Seznam zápasů'!J37="","",'Seznam zápasů'!J37) -> Nadcházející | CV3: =IF('Seznam zápasů'!A38="","",'Seznam zápasů'!A38) -> 46291 | CW3: =IF('Seznam zápasů'!B38="","",'Seznam zápasů'!B38) -> So | CX3: =IF('Seznam zápasů'!D38="","",'Seznam zápasů'!D38) -> nadreg. Liga | CY3: =IF('Seznam zápasů'!E38="","",'Seznam zápasů'!E38) -> Bižu Jablonecko B | CZ3: =IF('Seznam zápasů'!F38="","",'Seznam zápasů'!F38) -> 032 | DA3: =IF('Seznam zápasů'!G38="","",'Seznam zápasů'!G38) | DB3: =IF('Seznam zápasů'!H38="","",'Seznam zápasů'!H38) | DC3: =IF('Seznam zápasů'!I38="","",'Seznam zápasů'!I38) | DD3: =IF('Seznam zápasů'!J38="","",'Seznam zápasů'!J38) -> Nadcházející | DE3: =IF('Seznam zápasů'!A9="","",'Seznam zápasů'!A9) -> 46278 | DF3: =IF('Seznam zápasů'!B9="","",'Seznam zápasů'!B9) -> Ne | DG3: =IF('Seznam zápasů'!D9="","",'Seznam zápasů'!D9) -> žákovská liga | DH3: =IF('Seznam zápasů'!E9="","",'Seznam zápasů'!E9) -> BK Kladno | DI3: =IF('Seznam zápasů'!F9="","",'Seznam zápasů'!F9) -> 091 | DJ3: =IF('Seznam zápasů'!G9="","",'Seznam zápasů'!G9) | DK3: =IF('Seznam zápasů'!H9="","",'Seznam zápasů'!H9) | DL3: =IF('Seznam zápasů'!I9="","",'Seznam zápasů'!I9) | DM3: =IF('Seznam zápasů'!J9="","",'Seznam zápasů'!J9) -> Nadcházející | DN3: =IF('Seznam zápasů'!A16="","",'Seznam zápasů'!A16) -> 46284 | DO3: =IF('Seznam zápasů'!B16="","",'Seznam zápasů'!B16) -> So | DP3: =IF('Seznam zápasů'!D16="","",'Seznam zápasů'!D16) -> žákovská liga | DQ3: =IF('Seznam zápasů'!E16="","",'Seznam zápasů'!E16) -> Vlčice Žďár | DR3: =IF('Seznam zápasů'!F16="","",'Seznam zápasů'!F16) -> 122 | DS3: =IF('Seznam zápasů'!G16="","",'Seznam zápasů'!G16) | DT3: =IF('Seznam zápasů'!H16="","",'Seznam zápasů'!H16) | DU3: =IF('Seznam zápasů'!I16="","",'Seznam zápasů'!I16) | DV3: =IF('Seznam zápasů'!J16="","",'Seznam zápasů'!J16) -> Nadcházející | DW3: =IF('Seznam zápasů'!A17="","",'Seznam zápasů'!A17) -> 46284 | DX3: =IF('Seznam zápasů'!B17="","",'Seznam zápasů'!B17) -> So | DY3: =IF('Seznam zápasů'!D17="","",'Seznam zápasů'!D17) -> nadreg. liga | DZ3: =IF('Seznam zápasů'!E17="","",'Seznam zápasů'!E17) -> Basket Říčany | EA3: =IF('Seznam zápasů'!F17="","",'Seznam zápasů'!F17) -> 002 | EB3: =IF('Seznam zápasů'!G17="","",'Seznam zápasů'!G17) | EC3: =IF('Seznam zápasů'!H17="","",'Seznam zápasů'!H17) | ED3: =IF('Seznam zápasů'!I17="","",'Seznam zápasů'!I17) | EE3: =IF('Seznam zápasů'!J17="","",'Seznam zápasů'!J17) -> Nadcházející | EF3: =IF('Seznam zápasů'!A7="","",'Seznam zápasů'!A7) -> 46277 | EG3: =IF('Seznam zápasů'!B7="","",'Seznam zápasů'!B7) -> So | EH3: =IF('Seznam zápasů'!D7="","",'Seznam zápasů'!D7) -> KP + kval. o NF | EI3: =IF('Seznam zápasů'!E7="","",'Seznam zápasů'!E7) -> BN-Pardubice-Nymburk | EJ3: =IF('Seznam zápasů'!F7="","",'Seznam zápasů'!F7) | EK3: =IF('Seznam zápasů'!G7="","",'Seznam zápasů'!G7) | EL3: =IF('Seznam zápasů'!H7="","",'Seznam zápasů'!H7) | EM3: =IF('Seznam zápasů'!I7="","",'Seznam zápasů'!I7) | EN3: =IF('Seznam zápasů'!J7="","",'Seznam zápasů'!J7) -> Nadcházející | EO3: =IF('Seznam zápasů'!A13="","",'Seznam zápasů'!A13) -> 46284 | EP3: =IF('Seznam zápasů'!B13="","",'Seznam zápasů'!B13) -> So | EQ3: =IF('Seznam zápasů'!D13="","",'Seznam zápasů'!D13) -> KP + kval. o NF | ER3: =IF('Seznam zápasů'!E13="","",'Seznam zápasů'!E13) -> BA Nymburk | ES3: =IF('Seznam zápasů'!F13="","",'Seznam zápasů'!F13) -> 2x 004,040 | ET3: =IF('Seznam zápasů'!G13="","",'Seznam zápasů'!G13) | EU3: =IF('Seznam zápasů'!H13="","",'Seznam zápasů'!H13) | EV3: =IF('Seznam zápasů'!I13="","",'Seznam zápasů'!I13) | EW3: =IF('Seznam zápasů'!J13="","",'Seznam zápasů'!J13) -> Nadcházející | EX3: =IF('Seznam zápasů'!A6="","",'Seznam zápasů'!A6) -> 46277 | EY3: =IF('Seznam zápasů'!B6="","",'Seznam zápasů'!B6) -> So | EZ3: =IF('Seznam zápasů'!D6="","",'Seznam zápasů'!D6) -> KP + kval. o NF | FA3: =IF('Seznam zápasů'!E6="","",'Seznam zápasů'!E6) -> Slavoj Český Brod | FB3: =IF('Seznam zápasů'!F6="","",'Seznam zápasů'!F6) -> 2x 004, 049 | FC3: =IF('Seznam zápasů'!G6="","",'Seznam zápasů'!G6) | FD3: =IF('Seznam zápasů'!H6="","",'Seznam zápasů'!H6) | FE3: =IF('Seznam zápasů'!I6="","",'Seznam zápasů'!I6) | FF3: =IF('Seznam zápasů'!J6="","",'Seznam zápasů'!J6) -> Nadcházející | FG3: =IF('Seznam zápasů'!A48="","",'Seznam zápasů'!A48) -> 46298 | FH3: =IF('Seznam zápasů'!B48="","",'Seznam zápasů'!B48) -> So | FI3: =IF('Seznam zápasů'!D48="","",'Seznam zápasů'!D48) -> KP | FJ3: =IF('Seznam zápasů'!E48="","",'Seznam zápasů'!E48) -> BC Benešov Ž | FK3: =IF('Seznam zápasů'!F48="","",'Seznam zápasů'!F48) -> 2x 001,021 | FL3: =IF('Seznam zápasů'!G48="","",'Seznam zápasů'!G48) | FM3: =IF('Seznam zápasů'!H48="","",'Seznam zápasů'!H48) | FN3: =IF('Seznam zápasů'!I48="","",'Seznam zápasů'!I48) | FO3: =IF('Seznam zápasů'!J48="","",'Seznam zápasů'!J48) -> Nadcházející | FP3: =IF('Seznam zápasů'!A5="","",'Seznam zápasů'!A5) -> 46275 | FQ3: =IF('Seznam zápasů'!B5="","",'Seznam zápasů'!B5) -> Čt | FR3: =IF('Seznam zápasů'!D5="","",'Seznam zápasů'!D5) -> KP + kval. o NF | FS3: =IF('Seznam zápasů'!E5="","",'Seznam zápasů'!E5) -> Sokol Nusle | FT3: =IF('Seznam zápasů'!F5="","",'Seznam zápasů'!F5) -> 006 | FU3: =IF('Seznam zápasů'!G5="","",'Seznam zápasů'!G5) | FV3: =IF('Seznam zápasů'!H5="","",'Seznam zápasů'!H5) | FW3: =IF('Seznam zápasů'!I5="","",'Seznam zápasů'!I5) | FX3: =IF('Seznam zápasů'!J5="","",'Seznam zápasů'!J5) -> Nadcházející | FY3: =IF('Seznam zápasů'!A23="","",'Seznam zápasů'!A23) -> 46285 | FZ3: =IF('Seznam zápasů'!B23="","",'Seznam zápasů'!B23) -> Ne | GA3: =IF('Seznam zápasů'!D23="","",'Seznam zápasů'!D23) -> KP + kval. o NF | GB3: =IF('Seznam zápasů'!E23="","",'Seznam zápasů'!E23) -> ŠBK Sadská | GC3: =IF('Seznam zápasů'!F23="","",'Seznam zápasů'!F23) -> 2x 004,032 | GD3: =IF('Seznam zápasů'!G23="","",'Seznam zápasů'!G23) | GE3: =IF('Seznam zápasů'!H23="","",'Seznam zápasů'!H23) | GF3: =IF('Seznam zápasů'!I23="","",'Seznam zápasů'!I23) | GG3: =IF('Seznam zápasů'!J23="","",'Seznam zápasů'!J23) -> Nadcházející | GH3: =IF('Seznam zápasů'!A33="","",'Seznam zápasů'!A33) -> 46291 | GI3: =IF('Seznam zápasů'!B33="","",'Seznam zápasů'!B33) -> So | GJ3: =IF('Seznam zápasů'!D33="","",'Seznam zápasů'!D33) -> KP + kval. o NF | GK3: =IF('Seznam zápasů'!E33="","",'Seznam zápasů'!E33) -> Basket Poděbrady | GL3: =IF('Seznam zápasů'!F33="","",'Seznam zápasů'!F33) -> 2x 003, 024 | GM3: =IF('Seznam zápasů'!G33="","",'Seznam zápasů'!G33) | GN3: =IF('Seznam zápasů'!H33="","",'Seznam zápasů'!H33) | GO3: =IF('Seznam zápasů'!I33="","",'Seznam zápasů'!I33) | GP3: =IF('Seznam zápasů'!J33="","",'Seznam zápasů'!J33) -> Nadcházející | GQ3: =IF('Seznam zápasů'!A50="","",'Seznam zápasů'!A50) -> 46298 | GR3: =IF('Seznam zápasů'!B50="","",'Seznam zápasů'!B50) -> So | GS3: =IF('Seznam zápasů'!D50="","",'Seznam zápasů'!D50) -> KP | GT3: =IF('Seznam zápasů'!E50="","",'Seznam zápasů'!E50) -> BC Benešov M | GU3: =IF('Seznam zápasů'!F50="","",'Seznam zápasů'!F50) -> 2x 01,021 | GV3: =IF('Seznam zápasů'!G50="","",'Seznam zápasů'!G50) | GW3: =IF('Seznam zápasů'!H50="","",'Seznam zápasů'!H50) | GX3: =IF('Seznam zápasů'!I50="","",'Seznam zápasů'!I50) | GY3: =IF('Seznam zápasů'!J50="","",'Seznam zápasů'!J50) -> Nadcházející
A4: =IF('Seznam zápasů'!A25="","",'Seznam zápasů'!A25) -> 46285 | B4: =IF('Seznam zápasů'!B25="","",'Seznam zápasů'!B25) -> Ne | C4: =IF('Seznam zápasů'!D25="","",'Seznam zápasů'!D25) -> SBLM | D4: =IF('Seznam zápasů'!E25="","",'Seznam zápasů'!E25) -> BC Kolín | E4: =IF('Seznam zápasů'!F25="","",'Seznam zápasů'!F25) -> 009 | F4: =IF('Seznam zápasů'!G25="","",'Seznam zápasů'!G25) | G4: =IF('Seznam zápasů'!H25="","",'Seznam zápasů'!H25) | H4: =IF('Seznam zápasů'!I25="","",'Seznam zápasů'!I25) | I4: =IF('Seznam zápasů'!J25="","",'Seznam zápasů'!J25) -> Nadcházející | J4: =IF('Seznam zápasů'!A72="","",'Seznam zápasů'!A72) -> 46305 | K4: =IF('Seznam zápasů'!B72="","",'Seznam zápasů'!B72) -> So | L4: =IF('Seznam zápasů'!D72="","",'Seznam zápasů'!D72) -> KP | M4: =IF('Seznam zápasů'!E72="","",'Seznam zápasů'!E72) -> AŠ Mladá Boleslav "B" | N4: =IF('Seznam zápasů'!F72="","",'Seznam zápasů'!F72) -> 010 | O4: =IF('Seznam zápasů'!G72="","",'Seznam zápasů'!G72) | P4: =IF('Seznam zápasů'!H72="","",'Seznam zápasů'!H72) | Q4: =IF('Seznam zápasů'!I72="","",'Seznam zápasů'!I72) | R4: =IF('Seznam zápasů'!J72="","",'Seznam zápasů'!J72) -> Nadcházející | S4: =IF('Seznam zápasů'!A28="","",'Seznam zápasů'!A28) -> 46285 | T4: =IF('Seznam zápasů'!B28="","",'Seznam zápasů'!B28) -> Ne | U4: =IF('Seznam zápasů'!D28="","",'Seznam zápasů'!D28) -> II. Liga | V4: =IF('Seznam zápasů'!E28="","",'Seznam zápasů'!E28) -> BA Roudnice | W4: =IF('Seznam zápasů'!F28="","",'Seznam zápasů'!F28) -> 009 | X4: =IF('Seznam zápasů'!G28="","",'Seznam zápasů'!G28) | Y4: =IF('Seznam zápasů'!H28="","",'Seznam zápasů'!H28) | Z4: =IF('Seznam zápasů'!I28="","",'Seznam zápasů'!I28) | AA4: =IF('Seznam zápasů'!J28="","",'Seznam zápasů'!J28) -> Nadcházející | AB4: =IF('Seznam zápasů'!A57="","",'Seznam zápasů'!A57) -> 46298 | AC4: =IF('Seznam zápasů'!B57="","",'Seznam zápasů'!B57) -> So | AD4: =IF('Seznam zápasů'!D57="","",'Seznam zápasů'!D57) -> SBLŽ | AE4: =IF('Seznam zápasů'!E57="","",'Seznam zápasů'!E57) -> BC Kolín "B" | AF4: =IF('Seznam zápasů'!F57="","",'Seznam zápasů'!F57) -> 008 | AG4: =IF('Seznam zápasů'!G57="","",'Seznam zápasů'!G57) | AH4: =IF('Seznam zápasů'!H57="","",'Seznam zápasů'!H57) | AI4: =IF('Seznam zápasů'!I57="","",'Seznam zápasů'!I57) | AJ4: =IF('Seznam zápasů'!J57="","",'Seznam zápasů'!J57) -> Nadcházející | AK4: =IF('Seznam zápasů'!A58="","",'Seznam zápasů'!A58) -> 46298 | AL4: =IF('Seznam zápasů'!B58="","",'Seznam zápasů'!B58) -> So | AM4: =IF('Seznam zápasů'!D58="","",'Seznam zápasů'!D58) -> SBLŽ | AN4: =IF('Seznam zápasů'!E58="","",'Seznam zápasů'!E58) -> BK Sojky Pelhřimov | AO4: =IF('Seznam zápasů'!F58="","",'Seznam zápasů'!F58) -> 009 | AP4: =IF('Seznam zápasů'!G58="","",'Seznam zápasů'!G58) | AQ4: =IF('Seznam zápasů'!H58="","",'Seznam zápasů'!H58) | AR4: =IF('Seznam zápasů'!I58="","",'Seznam zápasů'!I58) | AS4: =IF('Seznam zápasů'!J58="","",'Seznam zápasů'!J58) -> Nadcházející | AT4: =IF('Seznam zápasů'!A39="","",'Seznam zápasů'!A39) -> 46292 | AU4: =IF('Seznam zápasů'!B39="","",'Seznam zápasů'!B39) -> Ne | AV4: =IF('Seznam zápasů'!D39="","",'Seznam zápasů'!D39) -> NRL | AW4: =IF('Seznam zápasů'!E39="","",'Seznam zápasů'!E39) -> BK Medvědi Tábor | AX4: =IF('Seznam zápasů'!F39="","",'Seznam zápasů'!F39) -> 19254 | AY4: =IF('Seznam zápasů'!G39="","",'Seznam zápasů'!G39) | AZ4: =IF('Seznam zápasů'!H39="","",'Seznam zápasů'!H39) | BA4: =IF('Seznam zápasů'!I39="","",'Seznam zápasů'!I39) | BB4: =IF('Seznam zápasů'!J39="","",'Seznam zápasů'!J39) -> Nadcházející | BC4: =IF('Seznam zápasů'!A20="","",'Seznam zápasů'!A20) -> 46285 | BD4: =IF('Seznam zápasů'!B20="","",'Seznam zápasů'!B20) -> Ne | BE4: =IF('Seznam zápasů'!D20="","",'Seznam zápasů'!D20) -> nadreg. liga | BF4: =IF('Seznam zápasů'!E20="","",'Seznam zápasů'!E20) -> BC Kolín B | BG4: =IF('Seznam zápasů'!F20="","",'Seznam zápasů'!F20) -> 17123 | BH4: =IF('Seznam zápasů'!G20="","",'Seznam zápasů'!G20) | BI4: =IF('Seznam zápasů'!H20="","",'Seznam zápasů'!H20) | BJ4: =IF('Seznam zápasů'!I20="","",'Seznam zápasů'!I20) | BK4: =IF('Seznam zápasů'!J20="","",'Seznam zápasů'!J20) -> Nadcházející | BL4: =IF('Seznam zápasů'!A21="","",'Seznam zápasů'!A21) -> 46285 | BM4: =IF('Seznam zápasů'!B21="","",'Seznam zápasů'!B21) -> Ne | BN4: =IF('Seznam zápasů'!D21="","",'Seznam zápasů'!D21) -> celostátní liga | BO4: =IF('Seznam zápasů'!E21="","",'Seznam zápasů'!E21) -> Vlčice Žďár | BP4: =IF('Seznam zápasů'!F21="","",'Seznam zápasů'!F21) -> 06 | BQ4: =IF('Seznam zápasů'!G21="","",'Seznam zápasů'!G21) | BR4: =IF('Seznam zápasů'!H21="","",'Seznam zápasů'!H21) | BS4: =IF('Seznam zápasů'!I21="","",'Seznam zápasů'!I21) | BT4: =IF('Seznam zápasů'!J21="","",'Seznam zápasů'!J21) -> Nadcházející | BU4: =IF('Seznam zápasů'!A22="","",'Seznam zápasů'!A22) -> 46285 | BV4: =IF('Seznam zápasů'!B22="","",'Seznam zápasů'!B22) -> Ne | BW4: =IF('Seznam zápasů'!D22="","",'Seznam zápasů'!D22) -> nadreg. liga | BX4: =IF('Seznam zápasů'!E22="","",'Seznam zápasů'!E22) -> BK Strakonice B | BY4: =IF('Seznam zápasů'!F22="","",'Seznam zápasů'!F22) -> 17540 | BZ4: =IF('Seznam zápasů'!G22="","",'Seznam zápasů'!G22) | CA4: =IF('Seznam zápasů'!H22="","",'Seznam zápasů'!H22) | CB4: =IF('Seznam zápasů'!I22="","",'Seznam zápasů'!I22) | CC4: =IF('Seznam zápasů'!J22="","",'Seznam zápasů'!J22) -> Nadcházející | CD4: =IF('Seznam zápasů'!A42="","",'Seznam zápasů'!A42) -> 46292 | CE4: =IF('Seznam zápasů'!B42="","",'Seznam zápasů'!B42) -> Ne | CF4: =IF('Seznam zápasů'!D42="","",'Seznam zápasů'!D42) -> žákovská liga | CG4: =IF('Seznam zápasů'!E42="","",'Seznam zápasů'!E42) -> BK Medvědi Tábor | CH4: =IF('Seznam zápasů'!F42="","",'Seznam zápasů'!F42) -> 011 | CI4: =IF('Seznam zápasů'!G42="","",'Seznam zápasů'!G42) | CJ4: =IF('Seznam zápasů'!H42="","",'Seznam zápasů'!H42) | CK4: =IF('Seznam zápasů'!I42="","",'Seznam zápasů'!I42) | CL4: =IF('Seznam zápasů'!J42="","",'Seznam zápasů'!J42) -> Nadcházející | CM4: =IF('Seznam zápasů'!A43="","",'Seznam zápasů'!A43) -> 46292 | CN4: =IF('Seznam zápasů'!B43="","",'Seznam zápasů'!B43) -> Ne | CO4: =IF('Seznam zápasů'!D43="","",'Seznam zápasů'!D43) -> žákovská liga | CP4: =IF('Seznam zápasů'!E43="","",'Seznam zápasů'!E43) -> BK Levhartice Chomutov | CQ4: =IF('Seznam zápasů'!F43="","",'Seznam zápasů'!F43) -> 10 | CR4: =IF('Seznam zápasů'!G43="","",'Seznam zápasů'!G43) | CS4: =IF('Seznam zápasů'!H43="","",'Seznam zápasů'!H43) | CT4: =IF('Seznam zápasů'!I43="","",'Seznam zápasů'!I43) | CU4: =IF('Seznam zápasů'!J43="","",'Seznam zápasů'!J43) -> Nadcházející | CV4: =IF('Seznam zápasů'!A44="","",'Seznam zápasů'!A44) -> 46292 | CW4: =IF('Seznam zápasů'!B44="","",'Seznam zápasů'!B44) -> Ne | CX4: =IF('Seznam zápasů'!D44="","",'Seznam zápasů'!D44) -> nadreg. Liga | CY4: =IF('Seznam zápasů'!E44="","",'Seznam zápasů'!E44) -> AŠ Mladá Boleslav | CZ4: =IF('Seznam zápasů'!F44="","",'Seznam zápasů'!F44) -> 026 | DA4: =IF('Seznam zápasů'!G44="","",'Seznam zápasů'!G44) | DB4: =IF('Seznam zápasů'!H44="","",'Seznam zápasů'!H44) | DC4: =IF('Seznam zápasů'!I44="","",'Seznam zápasů'!I44) | DD4: =IF('Seznam zápasů'!J44="","",'Seznam zápasů'!J44) -> Nadcházející | DE4: =IF('Seznam zápasů'!A15="","",'Seznam zápasů'!A15) -> 46284 | DF4: =IF('Seznam zápasů'!B15="","",'Seznam zápasů'!B15) -> So | DG4: =IF('Seznam zápasů'!D15="","",'Seznam zápasů'!D15) -> žákovská liga | DH4: =IF('Seznam zápasů'!E15="","",'Seznam zápasů'!E15) -> BK Brandýs | DI4: =IF('Seznam zápasů'!F15="","",'Seznam zápasů'!F15) -> 096 | DJ4: =IF('Seznam zápasů'!G15="","",'Seznam zápasů'!G15) | DK4: =IF('Seznam zápasů'!H15="","",'Seznam zápasů'!H15) | DL4: =IF('Seznam zápasů'!I15="","",'Seznam zápasů'!I15) | DM4: =IF('Seznam zápasů'!J15="","",'Seznam zápasů'!J15) -> Nadcházející | DN4: =IF('Seznam zápasů'!A27="","",'Seznam zápasů'!A27) -> 46285 | DO4: =IF('Seznam zápasů'!B27="","",'Seznam zápasů'!B27) -> Ne | DP4: =IF('Seznam zápasů'!D27="","",'Seznam zápasů'!D27) -> žákovská liga | DQ4: =IF('Seznam zápasů'!E27="","",'Seznam zápasů'!E27) -> BK Blansko | DR4: =IF('Seznam zápasů'!F27="","",'Seznam zápasů'!F27) -> 124 | DS4: =IF('Seznam zápasů'!G27="","",'Seznam zápasů'!G27) | DT4: =IF('Seznam zápasů'!H27="","",'Seznam zápasů'!H27) | DU4: =IF('Seznam zápasů'!I27="","",'Seznam zápasů'!I27) | DV4: =IF('Seznam zápasů'!J27="","",'Seznam zápasů'!J27) -> Nadcházející | DW4: =IF('Seznam zápasů'!A55="","",'Seznam zápasů'!A55) -> 46298 | DX4: =IF('Seznam zápasů'!B55="","",'Seznam zápasů'!B55) -> So | DY4: =IF('Seznam zápasů'!D55="","",'Seznam zápasů'!D55) -> nadreg. liga | DZ4: =IF('Seznam zápasů'!E55="","",'Seznam zápasů'!E55) -> Slovan Varnsdorf | EA4: =IF('Seznam zápasů'!F55="","",'Seznam zápasů'!F55) -> 006 | EB4: =IF('Seznam zápasů'!G55="","",'Seznam zápasů'!G55) | EC4: =IF('Seznam zápasů'!H55="","",'Seznam zápasů'!H55) | ED4: =IF('Seznam zápasů'!I55="","",'Seznam zápasů'!I55) | EE4: =IF('Seznam zápasů'!J55="","",'Seznam zápasů'!J55) -> Nadcházející | EF4: =IF('Seznam zápasů'!A32="","",'Seznam zápasů'!A32) -> 46291 | EG4: =IF('Seznam zápasů'!B32="","",'Seznam zápasů'!B32) -> So | EH4: =IF('Seznam zápasů'!D32="","",'Seznam zápasů'!D32) -> KP + kval. o NF | EI4: =IF('Seznam zápasů'!E32="","",'Seznam zápasů'!E32) -> BK Český Brod | EJ4: =IF('Seznam zápasů'!F32="","",'Seznam zápasů'!F32) -> 002 | EK4: =IF('Seznam zápasů'!G32="","",'Seznam zápasů'!G32) | EL4: =IF('Seznam zápasů'!H32="","",'Seznam zápasů'!H32) | EM4: =IF('Seznam zápasů'!I32="","",'Seznam zápasů'!I32) | EN4: =IF('Seznam zápasů'!J32="","",'Seznam zápasů'!J32) -> Nadcházející | EO4: =IF('Seznam zápasů'!A49="","",'Seznam zápasů'!A49) -> 46298 | EP4: =IF('Seznam zápasů'!B49="","",'Seznam zápasů'!B49) -> So | EQ4: =IF('Seznam zápasů'!D49="","",'Seznam zápasů'!D49) -> KP + kval. o NF | ER4: =IF('Seznam zápasů'!E49="","",'Seznam zápasů'!E49) -> BK Brandýs | ES4: =IF('Seznam zápasů'!F49="","",'Seznam zápasů'!F49) -> 2x 005,041 | ET4: =IF('Seznam zápasů'!G49="","",'Seznam zápasů'!G49) | EU4: =IF('Seznam zápasů'!H49="","",'Seznam zápasů'!H49) | EV4: =IF('Seznam zápasů'!I49="","",'Seznam zápasů'!I49) | EW4: =IF('Seznam zápasů'!J49="","",'Seznam zápasů'!J49) -> Nadcházející | EX4: =IF('Seznam zápasů'!A31="","",'Seznam zápasů'!A31) -> 46291 | EY4: =IF('Seznam zápasů'!B31="","",'Seznam zápasů'!B31) -> So | EZ4: =IF('Seznam zápasů'!D31="","",'Seznam zápasů'!D31) -> KP + kval. o NF | FA4: =IF('Seznam zápasů'!E31="","",'Seznam zápasů'!E31) -> BA Nymburk | FB4: =IF('Seznam zápasů'!F31="","",'Seznam zápasů'!F31) -> 2x 004,052 | FC4: =IF('Seznam zápasů'!G31="","",'Seznam zápasů'!G31) | FD4: =IF('Seznam zápasů'!H31="","",'Seznam zápasů'!H31) | FE4: =IF('Seznam zápasů'!I31="","",'Seznam zápasů'!I31) | FF4: =IF('Seznam zápasů'!J31="","",'Seznam zápasů'!J31) -> Nadcházející | FG4: =IF('Seznam zápasů'!A85="","",'Seznam zápasů'!A85) -> 46312 | FH4: =IF('Seznam zápasů'!B85="","",'Seznam zápasů'!B85) -> So | FI4: =IF('Seznam zápasů'!D85="","",'Seznam zápasů'!D85) -> KP | FJ4: =IF('Seznam zápasů'!E85="","",'Seznam zápasů'!E85) -> BK Mělník | FK4: =IF('Seznam zápasů'!F85="","",'Seznam zápasů'!F85) -> 2x 002,022 | FL4: =IF('Seznam zápasů'!G85="","",'Seznam zápasů'!G85) | FM4: =IF('Seznam zápasů'!H85="","",'Seznam zápasů'!H85) | FN4: =IF('Seznam zápasů'!I85="","",'Seznam zápasů'!I85) | FO4: =IF('Seznam zápasů'!J85="","",'Seznam zápasů'!J85) -> Nadcházející | FP4: =IF('Seznam zápasů'!A8="","",'Seznam zápasů'!A8) -> 46278 | FQ4: =IF('Seznam zápasů'!B8="","",'Seznam zápasů'!B8) -> Ne | FR4: =IF('Seznam zápasů'!D8="","",'Seznam zápasů'!D8) -> KP + kval. o NF | FS4: =IF('Seznam zápasů'!E8="","",'Seznam zápasů'!E8) -> Sokol Nehvizdy | FT4: =IF('Seznam zápasů'!F8="","",'Seznam zápasů'!F8) -> 011 | FU4: =IF('Seznam zápasů'!G8="","",'Seznam zápasů'!G8) | FV4: =IF('Seznam zápasů'!H8="","",'Seznam zápasů'!H8) | FW4: =IF('Seznam zápasů'!I8="","",'Seznam zápasů'!I8) | FX4: =IF('Seznam zápasů'!J8="","",'Seznam zápasů'!J8) -> Nadcházející | FY4: =IF('Seznam zápasů'!A51="","",'Seznam zápasů'!A51) -> 46298 | FZ4: =IF('Seznam zápasů'!B51="","",'Seznam zápasů'!B51) -> So | GA4: =IF('Seznam zápasů'!D51="","",'Seznam zápasů'!D51) -> KP + kval. o NF | GB4: =IF('Seznam zápasů'!E51="","",'Seznam zápasů'!E51) -> BC Kolín | GC4: =IF('Seznam zápasů'!F51="","",'Seznam zápasů'!F51) -> 2x 005,033 | GD4: =IF('Seznam zápasů'!G51="","",'Seznam zápasů'!G51) | GE4: =IF('Seznam zápasů'!H51="","",'Seznam zápasů'!H51) | GF4: =IF('Seznam zápasů'!I51="","",'Seznam zápasů'!I51) | GG4: =IF('Seznam zápasů'!J51="","",'Seznam zápasů'!J51) -> Nadcházející | GH4: =IF('Seznam zápasů'!A71="","",'Seznam zápasů'!A71) -> 46305 | GI4: =IF('Seznam zápasů'!B71="","",'Seznam zápasů'!B71) -> So | GJ4: =IF('Seznam zápasů'!D71="","",'Seznam zápasů'!D71) -> KP + kval. o NF | GK4: =IF('Seznam zápasů'!E71="","",'Seznam zápasů'!E71) -> BC Slaný | GL4: =IF('Seznam zápasů'!F71="","",'Seznam zápasů'!F71) -> 2x 005,026 | GM4: =IF('Seznam zápasů'!G71="","",'Seznam zápasů'!G71) | GN4: =IF('Seznam zápasů'!H71="","",'Seznam zápasů'!H71) | GO4: =IF('Seznam zápasů'!I71="","",'Seznam zápasů'!I71) | GP4: =IF('Seznam zápasů'!J71="","",'Seznam zápasů'!J71) -> Nadcházející | GQ4: =IF('Seznam zápasů'!A87="","",'Seznam zápasů'!A87) -> 46312 | GR4: =IF('Seznam zápasů'!B87="","",'Seznam zápasů'!B87) -> So | GS4: =IF('Seznam zápasů'!D87="","",'Seznam zápasů'!D87) -> KP | GT4: =IF('Seznam zápasů'!E87="","",'Seznam zápasů'!E87) -> TJ AŚ Mladá Boleslav | GU4: =IF('Seznam zápasů'!F87="","",'Seznam zápasů'!F87) -> 2x 004,024 | GV4: =IF('Seznam zápasů'!G87="","",'Seznam zápasů'!G87) | GW4: =IF('Seznam zápasů'!H87="","",'Seznam zápasů'!H87) | GX4: =IF('Seznam zápasů'!I87="","",'Seznam zápasů'!I87) | GY4: =IF('Seznam zápasů'!J87="","",'Seznam zápasů'!J87) -> Nadcházející
A5: =IF('Seznam zápasů'!A52="","",'Seznam zápasů'!A52) -> 46298 | B5: =IF('Seznam zápasů'!B52="","",'Seznam zápasů'!B52) -> So | C5: =IF('Seznam zápasů'!D52="","",'Seznam zápasů'!D52) -> SBLM | D5: =IF('Seznam zápasů'!E52="","",'Seznam zápasů'!E52) -> BK Brandýs n.L. "B" | E5: =IF('Seznam zápasů'!F52="","",'Seznam zápasů'!F52) -> 013 | F5: =IF('Seznam zápasů'!G52="","",'Seznam zápasů'!G52) | G5: =IF('Seznam zápasů'!H52="","",'Seznam zápasů'!H52) | H5: =IF('Seznam zápasů'!I52="","",'Seznam zápasů'!I52) | I5: =IF('Seznam zápasů'!J52="","",'Seznam zápasů'!J52) -> Nadcházející | J5: =IF('Seznam zápasů'!A78="","",'Seznam zápasů'!A78) -> 46306 | K5: =IF('Seznam zápasů'!B78="","",'Seznam zápasů'!B78) -> Ne | L5: =IF('Seznam zápasů'!D78="","",'Seznam zápasů'!D78) -> KP | M5: =IF('Seznam zápasů'!E78="","",'Seznam zápasů'!E78) -> BK Mělník | N5: =IF('Seznam zápasů'!F78="","",'Seznam zápasů'!F78) -> 013 | O5: =IF('Seznam zápasů'!G78="","",'Seznam zápasů'!G78) | P5: =IF('Seznam zápasů'!H78="","",'Seznam zápasů'!H78) | Q5: =IF('Seznam zápasů'!I78="","",'Seznam zápasů'!I78) | R5: =IF('Seznam zápasů'!J78="","",'Seznam zápasů'!J78) -> Nadcházející | S5: =IF('Seznam zápasů'!A56="","",'Seznam zápasů'!A56) -> 46298 | T5: =IF('Seznam zápasů'!B56="","",'Seznam zápasů'!B56) -> So | U5: =IF('Seznam zápasů'!D56="","",'Seznam zápasů'!D56) -> II. Liga | V5: =IF('Seznam zápasů'!E56="","",'Seznam zápasů'!E56) -> BA Louny | W5: =IF('Seznam zápasů'!F56="","",'Seznam zápasů'!F56) -> 014 | X5: =IF('Seznam zápasů'!G56="","",'Seznam zápasů'!G56) | Y5: =IF('Seznam zápasů'!H56="","",'Seznam zápasů'!H56) | Z5: =IF('Seznam zápasů'!I56="","",'Seznam zápasů'!I56) | AA5: =IF('Seznam zápasů'!J56="","",'Seznam zápasů'!J56) -> Nadcházející | AB5: =IF('Seznam zápasů'!A66="","",'Seznam zápasů'!A66) -> 46299 | AC5: =IF('Seznam zápasů'!B66="","",'Seznam zápasů'!B66) -> Ne | AD5: =IF('Seznam zápasů'!D66="","",'Seznam zápasů'!D66) -> SBLŽ | AE5: =IF('Seznam zápasů'!E66="","",'Seznam zápasů'!E66) -> BK Sojky Pelhřimov | AF5: =IF('Seznam zápasů'!F66="","",'Seznam zápasů'!F66) -> 014 | AG5: =IF('Seznam zápasů'!G66="","",'Seznam zápasů'!G66) | AH5: =IF('Seznam zápasů'!H66="","",'Seznam zápasů'!H66) | AI5: =IF('Seznam zápasů'!I66="","",'Seznam zápasů'!I66) | AJ5: =IF('Seznam zápasů'!J66="","",'Seznam zápasů'!J66) -> Nadcházející | AK5: =IF('Seznam zápasů'!A67="","",'Seznam zápasů'!A67) -> 46299 | AL5: =IF('Seznam zápasů'!B67="","",'Seznam zápasů'!B67) -> Ne | AM5: =IF('Seznam zápasů'!D67="","",'Seznam zápasů'!D67) -> SBLŽ | AN5: =IF('Seznam zápasů'!E67="","",'Seznam zápasů'!E67) -> BC Kolín "B" | AO5: =IF('Seznam zápasů'!F67="","",'Seznam zápasů'!F67) -> 012 | AP5: =IF('Seznam zápasů'!G67="","",'Seznam zápasů'!G67) | AQ5: =IF('Seznam zápasů'!H67="","",'Seznam zápasů'!H67) | AR5: =IF('Seznam zápasů'!I67="","",'Seznam zápasů'!I67) | AS5: =IF('Seznam zápasů'!J67="","",'Seznam zápasů'!J67) -> Nadcházející | AT5: =IF('Seznam zápasů'!A68="","",'Seznam zápasů'!A68) -> 46305 | AU5: =IF('Seznam zápasů'!B68="","",'Seznam zápasů'!B68) -> So | AV5: =IF('Seznam zápasů'!D68="","",'Seznam zápasů'!D68) -> NRL | AW5: =IF('Seznam zápasů'!E68="","",'Seznam zápasů'!E68) -> Radotínský SK | AX5: =IF('Seznam zápasů'!F68="","",'Seznam zápasů'!F68) -> 19231 | AY5: =IF('Seznam zápasů'!G68="","",'Seznam zápasů'!G68) | AZ5: =IF('Seznam zápasů'!H68="","",'Seznam zápasů'!H68) | BA5: =IF('Seznam zápasů'!I68="","",'Seznam zápasů'!I68) | BB5: =IF('Seznam zápasů'!J68="","",'Seznam zápasů'!J68) -> Nadcházející | BC5: =IF('Seznam zápasů'!A45="","",'Seznam zápasů'!A45) -> 46298 | BD5: =IF('Seznam zápasů'!B45="","",'Seznam zápasů'!B45) -> So | BE5: =IF('Seznam zápasů'!D45="","",'Seznam zápasů'!D45) -> nadreg. liga | BF5: =IF('Seznam zápasů'!E45="","",'Seznam zápasů'!E45) -> Basket Poděbrady B | BG5: =IF('Seznam zápasů'!F45="","",'Seznam zápasů'!F45) -> 17124 | BH5: =IF('Seznam zápasů'!G45="","",'Seznam zápasů'!G45) | BI5: =IF('Seznam zápasů'!H45="","",'Seznam zápasů'!H45) | BJ5: =IF('Seznam zápasů'!I45="","",'Seznam zápasů'!I45) | BK5: =IF('Seznam zápasů'!J45="","",'Seznam zápasů'!J45) -> Nadcházející | BL5: =IF('Seznam zápasů'!A46="","",'Seznam zápasů'!A46) -> 46298 | BM5: =IF('Seznam zápasů'!B46="","",'Seznam zápasů'!B46) -> So | BN5: =IF('Seznam zápasů'!D46="","",'Seznam zápasů'!D46) -> celostátní liga | BO5: =IF('Seznam zápasů'!E46="","",'Seznam zápasů'!E46) -> HB Basket Praha B | BP5: =IF('Seznam zápasů'!F46="","",'Seznam zápasů'!F46) -> 072 | BQ5: =IF('Seznam zápasů'!G46="","",'Seznam zápasů'!G46) | BR5: =IF('Seznam zápasů'!H46="","",'Seznam zápasů'!H46) | BS5: =IF('Seznam zápasů'!I46="","",'Seznam zápasů'!I46) | BT5: =IF('Seznam zápasů'!J46="","",'Seznam zápasů'!J46) -> Nadcházející | BU5: =IF('Seznam zápasů'!A47="","",'Seznam zápasů'!A47) -> 46298 | BV5: =IF('Seznam zápasů'!B47="","",'Seznam zápasů'!B47) -> So | BW5: =IF('Seznam zápasů'!D47="","",'Seznam zápasů'!D47) -> nadreg. liga | BX5: =IF('Seznam zápasů'!E47="","",'Seznam zápasů'!E47) -> PORG Basket | BY5: =IF('Seznam zápasů'!F47="","",'Seznam zápasů'!F47) -> 17548 | BZ5: =IF('Seznam zápasů'!G47="","",'Seznam zápasů'!G47) | CA5: =IF('Seznam zápasů'!H47="","",'Seznam zápasů'!H47) | CB5: =IF('Seznam zápasů'!I47="","",'Seznam zápasů'!I47) | CC5: =IF('Seznam zápasů'!J47="","",'Seznam zápasů'!J47) -> Nadcházející | CD5: =IF('Seznam zápasů'!A73="","",'Seznam zápasů'!A73) -> 46305 | CE5: =IF('Seznam zápasů'!B73="","",'Seznam zápasů'!B73) -> So | CF5: =IF('Seznam zápasů'!D73="","",'Seznam zápasů'!D73) -> žákovská liga | CG5: =IF('Seznam zápasů'!E73="","",'Seznam zápasů'!E73) -> Jižní Supi | CH5: =IF('Seznam zápasů'!F73="","",'Seznam zápasů'!F73) -> 015 | CI5: =IF('Seznam zápasů'!G73="","",'Seznam zápasů'!G73) | CJ5: =IF('Seznam zápasů'!H73="","",'Seznam zápasů'!H73) | CK5: =IF('Seznam zápasů'!I73="","",'Seznam zápasů'!I73) | CL5: =IF('Seznam zápasů'!J73="","",'Seznam zápasů'!J73) -> Nadcházející | CM5: =IF('Seznam zápasů'!A74="","",'Seznam zápasů'!A74) -> 46305 | CN5: =IF('Seznam zápasů'!B74="","",'Seznam zápasů'!B74) -> So | CO5: =IF('Seznam zápasů'!D74="","",'Seznam zápasů'!D74) -> žákovská liga | CP5: =IF('Seznam zápasů'!E74="","",'Seznam zápasů'!E74) -> Tigers České Budějovice | CQ5: =IF('Seznam zápasů'!F74="","",'Seznam zápasů'!F74) -> 016 | CR5: =IF('Seznam zápasů'!G74="","",'Seznam zápasů'!G74) | CS5: =IF('Seznam zápasů'!H74="","",'Seznam zápasů'!H74) | CT5: =IF('Seznam zápasů'!I74="","",'Seznam zápasů'!I74) | CU5: =IF('Seznam zápasů'!J74="","",'Seznam zápasů'!J74) -> Nadcházející | CV5: =IF('Seznam zápasů'!A75="","",'Seznam zápasů'!A75) -> 46305 | CW5: =IF('Seznam zápasů'!B75="","",'Seznam zápasů'!B75) -> So | CX5: =IF('Seznam zápasů'!D75="","",'Seznam zápasů'!D75) -> nadreg. Liga | CY5: =IF('Seznam zápasů'!E75="","",'Seznam zápasů'!E75) -> Sokol Pečky | CZ5: =IF('Seznam zápasů'!F75="","",'Seznam zápasů'!F75) -> 043 | DA5: =IF('Seznam zápasů'!G75="","",'Seznam zápasů'!G75) | DB5: =IF('Seznam zápasů'!H75="","",'Seznam zápasů'!H75) | DC5: =IF('Seznam zápasů'!I75="","",'Seznam zápasů'!I75) | DD5: =IF('Seznam zápasů'!J75="","",'Seznam zápasů'!J75) -> Nadcházející | DE5: =IF('Seznam zápasů'!A26="","",'Seznam zápasů'!A26) -> 46285 | DF5: =IF('Seznam zápasů'!B26="","",'Seznam zápasů'!B26) -> Ne | DG5: =IF('Seznam zápasů'!D26="","",'Seznam zápasů'!D26) -> žákovská liga | DH5: =IF('Seznam zápasů'!E26="","",'Seznam zápasů'!E26) -> Jižní Supi | DI5: =IF('Seznam zápasů'!F26="","",'Seznam zápasů'!F26) -> 099 | DJ5: =IF('Seznam zápasů'!G26="","",'Seznam zápasů'!G26) | DK5: =IF('Seznam zápasů'!H26="","",'Seznam zápasů'!H26) | DL5: =IF('Seznam zápasů'!I26="","",'Seznam zápasů'!I26) | DM5: =IF('Seznam zápasů'!J26="","",'Seznam zápasů'!J26) -> Nadcházející | DN5: =IF('Seznam zápasů'!A54="","",'Seznam zápasů'!A54) -> 46298 | DO5: =IF('Seznam zápasů'!B54="","",'Seznam zápasů'!B54) -> So | DP5: =IF('Seznam zápasů'!D54="","",'Seznam zápasů'!D54) -> žákovská liga | DQ5: =IF('Seznam zápasů'!E54="","",'Seznam zápasů'!E54) -> Žabiny Brno | DR5: =IF('Seznam zápasů'!F54="","",'Seznam zápasů'!F54) -> 127 | DS5: =IF('Seznam zápasů'!G54="","",'Seznam zápasů'!G54) | DT5: =IF('Seznam zápasů'!H54="","",'Seznam zápasů'!H54) | DU5: =IF('Seznam zápasů'!I54="","",'Seznam zápasů'!I54) | DV5: =IF('Seznam zápasů'!J54="","",'Seznam zápasů'!J54) -> Nadcházející | DW5: =IF('Seznam zápasů'!A92="","",'Seznam zápasů'!A92) -> 46312 | DX5: =IF('Seznam zápasů'!B92="","",'Seznam zápasů'!B92) -> So | DY5: =IF('Seznam zápasů'!D92="","",'Seznam zápasů'!D92) -> nadreg. liga | DZ5: =IF('Seznam zápasů'!E92="","",'Seznam zápasů'!E92) -> Basket Slovanka B | EA5: =IF('Seznam zápasů'!F92="","",'Seznam zápasů'!F92) -> 011 | EB5: =IF('Seznam zápasů'!G92="","",'Seznam zápasů'!G92) | EC5: =IF('Seznam zápasů'!H92="","",'Seznam zápasů'!H92) | ED5: =IF('Seznam zápasů'!I92="","",'Seznam zápasů'!I92) | EE5: =IF('Seznam zápasů'!J92="","",'Seznam zápasů'!J92) -> Nadcházející | EF5: =IF('Seznam zápasů'!A40="","",'Seznam zápasů'!A40) -> 46292 | EG5: =IF('Seznam zápasů'!B40="","",'Seznam zápasů'!B40) -> Ne | EH5: =IF('Seznam zápasů'!D40="","",'Seznam zápasů'!D40) -> KP + kval. o NF | EI5: =IF('Seznam zápasů'!E40="","",'Seznam zápasů'!E40) -> NBK Milovice | EJ5: =IF('Seznam zápasů'!F40="","",'Seznam zápasů'!F40) -> 004 | EK5: =IF('Seznam zápasů'!G40="","",'Seznam zápasů'!G40) | EL5: =IF('Seznam zápasů'!H40="","",'Seznam zápasů'!H40) | EM5: =IF('Seznam zápasů'!I40="","",'Seznam zápasů'!I40) | EN5: =IF('Seznam zápasů'!J40="","",'Seznam zápasů'!J40) -> Nadcházející | EO5: =IF('Seznam zápasů'!A86="","",'Seznam zápasů'!A86) -> 46312 | EP5: =IF('Seznam zápasů'!B86="","",'Seznam zápasů'!B86) -> So | EQ5: =IF('Seznam zápasů'!D86="","",'Seznam zápasů'!D86) -> KP + kval. o NF | ER5: =IF('Seznam zápasů'!E86="","",'Seznam zápasů'!E86) -> TJ AŠ Mladá Boleslav | ES5: =IF('Seznam zápasů'!F86="","",'Seznam zápasů'!F86) -> 2x 011, 047 | ET5: =IF('Seznam zápasů'!G86="","",'Seznam zápasů'!G86) | EU5: =IF('Seznam zápasů'!H86="","",'Seznam zápasů'!H86) | EV5: =IF('Seznam zápasů'!I86="","",'Seznam zápasů'!I86) | EW5: =IF('Seznam zápasů'!J86="","",'Seznam zápasů'!J86) -> Nadcházející | EX5: =IF('Seznam zápasů'!A69="","",'Seznam zápasů'!A69) -> 46305 | EY5: =IF('Seznam zápasů'!B69="","",'Seznam zápasů'!B69) -> So | EZ5: =IF('Seznam zápasů'!D69="","",'Seznam zápasů'!D69) -> KP + kval. o NF | FA5: =IF('Seznam zápasů'!E69="","",'Seznam zápasů'!E69) -> BK Brandýs | FB5: =IF('Seznam zápasů'!F69="","",'Seznam zápasů'!F69) -> 2x 015,060 | FC5: =IF('Seznam zápasů'!G69="","",'Seznam zápasů'!G69) | FD5: =IF('Seznam zápasů'!H69="","",'Seznam zápasů'!H69) | FE5: =IF('Seznam zápasů'!I69="","",'Seznam zápasů'!I69) | FF5: =IF('Seznam zápasů'!J69="","",'Seznam zápasů'!J69) -> Nadcházející | FG5: =IF('Seznam zápasů'!A122="","",'Seznam zápasů'!A122) -> 46333 | FH5: =IF('Seznam zápasů'!B122="","",'Seznam zápasů'!B122) -> So | FI5: =IF('Seznam zápasů'!D122="","",'Seznam zápasů'!D122) -> KP | FJ5: =IF('Seznam zápasů'!E122="","",'Seznam zápasů'!E122) -> BC Slaný | FK5: =IF('Seznam zápasů'!F122="","",'Seznam zápasů'!F122) -> 2x 006,26 | FL5: =IF('Seznam zápasů'!G122="","",'Seznam zápasů'!G122) | FM5: =IF('Seznam zápasů'!H122="","",'Seznam zápasů'!H122) | FN5: =IF('Seznam zápasů'!I122="","",'Seznam zápasů'!I122) | FO5: =IF('Seznam zápasů'!J122="","",'Seznam zápasů'!J122) -> Nadcházející | FP5: =IF('Seznam zápasů'!A24="","",'Seznam zápasů'!A24) -> 46285 | FQ5: =IF('Seznam zápasů'!B24="","",'Seznam zápasů'!B24) -> Ne | FR5: =IF('Seznam zápasů'!D24="","",'Seznam zápasů'!D24) -> KP + kval. o NF | FS5: =IF('Seznam zápasů'!E24="","",'Seznam zápasů'!E24) -> BC Slaný | FT5: =IF('Seznam zápasů'!F24="","",'Seznam zápasů'!F24) -> 030 | FU5: =IF('Seznam zápasů'!G24="","",'Seznam zápasů'!G24) | FV5: =IF('Seznam zápasů'!H24="","",'Seznam zápasů'!H24) | FW5: =IF('Seznam zápasů'!I24="","",'Seznam zápasů'!I24) | FX5: =IF('Seznam zápasů'!J24="","",'Seznam zápasů'!J24) -> Nadcházející | FY5: =IF('Seznam zápasů'!A88="","",'Seznam zápasů'!A88) -> 46312 | FZ5: =IF('Seznam zápasů'!B88="","",'Seznam zápasů'!B88) -> So | GA5: =IF('Seznam zápasů'!D88="","",'Seznam zápasů'!D88) -> KP + kval. o NF | GB5: =IF('Seznam zápasů'!E88="","",'Seznam zápasů'!E88) -> BC Slaný | GC5: =IF('Seznam zápasů'!F88="","",'Seznam zápasů'!F88) -> 2x 012,040 | GD5: =IF('Seznam zápasů'!G88="","",'Seznam zápasů'!G88) | GE5: =IF('Seznam zápasů'!H88="","",'Seznam zápasů'!H88) | GF5: =IF('Seznam zápasů'!I88="","",'Seznam zápasů'!I88) | GG5: =IF('Seznam zápasů'!J88="","",'Seznam zápasů'!J88) -> Nadcházející | GH5: =IF('Seznam zápasů'!A107="","",'Seznam zápasů'!A107) -> 46319 | GI5: =IF('Seznam zápasů'!B107="","",'Seznam zápasů'!B107) -> So | GJ5: =IF('Seznam zápasů'!D107="","",'Seznam zápasů'!D107) -> KP + kval. o NF | GK5: =IF('Seznam zápasů'!E107="","",'Seznam zápasů'!E107) -> BK Brandýs nad Labem | GL5: =IF('Seznam zápasů'!F107="","",'Seznam zápasů'!F107) -> 2x 008,027 | GM5: =IF('Seznam zápasů'!G107="","",'Seznam zápasů'!G107) | GN5: =IF('Seznam zápasů'!H107="","",'Seznam zápasů'!H107) | GO5: =IF('Seznam zápasů'!I107="","",'Seznam zápasů'!I107) | GP5: =IF('Seznam zápasů'!J107="","",'Seznam zápasů'!J107) -> Nadcházející | GQ5: =IF('Seznam zápasů'!A158="","",'Seznam zápasů'!A158) -> 46347 | GR5: =IF('Seznam zápasů'!B158="","",'Seznam zápasů'!B158) -> So | GS5: =IF('Seznam zápasů'!D158="","",'Seznam zápasů'!D158) -> KP | GT5: =IF('Seznam zápasů'!E158="","",'Seznam zápasů'!E158) -> BK Mělník | GU5: =IF('Seznam zápasů'!F158="","",'Seznam zápasů'!F158) -> 2x 008,028 | GV5: =IF('Seznam zápasů'!G158="","",'Seznam zápasů'!G158) | GW5: =IF('Seznam zápasů'!H158="","",'Seznam zápasů'!H158) | GX5: =IF('Seznam zápasů'!I158="","",'Seznam zápasů'!I158) | GY5: =IF('Seznam zápasů'!J158="","",'Seznam zápasů'!J158) -> Nadcházející
